BEGIN:VCALENDAR
VERSION:2.0
PRODID:-//House of Hope Macon - ECPv6.15.17//NONSGML v1.0//EN
CALSCALE:GREGORIAN
METHOD:PUBLISH
X-ORIGINAL-URL:https://thehohm.org
X-WR-CALDESC:Events for House of Hope Macon
REFRESH-INTERVAL;VALUE=DURATION:PT1H
X-Robots-Tag:noindex
X-PUBLISHED-TTL:PT1H
BEGIN:VTIMEZONE
TZID:UTC
BEGIN:STANDARD
TZOFFSETFROM:+0000
TZOFFSETTO:+0000
TZNAME:UTC
DTSTART:20250101T000000
END:STANDARD
END:VTIMEZONE
BEGIN:VEVENT
DTSTART;TZID=UTC:20261014T070000
DTEND;TZID=UTC:20261014T080000
DTSTAMP:20260422T190645
CREATED:20260217T163644Z
LAST-MODIFIED:20260306T015107Z
UID:10001781-1791961200-1791964800@thehohm.org
SUMMARY:Prayer Call
DESCRIPTION:
URL:https://thehohm.org/event_all/prayer-call/2026-10-14/
LOCATION:The House of Hope Macon Church\, 1909 Woodland Dr.\, Macon\, GA\, 31211\, United States
ATTACH;FMTTYPE=image/webp:https://thehohm.org/wp-content/uploads/2026/02/Prayer.webp
END:VEVENT
BEGIN:VEVENT
DTSTART;TZID=UTC:20261020T190000
DTEND;TZID=UTC:20261020T200000
DTSTAMP:20260422T190645
CREATED:20260217T163337Z
LAST-MODIFIED:20260306T014753Z
UID:10001425-1792522800-1792526400@thehohm.org
SUMMARY:Talk Back Tuesday
DESCRIPTION:
URL:https://thehohm.org/event_all/talk-back-tuesday/2026-10-20/
LOCATION:The House of Hope Macon Church\, 1909 Woodland Dr.\, Macon\, GA\, 31211\, United States
ATTACH;FMTTYPE=image/webp:https://thehohm.org/wp-content/uploads/2026/02/talk-back.webp
END:VEVENT
BEGIN:VEVENT
DTSTART;TZID=UTC:20261020T190000
DTEND;TZID=UTC:20271019T200000
DTSTAMP:20260422T190645
CREATED:20260217T160347Z
LAST-MODIFIED:20260306T010444Z
UID:10000365-1792522800-1823976000@thehohm.org
SUMMARY:Lessons for Life Bible Study
DESCRIPTION:
URL:https://thehohm.org/event_all/lessons-for-life-bible-study/2026-10-20/
LOCATION:The House of Hope Macon Church\, 1909 Woodland Dr.\, Macon\, GA\, 31211\, United States
ATTACH;FMTTYPE=image/jpeg:https://thehohm.org/wp-content/uploads/2026/02/bible-study.jpg
END:VEVENT
BEGIN:VEVENT
DTSTART;TZID=UTC:20261021T070000
DTEND;TZID=UTC:20261021T080000
DTSTAMP:20260422T190645
CREATED:20260217T163644Z
LAST-MODIFIED:20260306T015107Z
UID:10001782-1792566000-1792569600@thehohm.org
SUMMARY:Prayer Call
DESCRIPTION:
URL:https://thehohm.org/event_all/prayer-call/2026-10-21/
LOCATION:The House of Hope Macon Church\, 1909 Woodland Dr.\, Macon\, GA\, 31211\, United States
ATTACH;FMTTYPE=image/webp:https://thehohm.org/wp-content/uploads/2026/02/Prayer.webp
END:VEVENT
BEGIN:VEVENT
DTSTART;TZID=UTC:20261025T100000
DTEND;TZID=UTC:20261025T120000
DTSTAMP:20260422T190645
CREATED:20260214T123519Z
LAST-MODIFIED:20260306T022504Z
UID:10000309-1792922400-1792929600@thehohm.org
SUMMARY:Pink Dress Sunday (Women)
DESCRIPTION:
URL:https://thehohm.org/event_all/pink-dress-sunday-women/
LOCATION:The House of Hope Macon Church\, 1909 Woodland Dr.\, Macon\, GA\, 31211\, United States
END:VEVENT
BEGIN:VEVENT
DTSTART;TZID=UTC:20261027T190000
DTEND;TZID=UTC:20261027T200000
DTSTAMP:20260422T190645
CREATED:20260306T010456Z
LAST-MODIFIED:20260306T014407Z
UID:10001571-1793127600-1793131200@thehohm.org
SUMMARY:Lessons for Life Bible Study
DESCRIPTION:
URL:https://thehohm.org/event_all/lessons-for-life-bible-study-2/2026-10-27/
LOCATION:The House of Hope Macon Church\, 1909 Woodland Dr.\, Macon\, GA\, 31211\, United States
ATTACH;FMTTYPE=image/jpeg:https://thehohm.org/wp-content/uploads/2026/02/bible-study.jpg
END:VEVENT
BEGIN:VEVENT
DTSTART;TZID=UTC:20261027T190000
DTEND;TZID=UTC:20271026T200000
DTSTAMP:20260422T190645
CREATED:20260217T160347Z
LAST-MODIFIED:20260306T010444Z
UID:10000366-1793127600-1824580800@thehohm.org
SUMMARY:Lessons for Life Bible Study
DESCRIPTION:
URL:https://thehohm.org/event_all/lessons-for-life-bible-study/2026-10-27/
LOCATION:The House of Hope Macon Church\, 1909 Woodland Dr.\, Macon\, GA\, 31211\, United States
ATTACH;FMTTYPE=image/jpeg:https://thehohm.org/wp-content/uploads/2026/02/bible-study.jpg
END:VEVENT
BEGIN:VEVENT
DTSTART;TZID=UTC:20261028T070000
DTEND;TZID=UTC:20261028T080000
DTSTAMP:20260422T190645
CREATED:20260217T163644Z
LAST-MODIFIED:20260306T015107Z
UID:10001783-1793170800-1793174400@thehohm.org
SUMMARY:Prayer Call
DESCRIPTION:
URL:https://thehohm.org/event_all/prayer-call/2026-10-28/
LOCATION:The House of Hope Macon Church\, 1909 Woodland Dr.\, Macon\, GA\, 31211\, United States
ATTACH;FMTTYPE=image/webp:https://thehohm.org/wp-content/uploads/2026/02/Prayer.webp
END:VEVENT
BEGIN:VEVENT
DTSTART;TZID=UTC:20261103T190000
DTEND;TZID=UTC:20261103T200000
DTSTAMP:20260422T190645
CREATED:20260306T010456Z
LAST-MODIFIED:20260306T014407Z
UID:10001572-1793732400-1793736000@thehohm.org
SUMMARY:Lessons for Life Bible Study
DESCRIPTION:
URL:https://thehohm.org/event_all/lessons-for-life-bible-study-2/2026-11-03/
LOCATION:The House of Hope Macon Church\, 1909 Woodland Dr.\, Macon\, GA\, 31211\, United States
ATTACH;FMTTYPE=image/jpeg:https://thehohm.org/wp-content/uploads/2026/02/bible-study.jpg
END:VEVENT
BEGIN:VEVENT
DTSTART;TZID=UTC:20261103T190000
DTEND;TZID=UTC:20271102T200000
DTSTAMP:20260422T190645
CREATED:20260217T160347Z
LAST-MODIFIED:20260306T010444Z
UID:10000367-1793732400-1825185600@thehohm.org
SUMMARY:Lessons for Life Bible Study
DESCRIPTION:
URL:https://thehohm.org/event_all/lessons-for-life-bible-study/2026-11-03/
LOCATION:The House of Hope Macon Church\, 1909 Woodland Dr.\, Macon\, GA\, 31211\, United States
ATTACH;FMTTYPE=image/jpeg:https://thehohm.org/wp-content/uploads/2026/02/bible-study.jpg
END:VEVENT
BEGIN:VEVENT
DTSTART;TZID=UTC:20261104T070000
DTEND;TZID=UTC:20261104T080000
DTSTAMP:20260422T190645
CREATED:20260217T163644Z
LAST-MODIFIED:20260306T015107Z
UID:10001784-1793775600-1793779200@thehohm.org
SUMMARY:Prayer Call
DESCRIPTION:
URL:https://thehohm.org/event_all/prayer-call/2026-11-04/
LOCATION:The House of Hope Macon Church\, 1909 Woodland Dr.\, Macon\, GA\, 31211\, United States
ATTACH;FMTTYPE=image/webp:https://thehohm.org/wp-content/uploads/2026/02/Prayer.webp
END:VEVENT
BEGIN:VEVENT
DTSTART;TZID=UTC:20261110T190000
DTEND;TZID=UTC:20261110T200000
DTSTAMP:20260422T190645
CREATED:20260306T010456Z
LAST-MODIFIED:20260306T014407Z
UID:10001573-1794337200-1794340800@thehohm.org
SUMMARY:Lessons for Life Bible Study
DESCRIPTION:
URL:https://thehohm.org/event_all/lessons-for-life-bible-study-2/2026-11-10/
LOCATION:The House of Hope Macon Church\, 1909 Woodland Dr.\, Macon\, GA\, 31211\, United States
ATTACH;FMTTYPE=image/jpeg:https://thehohm.org/wp-content/uploads/2026/02/bible-study.jpg
END:VEVENT
BEGIN:VEVENT
DTSTART;TZID=UTC:20261110T190000
DTEND;TZID=UTC:20271109T200000
DTSTAMP:20260422T190645
CREATED:20260217T160347Z
LAST-MODIFIED:20260306T010444Z
UID:10000368-1794337200-1825790400@thehohm.org
SUMMARY:Lessons for Life Bible Study
DESCRIPTION:
URL:https://thehohm.org/event_all/lessons-for-life-bible-study/2026-11-10/
LOCATION:The House of Hope Macon Church\, 1909 Woodland Dr.\, Macon\, GA\, 31211\, United States
ATTACH;FMTTYPE=image/jpeg:https://thehohm.org/wp-content/uploads/2026/02/bible-study.jpg
END:VEVENT
BEGIN:VEVENT
DTSTART;TZID=UTC:20261111T070000
DTEND;TZID=UTC:20261111T080000
DTSTAMP:20260422T190645
CREATED:20260217T163644Z
LAST-MODIFIED:20260306T015107Z
UID:10001785-1794380400-1794384000@thehohm.org
SUMMARY:Prayer Call
DESCRIPTION:
URL:https://thehohm.org/event_all/prayer-call/2026-11-11/
LOCATION:The House of Hope Macon Church\, 1909 Woodland Dr.\, Macon\, GA\, 31211\, United States
ATTACH;FMTTYPE=image/webp:https://thehohm.org/wp-content/uploads/2026/02/Prayer.webp
END:VEVENT
BEGIN:VEVENT
DTSTART;TZID=UTC:20261117T190000
DTEND;TZID=UTC:20261117T200000
DTSTAMP:20260422T190645
CREATED:20260217T163337Z
LAST-MODIFIED:20260306T014753Z
UID:10000652-1794942000-1794945600@thehohm.org
SUMMARY:Talk Back Tuesday
DESCRIPTION:
URL:https://thehohm.org/event_all/talk-back-tuesday/2026-11-17/
LOCATION:The House of Hope Macon Church\, 1909 Woodland Dr.\, Macon\, GA\, 31211\, United States
ATTACH;FMTTYPE=image/webp:https://thehohm.org/wp-content/uploads/2026/02/talk-back.webp
END:VEVENT
BEGIN:VEVENT
DTSTART;TZID=UTC:20261117T190000
DTEND;TZID=UTC:20271116T200000
DTSTAMP:20260422T190645
CREATED:20260217T160347Z
LAST-MODIFIED:20260306T010444Z
UID:10000369-1794942000-1826395200@thehohm.org
SUMMARY:Lessons for Life Bible Study
DESCRIPTION:
URL:https://thehohm.org/event_all/lessons-for-life-bible-study/2026-11-17/
LOCATION:The House of Hope Macon Church\, 1909 Woodland Dr.\, Macon\, GA\, 31211\, United States
ATTACH;FMTTYPE=image/jpeg:https://thehohm.org/wp-content/uploads/2026/02/bible-study.jpg
END:VEVENT
BEGIN:VEVENT
DTSTART;TZID=UTC:20261118T070000
DTEND;TZID=UTC:20261118T080000
DTSTAMP:20260422T190645
CREATED:20260217T163644Z
LAST-MODIFIED:20260306T015107Z
UID:10001786-1794985200-1794988800@thehohm.org
SUMMARY:Prayer Call
DESCRIPTION:
URL:https://thehohm.org/event_all/prayer-call/2026-11-18/
LOCATION:The House of Hope Macon Church\, 1909 Woodland Dr.\, Macon\, GA\, 31211\, United States
ATTACH;FMTTYPE=image/webp:https://thehohm.org/wp-content/uploads/2026/02/Prayer.webp
END:VEVENT
BEGIN:VEVENT
DTSTART;TZID=UTC:20261124T190000
DTEND;TZID=UTC:20261124T200000
DTSTAMP:20260422T190645
CREATED:20260306T010456Z
LAST-MODIFIED:20260306T014407Z
UID:10001574-1795546800-1795550400@thehohm.org
SUMMARY:Lessons for Life Bible Study
DESCRIPTION:
URL:https://thehohm.org/event_all/lessons-for-life-bible-study-2/2026-11-24/
LOCATION:The House of Hope Macon Church\, 1909 Woodland Dr.\, Macon\, GA\, 31211\, United States
ATTACH;FMTTYPE=image/jpeg:https://thehohm.org/wp-content/uploads/2026/02/bible-study.jpg
END:VEVENT
BEGIN:VEVENT
DTSTART;TZID=UTC:20261124T190000
DTEND;TZID=UTC:20271123T200000
DTSTAMP:20260422T190645
CREATED:20260217T160347Z
LAST-MODIFIED:20260306T010444Z
UID:10000370-1795546800-1827000000@thehohm.org
SUMMARY:Lessons for Life Bible Study
DESCRIPTION:
URL:https://thehohm.org/event_all/lessons-for-life-bible-study/2026-11-24/
LOCATION:The House of Hope Macon Church\, 1909 Woodland Dr.\, Macon\, GA\, 31211\, United States
ATTACH;FMTTYPE=image/jpeg:https://thehohm.org/wp-content/uploads/2026/02/bible-study.jpg
END:VEVENT
BEGIN:VEVENT
DTSTART;TZID=UTC:20261125T070000
DTEND;TZID=UTC:20261125T080000
DTSTAMP:20260422T190645
CREATED:20260217T163644Z
LAST-MODIFIED:20260306T015107Z
UID:10001787-1795590000-1795593600@thehohm.org
SUMMARY:Prayer Call
DESCRIPTION:
URL:https://thehohm.org/event_all/prayer-call/2026-11-25/
LOCATION:The House of Hope Macon Church\, 1909 Woodland Dr.\, Macon\, GA\, 31211\, United States
ATTACH;FMTTYPE=image/webp:https://thehohm.org/wp-content/uploads/2026/02/Prayer.webp
END:VEVENT
BEGIN:VEVENT
DTSTART;TZID=UTC:20261201T190000
DTEND;TZID=UTC:20261201T200000
DTSTAMP:20260422T190645
CREATED:20260306T010456Z
LAST-MODIFIED:20260306T014407Z
UID:10001575-1796151600-1796155200@thehohm.org
SUMMARY:Lessons for Life Bible Study
DESCRIPTION:
URL:https://thehohm.org/event_all/lessons-for-life-bible-study-2/2026-12-01/
LOCATION:The House of Hope Macon Church\, 1909 Woodland Dr.\, Macon\, GA\, 31211\, United States
ATTACH;FMTTYPE=image/jpeg:https://thehohm.org/wp-content/uploads/2026/02/bible-study.jpg
END:VEVENT
BEGIN:VEVENT
DTSTART;TZID=UTC:20261201T190000
DTEND;TZID=UTC:20271130T200000
DTSTAMP:20260422T190645
CREATED:20260217T160347Z
LAST-MODIFIED:20260306T010444Z
UID:10000371-1796151600-1827604800@thehohm.org
SUMMARY:Lessons for Life Bible Study
DESCRIPTION:
URL:https://thehohm.org/event_all/lessons-for-life-bible-study/2026-12-01/
LOCATION:The House of Hope Macon Church\, 1909 Woodland Dr.\, Macon\, GA\, 31211\, United States
ATTACH;FMTTYPE=image/jpeg:https://thehohm.org/wp-content/uploads/2026/02/bible-study.jpg
END:VEVENT
BEGIN:VEVENT
DTSTART;TZID=UTC:20261202T070000
DTEND;TZID=UTC:20261202T080000
DTSTAMP:20260422T190645
CREATED:20260217T163644Z
LAST-MODIFIED:20260306T015107Z
UID:10001788-1796194800-1796198400@thehohm.org
SUMMARY:Prayer Call
DESCRIPTION:
URL:https://thehohm.org/event_all/prayer-call/2026-12-02/
LOCATION:The House of Hope Macon Church\, 1909 Woodland Dr.\, Macon\, GA\, 31211\, United States
ATTACH;FMTTYPE=image/webp:https://thehohm.org/wp-content/uploads/2026/02/Prayer.webp
END:VEVENT
BEGIN:VEVENT
DTSTART;TZID=UTC:20261208T190000
DTEND;TZID=UTC:20261208T200000
DTSTAMP:20260422T190645
CREATED:20260306T010456Z
LAST-MODIFIED:20260306T014407Z
UID:10001576-1796756400-1796760000@thehohm.org
SUMMARY:Lessons for Life Bible Study
DESCRIPTION:
URL:https://thehohm.org/event_all/lessons-for-life-bible-study-2/2026-12-08/
LOCATION:The House of Hope Macon Church\, 1909 Woodland Dr.\, Macon\, GA\, 31211\, United States
ATTACH;FMTTYPE=image/jpeg:https://thehohm.org/wp-content/uploads/2026/02/bible-study.jpg
END:VEVENT
BEGIN:VEVENT
DTSTART;TZID=UTC:20261208T190000
DTEND;TZID=UTC:20271207T200000
DTSTAMP:20260422T190645
CREATED:20260217T160347Z
LAST-MODIFIED:20260306T010444Z
UID:10000372-1796756400-1828209600@thehohm.org
SUMMARY:Lessons for Life Bible Study
DESCRIPTION:
URL:https://thehohm.org/event_all/lessons-for-life-bible-study/2026-12-08/
LOCATION:The House of Hope Macon Church\, 1909 Woodland Dr.\, Macon\, GA\, 31211\, United States
ATTACH;FMTTYPE=image/jpeg:https://thehohm.org/wp-content/uploads/2026/02/bible-study.jpg
END:VEVENT
BEGIN:VEVENT
DTSTART;TZID=UTC:20261209T070000
DTEND;TZID=UTC:20261209T080000
DTSTAMP:20260422T190645
CREATED:20260217T163644Z
LAST-MODIFIED:20260306T015107Z
UID:10001789-1796799600-1796803200@thehohm.org
SUMMARY:Prayer Call
DESCRIPTION:
URL:https://thehohm.org/event_all/prayer-call/2026-12-09/
LOCATION:The House of Hope Macon Church\, 1909 Woodland Dr.\, Macon\, GA\, 31211\, United States
ATTACH;FMTTYPE=image/webp:https://thehohm.org/wp-content/uploads/2026/02/Prayer.webp
END:VEVENT
BEGIN:VEVENT
DTSTART;TZID=UTC:20261215T190000
DTEND;TZID=UTC:20261215T200000
DTSTAMP:20260422T190645
CREATED:20260217T163337Z
LAST-MODIFIED:20260306T014753Z
UID:10001426-1797361200-1797364800@thehohm.org
SUMMARY:Talk Back Tuesday
DESCRIPTION:
URL:https://thehohm.org/event_all/talk-back-tuesday/2026-12-15/
LOCATION:The House of Hope Macon Church\, 1909 Woodland Dr.\, Macon\, GA\, 31211\, United States
ATTACH;FMTTYPE=image/webp:https://thehohm.org/wp-content/uploads/2026/02/talk-back.webp
END:VEVENT
BEGIN:VEVENT
DTSTART;TZID=UTC:20261215T190000
DTEND;TZID=UTC:20271214T200000
DTSTAMP:20260422T190645
CREATED:20260217T160347Z
LAST-MODIFIED:20260306T010444Z
UID:10000373-1797361200-1828814400@thehohm.org
SUMMARY:Lessons for Life Bible Study
DESCRIPTION:
URL:https://thehohm.org/event_all/lessons-for-life-bible-study/2026-12-15/
LOCATION:The House of Hope Macon Church\, 1909 Woodland Dr.\, Macon\, GA\, 31211\, United States
ATTACH;FMTTYPE=image/jpeg:https://thehohm.org/wp-content/uploads/2026/02/bible-study.jpg
END:VEVENT
BEGIN:VEVENT
DTSTART;TZID=UTC:20261216T070000
DTEND;TZID=UTC:20261216T080000
DTSTAMP:20260422T190645
CREATED:20260217T163644Z
LAST-MODIFIED:20260306T015107Z
UID:10001790-1797404400-1797408000@thehohm.org
SUMMARY:Prayer Call
DESCRIPTION:
URL:https://thehohm.org/event_all/prayer-call/2026-12-16/
LOCATION:The House of Hope Macon Church\, 1909 Woodland Dr.\, Macon\, GA\, 31211\, United States
ATTACH;FMTTYPE=image/webp:https://thehohm.org/wp-content/uploads/2026/02/Prayer.webp
END:VEVENT
BEGIN:VEVENT
DTSTART;TZID=UTC:20261222T190000
DTEND;TZID=UTC:20261222T200000
DTSTAMP:20260422T190645
CREATED:20260306T010456Z
LAST-MODIFIED:20260306T014407Z
UID:10001577-1797966000-1797969600@thehohm.org
SUMMARY:Lessons for Life Bible Study
DESCRIPTION:
URL:https://thehohm.org/event_all/lessons-for-life-bible-study-2/2026-12-22/
LOCATION:The House of Hope Macon Church\, 1909 Woodland Dr.\, Macon\, GA\, 31211\, United States
ATTACH;FMTTYPE=image/jpeg:https://thehohm.org/wp-content/uploads/2026/02/bible-study.jpg
END:VEVENT
END:VCALENDAR