BEGIN:VCALENDAR
VERSION:2.0
PRODID:-//House of Hope Macon - ECPv6.15.17//NONSGML v1.0//EN
CALSCALE:GREGORIAN
METHOD:PUBLISH
X-ORIGINAL-URL:https://thehohm.org
X-WR-CALDESC:Events for House of Hope Macon
REFRESH-INTERVAL;VALUE=DURATION:PT1H
X-Robots-Tag:noindex
X-PUBLISHED-TTL:PT1H
BEGIN:VTIMEZONE
TZID:UTC
BEGIN:STANDARD
TZOFFSETFROM:+0000
TZOFFSETTO:+0000
TZNAME:UTC
DTSTART:20290101T000000
END:STANDARD
END:VTIMEZONE
BEGIN:VEVENT
DTSTART;TZID=UTC:20300702T190000
DTEND;TZID=UTC:20300702T200000
DTSTAMP:20260424T111540
CREATED:20260306T010456Z
LAST-MODIFIED:20260306T014407Z
UID:10001719-1909249200-1909252800@thehohm.org
SUMMARY:Lessons for Life Bible Study
DESCRIPTION:
URL:https://thehohm.org/event_all/lessons-for-life-bible-study-2/2030-07-02/
LOCATION:The House of Hope Macon Church\, 1909 Woodland Dr.\, Macon\, GA\, 31211\, United States
ATTACH;FMTTYPE=image/jpeg:https://thehohm.org/wp-content/uploads/2026/02/bible-study.jpg
END:VEVENT
BEGIN:VEVENT
DTSTART;TZID=UTC:20300702T190000
DTEND;TZID=UTC:20310701T200000
DTSTAMP:20260424T111540
CREATED:20260217T160347Z
LAST-MODIFIED:20260306T010444Z
UID:10000558-1909249200-1940702400@thehohm.org
SUMMARY:Lessons for Life Bible Study
DESCRIPTION:
URL:https://thehohm.org/event_all/lessons-for-life-bible-study/2030-07-02/
LOCATION:The House of Hope Macon Church\, 1909 Woodland Dr.\, Macon\, GA\, 31211\, United States
ATTACH;FMTTYPE=image/jpeg:https://thehohm.org/wp-content/uploads/2026/02/bible-study.jpg
END:VEVENT
BEGIN:VEVENT
DTSTART;TZID=UTC:20300703T070000
DTEND;TZID=UTC:20300703T080000
DTSTAMP:20260424T111540
CREATED:20260217T163644Z
LAST-MODIFIED:20260306T015107Z
UID:10001975-1909292400-1909296000@thehohm.org
SUMMARY:Prayer Call
DESCRIPTION:
URL:https://thehohm.org/event_all/prayer-call/2030-07-03/
LOCATION:The House of Hope Macon Church\, 1909 Woodland Dr.\, Macon\, GA\, 31211\, United States
ATTACH;FMTTYPE=image/webp:https://thehohm.org/wp-content/uploads/2026/02/Prayer.webp
END:VEVENT
BEGIN:VEVENT
DTSTART;TZID=UTC:20300707T100000
DTEND;TZID=UTC:20300707T120000
DTSTAMP:20260424T111540
CREATED:20260212T035455Z
LAST-MODIFIED:20260306T015732Z
UID:10002124-1909648800-1909656000@thehohm.org
SUMMARY:Communion Sunday
DESCRIPTION:
URL:https://thehohm.org/event_all/communion-sunday/2030-07-07/
END:VEVENT
BEGIN:VEVENT
DTSTART;TZID=UTC:20300709T190000
DTEND;TZID=UTC:20300709T200000
DTSTAMP:20260424T111540
CREATED:20260306T010456Z
LAST-MODIFIED:20260306T014407Z
UID:10001720-1909854000-1909857600@thehohm.org
SUMMARY:Lessons for Life Bible Study
DESCRIPTION:
URL:https://thehohm.org/event_all/lessons-for-life-bible-study-2/2030-07-09/
LOCATION:The House of Hope Macon Church\, 1909 Woodland Dr.\, Macon\, GA\, 31211\, United States
ATTACH;FMTTYPE=image/jpeg:https://thehohm.org/wp-content/uploads/2026/02/bible-study.jpg
END:VEVENT
BEGIN:VEVENT
DTSTART;TZID=UTC:20300709T190000
DTEND;TZID=UTC:20310708T200000
DTSTAMP:20260424T111540
CREATED:20260217T160347Z
LAST-MODIFIED:20260306T010444Z
UID:10000559-1909854000-1941307200@thehohm.org
SUMMARY:Lessons for Life Bible Study
DESCRIPTION:
URL:https://thehohm.org/event_all/lessons-for-life-bible-study/2030-07-09/
LOCATION:The House of Hope Macon Church\, 1909 Woodland Dr.\, Macon\, GA\, 31211\, United States
ATTACH;FMTTYPE=image/jpeg:https://thehohm.org/wp-content/uploads/2026/02/bible-study.jpg
END:VEVENT
BEGIN:VEVENT
DTSTART;TZID=UTC:20300710T070000
DTEND;TZID=UTC:20300710T080000
DTSTAMP:20260424T111540
CREATED:20260217T163644Z
LAST-MODIFIED:20260306T015107Z
UID:10001976-1909897200-1909900800@thehohm.org
SUMMARY:Prayer Call
DESCRIPTION:
URL:https://thehohm.org/event_all/prayer-call/2030-07-10/
LOCATION:The House of Hope Macon Church\, 1909 Woodland Dr.\, Macon\, GA\, 31211\, United States
ATTACH;FMTTYPE=image/webp:https://thehohm.org/wp-content/uploads/2026/02/Prayer.webp
END:VEVENT
BEGIN:VEVENT
DTSTART;TZID=UTC:20300714T100000
DTEND;TZID=UTC:20300714T120000
DTSTAMP:20260424T111540
CREATED:20260212T041401Z
LAST-MODIFIED:20260306T015235Z
UID:10002064-1910253600-1910260800@thehohm.org
SUMMARY:Selfie Sunday
DESCRIPTION:
URL:https://thehohm.org/event_all/selfie-sunday/2030-07-14/
END:VEVENT
BEGIN:VEVENT
DTSTART;TZID=UTC:20300716T190000
DTEND;TZID=UTC:20300716T200000
DTSTAMP:20260424T111540
CREATED:20260217T163337Z
LAST-MODIFIED:20260306T014753Z
UID:10001454-1910458800-1910462400@thehohm.org
SUMMARY:Talk Back Tuesday
DESCRIPTION:
URL:https://thehohm.org/event_all/talk-back-tuesday/2030-07-16/
LOCATION:The House of Hope Macon Church\, 1909 Woodland Dr.\, Macon\, GA\, 31211\, United States
ATTACH;FMTTYPE=image/webp:https://thehohm.org/wp-content/uploads/2026/02/talk-back.webp
END:VEVENT
BEGIN:VEVENT
DTSTART;TZID=UTC:20300716T190000
DTEND;TZID=UTC:20310715T200000
DTSTAMP:20260424T111540
CREATED:20260217T160347Z
LAST-MODIFIED:20260306T010444Z
UID:10000560-1910458800-1941912000@thehohm.org
SUMMARY:Lessons for Life Bible Study
DESCRIPTION:
URL:https://thehohm.org/event_all/lessons-for-life-bible-study/2030-07-16/
LOCATION:The House of Hope Macon Church\, 1909 Woodland Dr.\, Macon\, GA\, 31211\, United States
ATTACH;FMTTYPE=image/jpeg:https://thehohm.org/wp-content/uploads/2026/02/bible-study.jpg
END:VEVENT
BEGIN:VEVENT
DTSTART;TZID=UTC:20300717T070000
DTEND;TZID=UTC:20300717T080000
DTSTAMP:20260424T111540
CREATED:20260217T163644Z
LAST-MODIFIED:20260306T015107Z
UID:10001977-1910502000-1910505600@thehohm.org
SUMMARY:Prayer Call
DESCRIPTION:
URL:https://thehohm.org/event_all/prayer-call/2030-07-17/
LOCATION:The House of Hope Macon Church\, 1909 Woodland Dr.\, Macon\, GA\, 31211\, United States
ATTACH;FMTTYPE=image/webp:https://thehohm.org/wp-content/uploads/2026/02/Prayer.webp
END:VEVENT
BEGIN:VEVENT
DTSTART;TZID=UTC:20300723T190000
DTEND;TZID=UTC:20300723T200000
DTSTAMP:20260424T111540
CREATED:20260306T010456Z
LAST-MODIFIED:20260306T014407Z
UID:10001721-1911063600-1911067200@thehohm.org
SUMMARY:Lessons for Life Bible Study
DESCRIPTION:
URL:https://thehohm.org/event_all/lessons-for-life-bible-study-2/2030-07-23/
LOCATION:The House of Hope Macon Church\, 1909 Woodland Dr.\, Macon\, GA\, 31211\, United States
ATTACH;FMTTYPE=image/jpeg:https://thehohm.org/wp-content/uploads/2026/02/bible-study.jpg
END:VEVENT
BEGIN:VEVENT
DTSTART;TZID=UTC:20300723T190000
DTEND;TZID=UTC:20310722T200000
DTSTAMP:20260424T111540
CREATED:20260217T160347Z
LAST-MODIFIED:20260306T010444Z
UID:10000561-1911063600-1942516800@thehohm.org
SUMMARY:Lessons for Life Bible Study
DESCRIPTION:
URL:https://thehohm.org/event_all/lessons-for-life-bible-study/2030-07-23/
LOCATION:The House of Hope Macon Church\, 1909 Woodland Dr.\, Macon\, GA\, 31211\, United States
ATTACH;FMTTYPE=image/jpeg:https://thehohm.org/wp-content/uploads/2026/02/bible-study.jpg
END:VEVENT
BEGIN:VEVENT
DTSTART;TZID=UTC:20300724T070000
DTEND;TZID=UTC:20300724T080000
DTSTAMP:20260424T111540
CREATED:20260217T163644Z
LAST-MODIFIED:20260306T015107Z
UID:10001978-1911106800-1911110400@thehohm.org
SUMMARY:Prayer Call
DESCRIPTION:
URL:https://thehohm.org/event_all/prayer-call/2030-07-24/
LOCATION:The House of Hope Macon Church\, 1909 Woodland Dr.\, Macon\, GA\, 31211\, United States
ATTACH;FMTTYPE=image/webp:https://thehohm.org/wp-content/uploads/2026/02/Prayer.webp
END:VEVENT
BEGIN:VEVENT
DTSTART;TZID=UTC:20300730T190000
DTEND;TZID=UTC:20300730T200000
DTSTAMP:20260424T111540
CREATED:20260306T010456Z
LAST-MODIFIED:20260306T014407Z
UID:10001722-1911668400-1911672000@thehohm.org
SUMMARY:Lessons for Life Bible Study
DESCRIPTION:
URL:https://thehohm.org/event_all/lessons-for-life-bible-study-2/2030-07-30/
LOCATION:The House of Hope Macon Church\, 1909 Woodland Dr.\, Macon\, GA\, 31211\, United States
ATTACH;FMTTYPE=image/jpeg:https://thehohm.org/wp-content/uploads/2026/02/bible-study.jpg
END:VEVENT
BEGIN:VEVENT
DTSTART;TZID=UTC:20300730T190000
DTEND;TZID=UTC:20310729T200000
DTSTAMP:20260424T111540
CREATED:20260217T160347Z
LAST-MODIFIED:20260306T010444Z
UID:10000562-1911668400-1943121600@thehohm.org
SUMMARY:Lessons for Life Bible Study
DESCRIPTION:
URL:https://thehohm.org/event_all/lessons-for-life-bible-study/2030-07-30/
LOCATION:The House of Hope Macon Church\, 1909 Woodland Dr.\, Macon\, GA\, 31211\, United States
ATTACH;FMTTYPE=image/jpeg:https://thehohm.org/wp-content/uploads/2026/02/bible-study.jpg
END:VEVENT
BEGIN:VEVENT
DTSTART;TZID=UTC:20300731T070000
DTEND;TZID=UTC:20300731T080000
DTSTAMP:20260424T111540
CREATED:20260217T163644Z
LAST-MODIFIED:20260306T015107Z
UID:10001979-1911711600-1911715200@thehohm.org
SUMMARY:Prayer Call
DESCRIPTION:
URL:https://thehohm.org/event_all/prayer-call/2030-07-31/
LOCATION:The House of Hope Macon Church\, 1909 Woodland Dr.\, Macon\, GA\, 31211\, United States
ATTACH;FMTTYPE=image/webp:https://thehohm.org/wp-content/uploads/2026/02/Prayer.webp
END:VEVENT
BEGIN:VEVENT
DTSTART;TZID=UTC:20300804T100000
DTEND;TZID=UTC:20300804T120000
DTSTAMP:20260424T111540
CREATED:20260212T035455Z
LAST-MODIFIED:20260306T015732Z
UID:10002125-1912068000-1912075200@thehohm.org
SUMMARY:Communion Sunday
DESCRIPTION:
URL:https://thehohm.org/event_all/communion-sunday/2030-08-04/
END:VEVENT
BEGIN:VEVENT
DTSTART;TZID=UTC:20300806T190000
DTEND;TZID=UTC:20300806T200000
DTSTAMP:20260424T111540
CREATED:20260306T010456Z
LAST-MODIFIED:20260306T014407Z
UID:10001723-1912273200-1912276800@thehohm.org
SUMMARY:Lessons for Life Bible Study
DESCRIPTION:
URL:https://thehohm.org/event_all/lessons-for-life-bible-study-2/2030-08-06/
LOCATION:The House of Hope Macon Church\, 1909 Woodland Dr.\, Macon\, GA\, 31211\, United States
ATTACH;FMTTYPE=image/jpeg:https://thehohm.org/wp-content/uploads/2026/02/bible-study.jpg
END:VEVENT
BEGIN:VEVENT
DTSTART;TZID=UTC:20300806T190000
DTEND;TZID=UTC:20310805T200000
DTSTAMP:20260424T111540
CREATED:20260217T160347Z
LAST-MODIFIED:20260306T010444Z
UID:10000563-1912273200-1943726400@thehohm.org
SUMMARY:Lessons for Life Bible Study
DESCRIPTION:
URL:https://thehohm.org/event_all/lessons-for-life-bible-study/2030-08-06/
LOCATION:The House of Hope Macon Church\, 1909 Woodland Dr.\, Macon\, GA\, 31211\, United States
ATTACH;FMTTYPE=image/jpeg:https://thehohm.org/wp-content/uploads/2026/02/bible-study.jpg
END:VEVENT
BEGIN:VEVENT
DTSTART;TZID=UTC:20300807T070000
DTEND;TZID=UTC:20300807T080000
DTSTAMP:20260424T111540
CREATED:20260217T163644Z
LAST-MODIFIED:20260306T015107Z
UID:10001980-1912316400-1912320000@thehohm.org
SUMMARY:Prayer Call
DESCRIPTION:
URL:https://thehohm.org/event_all/prayer-call/2030-08-07/
LOCATION:The House of Hope Macon Church\, 1909 Woodland Dr.\, Macon\, GA\, 31211\, United States
ATTACH;FMTTYPE=image/webp:https://thehohm.org/wp-content/uploads/2026/02/Prayer.webp
END:VEVENT
BEGIN:VEVENT
DTSTART;TZID=UTC:20300811T100000
DTEND;TZID=UTC:20300811T120000
DTSTAMP:20260424T111540
CREATED:20260212T041401Z
LAST-MODIFIED:20260306T015235Z
UID:10002065-1912672800-1912680000@thehohm.org
SUMMARY:Selfie Sunday
DESCRIPTION:
URL:https://thehohm.org/event_all/selfie-sunday/2030-08-11/
END:VEVENT
BEGIN:VEVENT
DTSTART;TZID=UTC:20300813T190000
DTEND;TZID=UTC:20300813T200000
DTSTAMP:20260424T111540
CREATED:20260306T010456Z
LAST-MODIFIED:20260306T014407Z
UID:10001724-1912878000-1912881600@thehohm.org
SUMMARY:Lessons for Life Bible Study
DESCRIPTION:
URL:https://thehohm.org/event_all/lessons-for-life-bible-study-2/2030-08-13/
LOCATION:The House of Hope Macon Church\, 1909 Woodland Dr.\, Macon\, GA\, 31211\, United States
ATTACH;FMTTYPE=image/jpeg:https://thehohm.org/wp-content/uploads/2026/02/bible-study.jpg
END:VEVENT
BEGIN:VEVENT
DTSTART;TZID=UTC:20300813T190000
DTEND;TZID=UTC:20310812T200000
DTSTAMP:20260424T111540
CREATED:20260217T160347Z
LAST-MODIFIED:20260306T010444Z
UID:10000564-1912878000-1944331200@thehohm.org
SUMMARY:Lessons for Life Bible Study
DESCRIPTION:
URL:https://thehohm.org/event_all/lessons-for-life-bible-study/2030-08-13/
LOCATION:The House of Hope Macon Church\, 1909 Woodland Dr.\, Macon\, GA\, 31211\, United States
ATTACH;FMTTYPE=image/jpeg:https://thehohm.org/wp-content/uploads/2026/02/bible-study.jpg
END:VEVENT
BEGIN:VEVENT
DTSTART;TZID=UTC:20300814T070000
DTEND;TZID=UTC:20300814T080000
DTSTAMP:20260424T111540
CREATED:20260217T163644Z
LAST-MODIFIED:20260306T015107Z
UID:10001981-1912921200-1912924800@thehohm.org
SUMMARY:Prayer Call
DESCRIPTION:
URL:https://thehohm.org/event_all/prayer-call/2030-08-14/
LOCATION:The House of Hope Macon Church\, 1909 Woodland Dr.\, Macon\, GA\, 31211\, United States
ATTACH;FMTTYPE=image/webp:https://thehohm.org/wp-content/uploads/2026/02/Prayer.webp
END:VEVENT
BEGIN:VEVENT
DTSTART;TZID=UTC:20300820T190000
DTEND;TZID=UTC:20300820T200000
DTSTAMP:20260424T111540
CREATED:20260217T163337Z
LAST-MODIFIED:20260306T014753Z
UID:10001455-1913482800-1913486400@thehohm.org
SUMMARY:Talk Back Tuesday
DESCRIPTION:
URL:https://thehohm.org/event_all/talk-back-tuesday/2030-08-20/
LOCATION:The House of Hope Macon Church\, 1909 Woodland Dr.\, Macon\, GA\, 31211\, United States
ATTACH;FMTTYPE=image/webp:https://thehohm.org/wp-content/uploads/2026/02/talk-back.webp
END:VEVENT
BEGIN:VEVENT
DTSTART;TZID=UTC:20300820T190000
DTEND;TZID=UTC:20310819T200000
DTSTAMP:20260424T111540
CREATED:20260217T160347Z
LAST-MODIFIED:20260306T010444Z
UID:10000565-1913482800-1944936000@thehohm.org
SUMMARY:Lessons for Life Bible Study
DESCRIPTION:
URL:https://thehohm.org/event_all/lessons-for-life-bible-study/2030-08-20/
LOCATION:The House of Hope Macon Church\, 1909 Woodland Dr.\, Macon\, GA\, 31211\, United States
ATTACH;FMTTYPE=image/jpeg:https://thehohm.org/wp-content/uploads/2026/02/bible-study.jpg
END:VEVENT
BEGIN:VEVENT
DTSTART;TZID=UTC:20300821T070000
DTEND;TZID=UTC:20300821T080000
DTSTAMP:20260424T111540
CREATED:20260217T163644Z
LAST-MODIFIED:20260306T015107Z
UID:10001982-1913526000-1913529600@thehohm.org
SUMMARY:Prayer Call
DESCRIPTION:
URL:https://thehohm.org/event_all/prayer-call/2030-08-21/
LOCATION:The House of Hope Macon Church\, 1909 Woodland Dr.\, Macon\, GA\, 31211\, United States
ATTACH;FMTTYPE=image/webp:https://thehohm.org/wp-content/uploads/2026/02/Prayer.webp
END:VEVENT
BEGIN:VEVENT
DTSTART;TZID=UTC:20300827T190000
DTEND;TZID=UTC:20300827T200000
DTSTAMP:20260424T111540
CREATED:20260306T010456Z
LAST-MODIFIED:20260306T014407Z
UID:10001725-1914087600-1914091200@thehohm.org
SUMMARY:Lessons for Life Bible Study
DESCRIPTION:
URL:https://thehohm.org/event_all/lessons-for-life-bible-study-2/2030-08-27/
LOCATION:The House of Hope Macon Church\, 1909 Woodland Dr.\, Macon\, GA\, 31211\, United States
ATTACH;FMTTYPE=image/jpeg:https://thehohm.org/wp-content/uploads/2026/02/bible-study.jpg
END:VEVENT
BEGIN:VEVENT
DTSTART;TZID=UTC:20300827T190000
DTEND;TZID=UTC:20310826T200000
DTSTAMP:20260424T111540
CREATED:20260217T160347Z
LAST-MODIFIED:20260306T010444Z
UID:10000566-1914087600-1945540800@thehohm.org
SUMMARY:Lessons for Life Bible Study
DESCRIPTION:
URL:https://thehohm.org/event_all/lessons-for-life-bible-study/2030-08-27/
LOCATION:The House of Hope Macon Church\, 1909 Woodland Dr.\, Macon\, GA\, 31211\, United States
ATTACH;FMTTYPE=image/jpeg:https://thehohm.org/wp-content/uploads/2026/02/bible-study.jpg
END:VEVENT
END:VCALENDAR