BEGIN:VCALENDAR
VERSION:2.0
PRODID:-//House of Hope Macon - ECPv6.15.17//NONSGML v1.0//EN
CALSCALE:GREGORIAN
METHOD:PUBLISH
X-WR-CALNAME:House of Hope Macon
X-ORIGINAL-URL:https://thehohm.org
X-WR-CALDESC:Events for House of Hope Macon
REFRESH-INTERVAL;VALUE=DURATION:PT1H
X-Robots-Tag:noindex
X-PUBLISHED-TTL:PT1H
BEGIN:VTIMEZONE
TZID:UTC
BEGIN:STANDARD
TZOFFSETFROM:+0000
TZOFFSETTO:+0000
TZNAME:UTC
DTSTART:20270101T000000
END:STANDARD
END:VTIMEZONE
BEGIN:VEVENT
DTSTART;TZID=UTC:20281212T190000
DTEND;TZID=UTC:20291211T200000
DTSTAMP:20260423T060731
CREATED:20260217T160347Z
LAST-MODIFIED:20260306T010444Z
UID:10000477-1860260400-1891713600@thehohm.org
SUMMARY:Lessons for Life Bible Study
DESCRIPTION:
URL:https://thehohm.org/event_all/lessons-for-life-bible-study/2028-12-12/
LOCATION:The House of Hope Macon Church\, 1909 Woodland Dr.\, Macon\, GA\, 31211\, United States
ATTACH;FMTTYPE=image/jpeg:https://thehohm.org/wp-content/uploads/2026/02/bible-study.jpg
END:VEVENT
BEGIN:VEVENT
DTSTART;TZID=UTC:20281219T190000
DTEND;TZID=UTC:20281219T200000
DTSTAMP:20260423T060731
CREATED:20260217T163337Z
LAST-MODIFIED:20260306T014753Z
UID:10001441-1860865200-1860868800@thehohm.org
SUMMARY:Talk Back Tuesday
DESCRIPTION:
URL:https://thehohm.org/event_all/talk-back-tuesday/2028-12-19/
LOCATION:The House of Hope Macon Church\, 1909 Woodland Dr.\, Macon\, GA\, 31211\, United States
ATTACH;FMTTYPE=image/webp:https://thehohm.org/wp-content/uploads/2026/02/talk-back.webp
END:VEVENT
BEGIN:VEVENT
DTSTART;TZID=UTC:20281219T190000
DTEND;TZID=UTC:20291218T200000
DTSTAMP:20260423T060731
CREATED:20260217T160347Z
LAST-MODIFIED:20260306T010444Z
UID:10000478-1860865200-1892318400@thehohm.org
SUMMARY:Lessons for Life Bible Study
DESCRIPTION:
URL:https://thehohm.org/event_all/lessons-for-life-bible-study/2028-12-19/
LOCATION:The House of Hope Macon Church\, 1909 Woodland Dr.\, Macon\, GA\, 31211\, United States
ATTACH;FMTTYPE=image/jpeg:https://thehohm.org/wp-content/uploads/2026/02/bible-study.jpg
END:VEVENT
BEGIN:VEVENT
DTSTART;TZID=UTC:20281226T190000
DTEND;TZID=UTC:20281226T200000
DTSTAMP:20260423T060731
CREATED:20260306T010456Z
LAST-MODIFIED:20260306T014407Z
UID:10001658-1861470000-1861473600@thehohm.org
SUMMARY:Lessons for Life Bible Study
DESCRIPTION:
URL:https://thehohm.org/event_all/lessons-for-life-bible-study-2/2028-12-26/
LOCATION:The House of Hope Macon Church\, 1909 Woodland Dr.\, Macon\, GA\, 31211\, United States
ATTACH;FMTTYPE=image/jpeg:https://thehohm.org/wp-content/uploads/2026/02/bible-study.jpg
END:VEVENT
BEGIN:VEVENT
DTSTART;TZID=UTC:20281226T190000
DTEND;TZID=UTC:20291225T200000
DTSTAMP:20260423T060731
CREATED:20260217T160347Z
LAST-MODIFIED:20260306T010444Z
UID:10000479-1861470000-1892923200@thehohm.org
SUMMARY:Lessons for Life Bible Study
DESCRIPTION:
URL:https://thehohm.org/event_all/lessons-for-life-bible-study/2028-12-26/
LOCATION:The House of Hope Macon Church\, 1909 Woodland Dr.\, Macon\, GA\, 31211\, United States
ATTACH;FMTTYPE=image/jpeg:https://thehohm.org/wp-content/uploads/2026/02/bible-study.jpg
END:VEVENT
BEGIN:VEVENT
DTSTART;TZID=UTC:20290102T190000
DTEND;TZID=UTC:20290102T200000
DTSTAMP:20260423T060731
CREATED:20260306T010456Z
LAST-MODIFIED:20260306T014407Z
UID:10001659-1862074800-1862078400@thehohm.org
SUMMARY:Lessons for Life Bible Study
DESCRIPTION:
URL:https://thehohm.org/event_all/lessons-for-life-bible-study-2/2029-01-02/
LOCATION:The House of Hope Macon Church\, 1909 Woodland Dr.\, Macon\, GA\, 31211\, United States
ATTACH;FMTTYPE=image/jpeg:https://thehohm.org/wp-content/uploads/2026/02/bible-study.jpg
END:VEVENT
BEGIN:VEVENT
DTSTART;TZID=UTC:20290102T190000
DTEND;TZID=UTC:20300101T200000
DTSTAMP:20260423T060731
CREATED:20260217T160347Z
LAST-MODIFIED:20260306T010444Z
UID:10000480-1862074800-1893528000@thehohm.org
SUMMARY:Lessons for Life Bible Study
DESCRIPTION:
URL:https://thehohm.org/event_all/lessons-for-life-bible-study/2029-01-02/
LOCATION:The House of Hope Macon Church\, 1909 Woodland Dr.\, Macon\, GA\, 31211\, United States
ATTACH;FMTTYPE=image/jpeg:https://thehohm.org/wp-content/uploads/2026/02/bible-study.jpg
END:VEVENT
BEGIN:VEVENT
DTSTART;TZID=UTC:20290109T190000
DTEND;TZID=UTC:20290109T200000
DTSTAMP:20260423T060731
CREATED:20260306T010456Z
LAST-MODIFIED:20260306T014407Z
UID:10001660-1862679600-1862683200@thehohm.org
SUMMARY:Lessons for Life Bible Study
DESCRIPTION:
URL:https://thehohm.org/event_all/lessons-for-life-bible-study-2/2029-01-09/
LOCATION:The House of Hope Macon Church\, 1909 Woodland Dr.\, Macon\, GA\, 31211\, United States
ATTACH;FMTTYPE=image/jpeg:https://thehohm.org/wp-content/uploads/2026/02/bible-study.jpg
END:VEVENT
BEGIN:VEVENT
DTSTART;TZID=UTC:20290109T190000
DTEND;TZID=UTC:20300108T200000
DTSTAMP:20260423T060731
CREATED:20260217T160347Z
LAST-MODIFIED:20260306T010444Z
UID:10000481-1862679600-1894132800@thehohm.org
SUMMARY:Lessons for Life Bible Study
DESCRIPTION:
URL:https://thehohm.org/event_all/lessons-for-life-bible-study/2029-01-09/
LOCATION:The House of Hope Macon Church\, 1909 Woodland Dr.\, Macon\, GA\, 31211\, United States
ATTACH;FMTTYPE=image/jpeg:https://thehohm.org/wp-content/uploads/2026/02/bible-study.jpg
END:VEVENT
BEGIN:VEVENT
DTSTART;TZID=UTC:20290116T190000
DTEND;TZID=UTC:20290116T200000
DTSTAMP:20260423T060731
CREATED:20260217T163337Z
LAST-MODIFIED:20260306T014753Z
UID:10001442-1863284400-1863288000@thehohm.org
SUMMARY:Talk Back Tuesday
DESCRIPTION:
URL:https://thehohm.org/event_all/talk-back-tuesday/2029-01-16/
LOCATION:The House of Hope Macon Church\, 1909 Woodland Dr.\, Macon\, GA\, 31211\, United States
ATTACH;FMTTYPE=image/webp:https://thehohm.org/wp-content/uploads/2026/02/talk-back.webp
END:VEVENT
BEGIN:VEVENT
DTSTART;TZID=UTC:20290116T190000
DTEND;TZID=UTC:20300115T200000
DTSTAMP:20260423T060731
CREATED:20260217T160347Z
LAST-MODIFIED:20260306T010444Z
UID:10000482-1863284400-1894737600@thehohm.org
SUMMARY:Lessons for Life Bible Study
DESCRIPTION:
URL:https://thehohm.org/event_all/lessons-for-life-bible-study/2029-01-16/
LOCATION:The House of Hope Macon Church\, 1909 Woodland Dr.\, Macon\, GA\, 31211\, United States
ATTACH;FMTTYPE=image/jpeg:https://thehohm.org/wp-content/uploads/2026/02/bible-study.jpg
END:VEVENT
BEGIN:VEVENT
DTSTART;TZID=UTC:20290123T190000
DTEND;TZID=UTC:20290123T200000
DTSTAMP:20260423T060731
CREATED:20260306T010456Z
LAST-MODIFIED:20260306T014407Z
UID:10001661-1863889200-1863892800@thehohm.org
SUMMARY:Lessons for Life Bible Study
DESCRIPTION:
URL:https://thehohm.org/event_all/lessons-for-life-bible-study-2/2029-01-23/
LOCATION:The House of Hope Macon Church\, 1909 Woodland Dr.\, Macon\, GA\, 31211\, United States
ATTACH;FMTTYPE=image/jpeg:https://thehohm.org/wp-content/uploads/2026/02/bible-study.jpg
END:VEVENT
BEGIN:VEVENT
DTSTART;TZID=UTC:20290123T190000
DTEND;TZID=UTC:20300122T200000
DTSTAMP:20260423T060731
CREATED:20260217T160347Z
LAST-MODIFIED:20260306T010444Z
UID:10000483-1863889200-1895342400@thehohm.org
SUMMARY:Lessons for Life Bible Study
DESCRIPTION:
URL:https://thehohm.org/event_all/lessons-for-life-bible-study/2029-01-23/
LOCATION:The House of Hope Macon Church\, 1909 Woodland Dr.\, Macon\, GA\, 31211\, United States
ATTACH;FMTTYPE=image/jpeg:https://thehohm.org/wp-content/uploads/2026/02/bible-study.jpg
END:VEVENT
BEGIN:VEVENT
DTSTART;TZID=UTC:20290130T190000
DTEND;TZID=UTC:20290130T200000
DTSTAMP:20260423T060731
CREATED:20260306T010456Z
LAST-MODIFIED:20260306T014407Z
UID:10001662-1864494000-1864497600@thehohm.org
SUMMARY:Lessons for Life Bible Study
DESCRIPTION:
URL:https://thehohm.org/event_all/lessons-for-life-bible-study-2/2029-01-30/
LOCATION:The House of Hope Macon Church\, 1909 Woodland Dr.\, Macon\, GA\, 31211\, United States
ATTACH;FMTTYPE=image/jpeg:https://thehohm.org/wp-content/uploads/2026/02/bible-study.jpg
END:VEVENT
BEGIN:VEVENT
DTSTART;TZID=UTC:20290130T190000
DTEND;TZID=UTC:20300129T200000
DTSTAMP:20260423T060731
CREATED:20260217T160347Z
LAST-MODIFIED:20260306T010444Z
UID:10000484-1864494000-1895947200@thehohm.org
SUMMARY:Lessons for Life Bible Study
DESCRIPTION:
URL:https://thehohm.org/event_all/lessons-for-life-bible-study/2029-01-30/
LOCATION:The House of Hope Macon Church\, 1909 Woodland Dr.\, Macon\, GA\, 31211\, United States
ATTACH;FMTTYPE=image/jpeg:https://thehohm.org/wp-content/uploads/2026/02/bible-study.jpg
END:VEVENT
BEGIN:VEVENT
DTSTART;TZID=UTC:20290206T190000
DTEND;TZID=UTC:20290206T200000
DTSTAMP:20260423T060731
CREATED:20260306T010456Z
LAST-MODIFIED:20260306T014407Z
UID:10001663-1865098800-1865102400@thehohm.org
SUMMARY:Lessons for Life Bible Study
DESCRIPTION:
URL:https://thehohm.org/event_all/lessons-for-life-bible-study-2/2029-02-06/
LOCATION:The House of Hope Macon Church\, 1909 Woodland Dr.\, Macon\, GA\, 31211\, United States
ATTACH;FMTTYPE=image/jpeg:https://thehohm.org/wp-content/uploads/2026/02/bible-study.jpg
END:VEVENT
BEGIN:VEVENT
DTSTART;TZID=UTC:20290206T190000
DTEND;TZID=UTC:20300205T200000
DTSTAMP:20260423T060731
CREATED:20260217T160347Z
LAST-MODIFIED:20260306T010444Z
UID:10000485-1865098800-1896552000@thehohm.org
SUMMARY:Lessons for Life Bible Study
DESCRIPTION:
URL:https://thehohm.org/event_all/lessons-for-life-bible-study/2029-02-06/
LOCATION:The House of Hope Macon Church\, 1909 Woodland Dr.\, Macon\, GA\, 31211\, United States
ATTACH;FMTTYPE=image/jpeg:https://thehohm.org/wp-content/uploads/2026/02/bible-study.jpg
END:VEVENT
BEGIN:VEVENT
DTSTART;TZID=UTC:20290213T190000
DTEND;TZID=UTC:20290213T200000
DTSTAMP:20260423T060731
CREATED:20260306T010456Z
LAST-MODIFIED:20260306T014407Z
UID:10001664-1865703600-1865707200@thehohm.org
SUMMARY:Lessons for Life Bible Study
DESCRIPTION:
URL:https://thehohm.org/event_all/lessons-for-life-bible-study-2/2029-02-13/
LOCATION:The House of Hope Macon Church\, 1909 Woodland Dr.\, Macon\, GA\, 31211\, United States
ATTACH;FMTTYPE=image/jpeg:https://thehohm.org/wp-content/uploads/2026/02/bible-study.jpg
END:VEVENT
BEGIN:VEVENT
DTSTART;TZID=UTC:20290213T190000
DTEND;TZID=UTC:20300212T200000
DTSTAMP:20260423T060731
CREATED:20260217T160347Z
LAST-MODIFIED:20260306T010444Z
UID:10000486-1865703600-1897156800@thehohm.org
SUMMARY:Lessons for Life Bible Study
DESCRIPTION:
URL:https://thehohm.org/event_all/lessons-for-life-bible-study/2029-02-13/
LOCATION:The House of Hope Macon Church\, 1909 Woodland Dr.\, Macon\, GA\, 31211\, United States
ATTACH;FMTTYPE=image/jpeg:https://thehohm.org/wp-content/uploads/2026/02/bible-study.jpg
END:VEVENT
BEGIN:VEVENT
DTSTART;TZID=UTC:20290220T190000
DTEND;TZID=UTC:20290220T200000
DTSTAMP:20260423T060731
CREATED:20260217T163337Z
LAST-MODIFIED:20260306T014753Z
UID:10001443-1866308400-1866312000@thehohm.org
SUMMARY:Talk Back Tuesday
DESCRIPTION:
URL:https://thehohm.org/event_all/talk-back-tuesday/2029-02-20/
LOCATION:The House of Hope Macon Church\, 1909 Woodland Dr.\, Macon\, GA\, 31211\, United States
ATTACH;FMTTYPE=image/webp:https://thehohm.org/wp-content/uploads/2026/02/talk-back.webp
END:VEVENT
BEGIN:VEVENT
DTSTART;TZID=UTC:20290220T190000
DTEND;TZID=UTC:20300219T200000
DTSTAMP:20260423T060731
CREATED:20260217T160347Z
LAST-MODIFIED:20260306T010444Z
UID:10000487-1866308400-1897761600@thehohm.org
SUMMARY:Lessons for Life Bible Study
DESCRIPTION:
URL:https://thehohm.org/event_all/lessons-for-life-bible-study/2029-02-20/
LOCATION:The House of Hope Macon Church\, 1909 Woodland Dr.\, Macon\, GA\, 31211\, United States
ATTACH;FMTTYPE=image/jpeg:https://thehohm.org/wp-content/uploads/2026/02/bible-study.jpg
END:VEVENT
BEGIN:VEVENT
DTSTART;TZID=UTC:20290227T190000
DTEND;TZID=UTC:20290227T200000
DTSTAMP:20260423T060731
CREATED:20260306T010456Z
LAST-MODIFIED:20260306T014407Z
UID:10001665-1866913200-1866916800@thehohm.org
SUMMARY:Lessons for Life Bible Study
DESCRIPTION:
URL:https://thehohm.org/event_all/lessons-for-life-bible-study-2/2029-02-27/
LOCATION:The House of Hope Macon Church\, 1909 Woodland Dr.\, Macon\, GA\, 31211\, United States
ATTACH;FMTTYPE=image/jpeg:https://thehohm.org/wp-content/uploads/2026/02/bible-study.jpg
END:VEVENT
BEGIN:VEVENT
DTSTART;TZID=UTC:20290227T190000
DTEND;TZID=UTC:20300226T200000
DTSTAMP:20260423T060731
CREATED:20260217T160347Z
LAST-MODIFIED:20260306T010444Z
UID:10000488-1866913200-1898366400@thehohm.org
SUMMARY:Lessons for Life Bible Study
DESCRIPTION:
URL:https://thehohm.org/event_all/lessons-for-life-bible-study/2029-02-27/
LOCATION:The House of Hope Macon Church\, 1909 Woodland Dr.\, Macon\, GA\, 31211\, United States
ATTACH;FMTTYPE=image/jpeg:https://thehohm.org/wp-content/uploads/2026/02/bible-study.jpg
END:VEVENT
BEGIN:VEVENT
DTSTART;TZID=UTC:20290306T190000
DTEND;TZID=UTC:20290306T200000
DTSTAMP:20260423T060731
CREATED:20260306T010456Z
LAST-MODIFIED:20260306T014407Z
UID:10001666-1867518000-1867521600@thehohm.org
SUMMARY:Lessons for Life Bible Study
DESCRIPTION:
URL:https://thehohm.org/event_all/lessons-for-life-bible-study-2/2029-03-06/
LOCATION:The House of Hope Macon Church\, 1909 Woodland Dr.\, Macon\, GA\, 31211\, United States
ATTACH;FMTTYPE=image/jpeg:https://thehohm.org/wp-content/uploads/2026/02/bible-study.jpg
END:VEVENT
BEGIN:VEVENT
DTSTART;TZID=UTC:20290306T190000
DTEND;TZID=UTC:20300305T200000
DTSTAMP:20260423T060731
CREATED:20260217T160347Z
LAST-MODIFIED:20260306T010444Z
UID:10000489-1867518000-1898971200@thehohm.org
SUMMARY:Lessons for Life Bible Study
DESCRIPTION:
URL:https://thehohm.org/event_all/lessons-for-life-bible-study/2029-03-06/
LOCATION:The House of Hope Macon Church\, 1909 Woodland Dr.\, Macon\, GA\, 31211\, United States
ATTACH;FMTTYPE=image/jpeg:https://thehohm.org/wp-content/uploads/2026/02/bible-study.jpg
END:VEVENT
BEGIN:VEVENT
DTSTART;TZID=UTC:20290313T190000
DTEND;TZID=UTC:20290313T200000
DTSTAMP:20260423T060731
CREATED:20260306T010456Z
LAST-MODIFIED:20260306T014407Z
UID:10001667-1868122800-1868126400@thehohm.org
SUMMARY:Lessons for Life Bible Study
DESCRIPTION:
URL:https://thehohm.org/event_all/lessons-for-life-bible-study-2/2029-03-13/
LOCATION:The House of Hope Macon Church\, 1909 Woodland Dr.\, Macon\, GA\, 31211\, United States
ATTACH;FMTTYPE=image/jpeg:https://thehohm.org/wp-content/uploads/2026/02/bible-study.jpg
END:VEVENT
BEGIN:VEVENT
DTSTART;TZID=UTC:20290313T190000
DTEND;TZID=UTC:20300312T200000
DTSTAMP:20260423T060731
CREATED:20260217T160347Z
LAST-MODIFIED:20260306T010444Z
UID:10000490-1868122800-1899576000@thehohm.org
SUMMARY:Lessons for Life Bible Study
DESCRIPTION:
URL:https://thehohm.org/event_all/lessons-for-life-bible-study/2029-03-13/
LOCATION:The House of Hope Macon Church\, 1909 Woodland Dr.\, Macon\, GA\, 31211\, United States
ATTACH;FMTTYPE=image/jpeg:https://thehohm.org/wp-content/uploads/2026/02/bible-study.jpg
END:VEVENT
BEGIN:VEVENT
DTSTART;TZID=UTC:20290320T190000
DTEND;TZID=UTC:20290320T200000
DTSTAMP:20260423T060731
CREATED:20260217T163337Z
LAST-MODIFIED:20260306T014753Z
UID:10001444-1868727600-1868731200@thehohm.org
SUMMARY:Talk Back Tuesday
DESCRIPTION:
URL:https://thehohm.org/event_all/talk-back-tuesday/2029-03-20/
LOCATION:The House of Hope Macon Church\, 1909 Woodland Dr.\, Macon\, GA\, 31211\, United States
ATTACH;FMTTYPE=image/webp:https://thehohm.org/wp-content/uploads/2026/02/talk-back.webp
END:VEVENT
BEGIN:VEVENT
DTSTART;TZID=UTC:20290320T190000
DTEND;TZID=UTC:20300319T200000
DTSTAMP:20260423T060731
CREATED:20260217T160347Z
LAST-MODIFIED:20260306T010444Z
UID:10000491-1868727600-1900180800@thehohm.org
SUMMARY:Lessons for Life Bible Study
DESCRIPTION:
URL:https://thehohm.org/event_all/lessons-for-life-bible-study/2029-03-20/
LOCATION:The House of Hope Macon Church\, 1909 Woodland Dr.\, Macon\, GA\, 31211\, United States
ATTACH;FMTTYPE=image/jpeg:https://thehohm.org/wp-content/uploads/2026/02/bible-study.jpg
END:VEVENT
BEGIN:VEVENT
DTSTART;TZID=UTC:20290327T190000
DTEND;TZID=UTC:20290327T200000
DTSTAMP:20260423T060731
CREATED:20260306T010456Z
LAST-MODIFIED:20260306T014407Z
UID:10001668-1869332400-1869336000@thehohm.org
SUMMARY:Lessons for Life Bible Study
DESCRIPTION:
URL:https://thehohm.org/event_all/lessons-for-life-bible-study-2/2029-03-27/
LOCATION:The House of Hope Macon Church\, 1909 Woodland Dr.\, Macon\, GA\, 31211\, United States
ATTACH;FMTTYPE=image/jpeg:https://thehohm.org/wp-content/uploads/2026/02/bible-study.jpg
END:VEVENT
END:VCALENDAR