BEGIN:VCALENDAR
VERSION:2.0
PRODID:-//House of Hope Macon - ECPv6.15.17//NONSGML v1.0//EN
CALSCALE:GREGORIAN
METHOD:PUBLISH
X-WR-CALNAME:House of Hope Macon
X-ORIGINAL-URL:https://thehohm.org
X-WR-CALDESC:Events for House of Hope Macon
REFRESH-INTERVAL;VALUE=DURATION:PT1H
X-Robots-Tag:noindex
X-PUBLISHED-TTL:PT1H
BEGIN:VTIMEZONE
TZID:UTC
BEGIN:STANDARD
TZOFFSETFROM:+0000
TZOFFSETTO:+0000
TZNAME:UTC
DTSTART:20290101T000000
END:STANDARD
END:VTIMEZONE
BEGIN:VEVENT
DTSTART;TZID=UTC:20301106T070000
DTEND;TZID=UTC:20301106T080000
DTSTAMP:20260424T163800
CREATED:20260217T163644Z
LAST-MODIFIED:20260306T015107Z
UID:10001993-1920178800-1920182400@thehohm.org
SUMMARY:Prayer Call
DESCRIPTION:
URL:https://thehohm.org/event_all/prayer-call/2030-11-06/
LOCATION:The House of Hope Macon Church\, 1909 Woodland Dr.\, Macon\, GA\, 31211\, United States
ATTACH;FMTTYPE=image/webp:https://thehohm.org/wp-content/uploads/2026/02/Prayer.webp
END:VEVENT
BEGIN:VEVENT
DTSTART;TZID=UTC:20301110T100000
DTEND;TZID=UTC:20301110T120000
DTSTAMP:20260424T163800
CREATED:20260212T041401Z
LAST-MODIFIED:20260306T015235Z
UID:10002068-1920535200-1920542400@thehohm.org
SUMMARY:Selfie Sunday
DESCRIPTION:
URL:https://thehohm.org/event_all/selfie-sunday/2030-11-10/
END:VEVENT
BEGIN:VEVENT
DTSTART;TZID=UTC:20301112T190000
DTEND;TZID=UTC:20301112T200000
DTSTAMP:20260424T163800
CREATED:20260306T010456Z
LAST-MODIFIED:20260306T014407Z
UID:10001734-1920740400-1920744000@thehohm.org
SUMMARY:Lessons for Life Bible Study
DESCRIPTION:
URL:https://thehohm.org/event_all/lessons-for-life-bible-study-2/2030-11-12/
LOCATION:The House of Hope Macon Church\, 1909 Woodland Dr.\, Macon\, GA\, 31211\, United States
ATTACH;FMTTYPE=image/jpeg:https://thehohm.org/wp-content/uploads/2026/02/bible-study.jpg
END:VEVENT
BEGIN:VEVENT
DTSTART;TZID=UTC:20301112T190000
DTEND;TZID=UTC:20311111T200000
DTSTAMP:20260424T163800
CREATED:20260217T160347Z
LAST-MODIFIED:20260306T010444Z
UID:10000577-1920740400-1952193600@thehohm.org
SUMMARY:Lessons for Life Bible Study
DESCRIPTION:
URL:https://thehohm.org/event_all/lessons-for-life-bible-study/2030-11-12/
LOCATION:The House of Hope Macon Church\, 1909 Woodland Dr.\, Macon\, GA\, 31211\, United States
ATTACH;FMTTYPE=image/jpeg:https://thehohm.org/wp-content/uploads/2026/02/bible-study.jpg
END:VEVENT
BEGIN:VEVENT
DTSTART;TZID=UTC:20301113T070000
DTEND;TZID=UTC:20301113T080000
DTSTAMP:20260424T163800
CREATED:20260217T163644Z
LAST-MODIFIED:20260306T015107Z
UID:10001994-1920783600-1920787200@thehohm.org
SUMMARY:Prayer Call
DESCRIPTION:
URL:https://thehohm.org/event_all/prayer-call/2030-11-13/
LOCATION:The House of Hope Macon Church\, 1909 Woodland Dr.\, Macon\, GA\, 31211\, United States
ATTACH;FMTTYPE=image/webp:https://thehohm.org/wp-content/uploads/2026/02/Prayer.webp
END:VEVENT
BEGIN:VEVENT
DTSTART;TZID=UTC:20301119T190000
DTEND;TZID=UTC:20301119T200000
DTSTAMP:20260424T163800
CREATED:20260217T163337Z
LAST-MODIFIED:20260306T014753Z
UID:10001457-1921345200-1921348800@thehohm.org
SUMMARY:Talk Back Tuesday
DESCRIPTION:
URL:https://thehohm.org/event_all/talk-back-tuesday/2030-11-19/
LOCATION:The House of Hope Macon Church\, 1909 Woodland Dr.\, Macon\, GA\, 31211\, United States
ATTACH;FMTTYPE=image/webp:https://thehohm.org/wp-content/uploads/2026/02/talk-back.webp
END:VEVENT
BEGIN:VEVENT
DTSTART;TZID=UTC:20301119T190000
DTEND;TZID=UTC:20311118T200000
DTSTAMP:20260424T163800
CREATED:20260217T160347Z
LAST-MODIFIED:20260306T010444Z
UID:10000578-1921345200-1952798400@thehohm.org
SUMMARY:Lessons for Life Bible Study
DESCRIPTION:
URL:https://thehohm.org/event_all/lessons-for-life-bible-study/2030-11-19/
LOCATION:The House of Hope Macon Church\, 1909 Woodland Dr.\, Macon\, GA\, 31211\, United States
ATTACH;FMTTYPE=image/jpeg:https://thehohm.org/wp-content/uploads/2026/02/bible-study.jpg
END:VEVENT
BEGIN:VEVENT
DTSTART;TZID=UTC:20301120T070000
DTEND;TZID=UTC:20301120T080000
DTSTAMP:20260424T163800
CREATED:20260217T163644Z
LAST-MODIFIED:20260306T015107Z
UID:10001995-1921388400-1921392000@thehohm.org
SUMMARY:Prayer Call
DESCRIPTION:
URL:https://thehohm.org/event_all/prayer-call/2030-11-20/
LOCATION:The House of Hope Macon Church\, 1909 Woodland Dr.\, Macon\, GA\, 31211\, United States
ATTACH;FMTTYPE=image/webp:https://thehohm.org/wp-content/uploads/2026/02/Prayer.webp
END:VEVENT
BEGIN:VEVENT
DTSTART;TZID=UTC:20301126T190000
DTEND;TZID=UTC:20301126T200000
DTSTAMP:20260424T163800
CREATED:20260306T010456Z
LAST-MODIFIED:20260306T014407Z
UID:10001735-1921950000-1921953600@thehohm.org
SUMMARY:Lessons for Life Bible Study
DESCRIPTION:
URL:https://thehohm.org/event_all/lessons-for-life-bible-study-2/2030-11-26/
LOCATION:The House of Hope Macon Church\, 1909 Woodland Dr.\, Macon\, GA\, 31211\, United States
ATTACH;FMTTYPE=image/jpeg:https://thehohm.org/wp-content/uploads/2026/02/bible-study.jpg
END:VEVENT
BEGIN:VEVENT
DTSTART;TZID=UTC:20301126T190000
DTEND;TZID=UTC:20311125T200000
DTSTAMP:20260424T163800
CREATED:20260217T160347Z
LAST-MODIFIED:20260306T010444Z
UID:10000579-1921950000-1953403200@thehohm.org
SUMMARY:Lessons for Life Bible Study
DESCRIPTION:
URL:https://thehohm.org/event_all/lessons-for-life-bible-study/2030-11-26/
LOCATION:The House of Hope Macon Church\, 1909 Woodland Dr.\, Macon\, GA\, 31211\, United States
ATTACH;FMTTYPE=image/jpeg:https://thehohm.org/wp-content/uploads/2026/02/bible-study.jpg
END:VEVENT
BEGIN:VEVENT
DTSTART;TZID=UTC:20301127T070000
DTEND;TZID=UTC:20301127T080000
DTSTAMP:20260424T163800
CREATED:20260217T163644Z
LAST-MODIFIED:20260306T015107Z
UID:10001996-1921993200-1921996800@thehohm.org
SUMMARY:Prayer Call
DESCRIPTION:
URL:https://thehohm.org/event_all/prayer-call/2030-11-27/
LOCATION:The House of Hope Macon Church\, 1909 Woodland Dr.\, Macon\, GA\, 31211\, United States
ATTACH;FMTTYPE=image/webp:https://thehohm.org/wp-content/uploads/2026/02/Prayer.webp
END:VEVENT
BEGIN:VEVENT
DTSTART;TZID=UTC:20301201T100000
DTEND;TZID=UTC:20301201T120000
DTSTAMP:20260424T163800
CREATED:20260212T035455Z
LAST-MODIFIED:20260306T015732Z
UID:10002129-1922349600-1922356800@thehohm.org
SUMMARY:Communion Sunday
DESCRIPTION:
URL:https://thehohm.org/event_all/communion-sunday/2030-12-01/
END:VEVENT
BEGIN:VEVENT
DTSTART;TZID=UTC:20301203T190000
DTEND;TZID=UTC:20301203T200000
DTSTAMP:20260424T163800
CREATED:20260306T010456Z
LAST-MODIFIED:20260306T014407Z
UID:10001736-1922554800-1922558400@thehohm.org
SUMMARY:Lessons for Life Bible Study
DESCRIPTION:
URL:https://thehohm.org/event_all/lessons-for-life-bible-study-2/2030-12-03/
LOCATION:The House of Hope Macon Church\, 1909 Woodland Dr.\, Macon\, GA\, 31211\, United States
ATTACH;FMTTYPE=image/jpeg:https://thehohm.org/wp-content/uploads/2026/02/bible-study.jpg
END:VEVENT
BEGIN:VEVENT
DTSTART;TZID=UTC:20301203T190000
DTEND;TZID=UTC:20311202T200000
DTSTAMP:20260424T163800
CREATED:20260217T160347Z
LAST-MODIFIED:20260306T010444Z
UID:10000580-1922554800-1954008000@thehohm.org
SUMMARY:Lessons for Life Bible Study
DESCRIPTION:
URL:https://thehohm.org/event_all/lessons-for-life-bible-study/2030-12-03/
LOCATION:The House of Hope Macon Church\, 1909 Woodland Dr.\, Macon\, GA\, 31211\, United States
ATTACH;FMTTYPE=image/jpeg:https://thehohm.org/wp-content/uploads/2026/02/bible-study.jpg
END:VEVENT
BEGIN:VEVENT
DTSTART;TZID=UTC:20301204T070000
DTEND;TZID=UTC:20301204T080000
DTSTAMP:20260424T163800
CREATED:20260217T163644Z
LAST-MODIFIED:20260306T015107Z
UID:10001997-1922598000-1922601600@thehohm.org
SUMMARY:Prayer Call
DESCRIPTION:
URL:https://thehohm.org/event_all/prayer-call/2030-12-04/
LOCATION:The House of Hope Macon Church\, 1909 Woodland Dr.\, Macon\, GA\, 31211\, United States
ATTACH;FMTTYPE=image/webp:https://thehohm.org/wp-content/uploads/2026/02/Prayer.webp
END:VEVENT
BEGIN:VEVENT
DTSTART;TZID=UTC:20301208T100000
DTEND;TZID=UTC:20301208T120000
DTSTAMP:20260424T163800
CREATED:20260212T041401Z
LAST-MODIFIED:20260306T015235Z
UID:10002069-1922954400-1922961600@thehohm.org
SUMMARY:Selfie Sunday
DESCRIPTION:
URL:https://thehohm.org/event_all/selfie-sunday/2030-12-08/
END:VEVENT
BEGIN:VEVENT
DTSTART;TZID=UTC:20301210T190000
DTEND;TZID=UTC:20301210T200000
DTSTAMP:20260424T163800
CREATED:20260306T010456Z
LAST-MODIFIED:20260306T014407Z
UID:10001737-1923159600-1923163200@thehohm.org
SUMMARY:Lessons for Life Bible Study
DESCRIPTION:
URL:https://thehohm.org/event_all/lessons-for-life-bible-study-2/2030-12-10/
LOCATION:The House of Hope Macon Church\, 1909 Woodland Dr.\, Macon\, GA\, 31211\, United States
ATTACH;FMTTYPE=image/jpeg:https://thehohm.org/wp-content/uploads/2026/02/bible-study.jpg
END:VEVENT
BEGIN:VEVENT
DTSTART;TZID=UTC:20301210T190000
DTEND;TZID=UTC:20311209T200000
DTSTAMP:20260424T163800
CREATED:20260217T160347Z
LAST-MODIFIED:20260306T010444Z
UID:10000581-1923159600-1954612800@thehohm.org
SUMMARY:Lessons for Life Bible Study
DESCRIPTION:
URL:https://thehohm.org/event_all/lessons-for-life-bible-study/2030-12-10/
LOCATION:The House of Hope Macon Church\, 1909 Woodland Dr.\, Macon\, GA\, 31211\, United States
ATTACH;FMTTYPE=image/jpeg:https://thehohm.org/wp-content/uploads/2026/02/bible-study.jpg
END:VEVENT
BEGIN:VEVENT
DTSTART;TZID=UTC:20301211T070000
DTEND;TZID=UTC:20301211T080000
DTSTAMP:20260424T163800
CREATED:20260217T163644Z
LAST-MODIFIED:20260306T015107Z
UID:10001998-1923202800-1923206400@thehohm.org
SUMMARY:Prayer Call
DESCRIPTION:
URL:https://thehohm.org/event_all/prayer-call/2030-12-11/
LOCATION:The House of Hope Macon Church\, 1909 Woodland Dr.\, Macon\, GA\, 31211\, United States
ATTACH;FMTTYPE=image/webp:https://thehohm.org/wp-content/uploads/2026/02/Prayer.webp
END:VEVENT
BEGIN:VEVENT
DTSTART;TZID=UTC:20301217T190000
DTEND;TZID=UTC:20301217T200000
DTSTAMP:20260424T163800
CREATED:20260217T163337Z
LAST-MODIFIED:20260306T014753Z
UID:10000701-1923764400-1923768000@thehohm.org
SUMMARY:Talk Back Tuesday
DESCRIPTION:
URL:https://thehohm.org/event_all/talk-back-tuesday/2030-12-17/
LOCATION:The House of Hope Macon Church\, 1909 Woodland Dr.\, Macon\, GA\, 31211\, United States
ATTACH;FMTTYPE=image/webp:https://thehohm.org/wp-content/uploads/2026/02/talk-back.webp
END:VEVENT
BEGIN:VEVENT
DTSTART;TZID=UTC:20301217T190000
DTEND;TZID=UTC:20311216T200000
DTSTAMP:20260424T163800
CREATED:20260217T160347Z
LAST-MODIFIED:20260306T010444Z
UID:10000582-1923764400-1955217600@thehohm.org
SUMMARY:Lessons for Life Bible Study
DESCRIPTION:
URL:https://thehohm.org/event_all/lessons-for-life-bible-study/2030-12-17/
LOCATION:The House of Hope Macon Church\, 1909 Woodland Dr.\, Macon\, GA\, 31211\, United States
ATTACH;FMTTYPE=image/jpeg:https://thehohm.org/wp-content/uploads/2026/02/bible-study.jpg
END:VEVENT
BEGIN:VEVENT
DTSTART;TZID=UTC:20301218T070000
DTEND;TZID=UTC:20301218T080000
DTSTAMP:20260424T163800
CREATED:20260217T163644Z
LAST-MODIFIED:20260306T015107Z
UID:10001999-1923807600-1923811200@thehohm.org
SUMMARY:Prayer Call
DESCRIPTION:
URL:https://thehohm.org/event_all/prayer-call/2030-12-18/
LOCATION:The House of Hope Macon Church\, 1909 Woodland Dr.\, Macon\, GA\, 31211\, United States
ATTACH;FMTTYPE=image/webp:https://thehohm.org/wp-content/uploads/2026/02/Prayer.webp
END:VEVENT
BEGIN:VEVENT
DTSTART;TZID=UTC:20301224T190000
DTEND;TZID=UTC:20301224T200000
DTSTAMP:20260424T163800
CREATED:20260306T010456Z
LAST-MODIFIED:20260306T014407Z
UID:10001738-1924369200-1924372800@thehohm.org
SUMMARY:Lessons for Life Bible Study
DESCRIPTION:
URL:https://thehohm.org/event_all/lessons-for-life-bible-study-2/2030-12-24/
LOCATION:The House of Hope Macon Church\, 1909 Woodland Dr.\, Macon\, GA\, 31211\, United States
ATTACH;FMTTYPE=image/jpeg:https://thehohm.org/wp-content/uploads/2026/02/bible-study.jpg
END:VEVENT
BEGIN:VEVENT
DTSTART;TZID=UTC:20301224T190000
DTEND;TZID=UTC:20311223T200000
DTSTAMP:20260424T163800
CREATED:20260217T160347Z
LAST-MODIFIED:20260306T010444Z
UID:10000583-1924369200-1955822400@thehohm.org
SUMMARY:Lessons for Life Bible Study
DESCRIPTION:
URL:https://thehohm.org/event_all/lessons-for-life-bible-study/2030-12-24/
LOCATION:The House of Hope Macon Church\, 1909 Woodland Dr.\, Macon\, GA\, 31211\, United States
ATTACH;FMTTYPE=image/jpeg:https://thehohm.org/wp-content/uploads/2026/02/bible-study.jpg
END:VEVENT
BEGIN:VEVENT
DTSTART;TZID=UTC:20301225T070000
DTEND;TZID=UTC:20301225T080000
DTSTAMP:20260424T163800
CREATED:20260217T163644Z
LAST-MODIFIED:20260306T015107Z
UID:10002000-1924412400-1924416000@thehohm.org
SUMMARY:Prayer Call
DESCRIPTION:
URL:https://thehohm.org/event_all/prayer-call/2030-12-25/
LOCATION:The House of Hope Macon Church\, 1909 Woodland Dr.\, Macon\, GA\, 31211\, United States
ATTACH;FMTTYPE=image/webp:https://thehohm.org/wp-content/uploads/2026/02/Prayer.webp
END:VEVENT
BEGIN:VEVENT
DTSTART;TZID=UTC:20301231T190000
DTEND;TZID=UTC:20301231T200000
DTSTAMP:20260424T163800
CREATED:20260306T010456Z
LAST-MODIFIED:20260306T014407Z
UID:10001739-1924974000-1924977600@thehohm.org
SUMMARY:Lessons for Life Bible Study
DESCRIPTION:
URL:https://thehohm.org/event_all/lessons-for-life-bible-study-2/2030-12-31/
LOCATION:The House of Hope Macon Church\, 1909 Woodland Dr.\, Macon\, GA\, 31211\, United States
ATTACH;FMTTYPE=image/jpeg:https://thehohm.org/wp-content/uploads/2026/02/bible-study.jpg
END:VEVENT
BEGIN:VEVENT
DTSTART;TZID=UTC:20301231T190000
DTEND;TZID=UTC:20311230T200000
DTSTAMP:20260424T163800
CREATED:20260217T160347Z
LAST-MODIFIED:20260306T010444Z
UID:10000584-1924974000-1956427200@thehohm.org
SUMMARY:Lessons for Life Bible Study
DESCRIPTION:
URL:https://thehohm.org/event_all/lessons-for-life-bible-study/2030-12-31/
LOCATION:The House of Hope Macon Church\, 1909 Woodland Dr.\, Macon\, GA\, 31211\, United States
ATTACH;FMTTYPE=image/jpeg:https://thehohm.org/wp-content/uploads/2026/02/bible-study.jpg
END:VEVENT
BEGIN:VEVENT
DTSTART;TZID=UTC:20310101T070000
DTEND;TZID=UTC:20310101T080000
DTSTAMP:20260424T163800
CREATED:20260217T163644Z
LAST-MODIFIED:20260306T015107Z
UID:10002001-1925017200-1925020800@thehohm.org
SUMMARY:Prayer Call
DESCRIPTION:
URL:https://thehohm.org/event_all/prayer-call/2031-01-01/
LOCATION:The House of Hope Macon Church\, 1909 Woodland Dr.\, Macon\, GA\, 31211\, United States
ATTACH;FMTTYPE=image/webp:https://thehohm.org/wp-content/uploads/2026/02/Prayer.webp
END:VEVENT
BEGIN:VEVENT
DTSTART;TZID=UTC:20310105T100000
DTEND;TZID=UTC:20310105T120000
DTSTAMP:20260424T163800
CREATED:20260212T035455Z
LAST-MODIFIED:20260306T015732Z
UID:10002130-1925373600-1925380800@thehohm.org
SUMMARY:Communion Sunday
DESCRIPTION:
URL:https://thehohm.org/event_all/communion-sunday/2031-01-05/
END:VEVENT
BEGIN:VEVENT
DTSTART;TZID=UTC:20310107T190000
DTEND;TZID=UTC:20310107T200000
DTSTAMP:20260424T163800
CREATED:20260306T010456Z
LAST-MODIFIED:20260306T014407Z
UID:10001740-1925578800-1925582400@thehohm.org
SUMMARY:Lessons for Life Bible Study
DESCRIPTION:
URL:https://thehohm.org/event_all/lessons-for-life-bible-study-2/2031-01-07/
LOCATION:The House of Hope Macon Church\, 1909 Woodland Dr.\, Macon\, GA\, 31211\, United States
ATTACH;FMTTYPE=image/jpeg:https://thehohm.org/wp-content/uploads/2026/02/bible-study.jpg
END:VEVENT
END:VCALENDAR