BEGIN:VCALENDAR
VERSION:2.0
PRODID:-//House of Hope Macon - ECPv6.15.17//NONSGML v1.0//EN
CALSCALE:GREGORIAN
METHOD:PUBLISH
X-WR-CALNAME:House of Hope Macon
X-ORIGINAL-URL:https://thehohm.org
X-WR-CALDESC:Events for House of Hope Macon
REFRESH-INTERVAL;VALUE=DURATION:PT1H
X-Robots-Tag:noindex
X-PUBLISHED-TTL:PT1H
BEGIN:VTIMEZONE
TZID:UTC
BEGIN:STANDARD
TZOFFSETFROM:+0000
TZOFFSETTO:+0000
TZNAME:UTC
DTSTART:20290101T000000
END:STANDARD
END:VTIMEZONE
BEGIN:VEVENT
DTSTART;TZID=UTC:20300522T070000
DTEND;TZID=UTC:20300522T080000
DTSTAMP:20260424T063607
CREATED:20260217T163644Z
LAST-MODIFIED:20260306T015107Z
UID:10001969-1905663600-1905667200@thehohm.org
SUMMARY:Prayer Call
DESCRIPTION:
URL:https://thehohm.org/event_all/prayer-call/2030-05-22/
LOCATION:The House of Hope Macon Church\, 1909 Woodland Dr.\, Macon\, GA\, 31211\, United States
ATTACH;FMTTYPE=image/webp:https://thehohm.org/wp-content/uploads/2026/02/Prayer.webp
END:VEVENT
BEGIN:VEVENT
DTSTART;TZID=UTC:20300528T190000
DTEND;TZID=UTC:20300528T200000
DTSTAMP:20260424T063607
CREATED:20260306T010456Z
LAST-MODIFIED:20260306T014407Z
UID:10001715-1906225200-1906228800@thehohm.org
SUMMARY:Lessons for Life Bible Study
DESCRIPTION:
URL:https://thehohm.org/event_all/lessons-for-life-bible-study-2/2030-05-28/
LOCATION:The House of Hope Macon Church\, 1909 Woodland Dr.\, Macon\, GA\, 31211\, United States
ATTACH;FMTTYPE=image/jpeg:https://thehohm.org/wp-content/uploads/2026/02/bible-study.jpg
END:VEVENT
BEGIN:VEVENT
DTSTART;TZID=UTC:20300528T190000
DTEND;TZID=UTC:20310527T200000
DTSTAMP:20260424T063607
CREATED:20260217T160347Z
LAST-MODIFIED:20260306T010444Z
UID:10000553-1906225200-1937678400@thehohm.org
SUMMARY:Lessons for Life Bible Study
DESCRIPTION:
URL:https://thehohm.org/event_all/lessons-for-life-bible-study/2030-05-28/
LOCATION:The House of Hope Macon Church\, 1909 Woodland Dr.\, Macon\, GA\, 31211\, United States
ATTACH;FMTTYPE=image/jpeg:https://thehohm.org/wp-content/uploads/2026/02/bible-study.jpg
END:VEVENT
BEGIN:VEVENT
DTSTART;TZID=UTC:20300529T070000
DTEND;TZID=UTC:20300529T080000
DTSTAMP:20260424T063607
CREATED:20260217T163644Z
LAST-MODIFIED:20260306T015107Z
UID:10001970-1906268400-1906272000@thehohm.org
SUMMARY:Prayer Call
DESCRIPTION:
URL:https://thehohm.org/event_all/prayer-call/2030-05-29/
LOCATION:The House of Hope Macon Church\, 1909 Woodland Dr.\, Macon\, GA\, 31211\, United States
ATTACH;FMTTYPE=image/webp:https://thehohm.org/wp-content/uploads/2026/02/Prayer.webp
END:VEVENT
BEGIN:VEVENT
DTSTART;TZID=UTC:20300602T100000
DTEND;TZID=UTC:20300602T120000
DTSTAMP:20260424T063607
CREATED:20260212T035455Z
LAST-MODIFIED:20260306T015732Z
UID:10002123-1906624800-1906632000@thehohm.org
SUMMARY:Communion Sunday
DESCRIPTION:
URL:https://thehohm.org/event_all/communion-sunday/2030-06-02/
LOCATION:GA
END:VEVENT
BEGIN:VEVENT
DTSTART;TZID=UTC:20300604T190000
DTEND;TZID=UTC:20300604T200000
DTSTAMP:20260424T063607
CREATED:20260306T010456Z
LAST-MODIFIED:20260306T014407Z
UID:10001716-1906830000-1906833600@thehohm.org
SUMMARY:Lessons for Life Bible Study
DESCRIPTION:
URL:https://thehohm.org/event_all/lessons-for-life-bible-study-2/2030-06-04/
LOCATION:The House of Hope Macon Church\, 1909 Woodland Dr.\, Macon\, GA\, 31211\, United States
ATTACH;FMTTYPE=image/jpeg:https://thehohm.org/wp-content/uploads/2026/02/bible-study.jpg
END:VEVENT
BEGIN:VEVENT
DTSTART;TZID=UTC:20300604T190000
DTEND;TZID=UTC:20310603T200000
DTSTAMP:20260424T063607
CREATED:20260217T160347Z
LAST-MODIFIED:20260306T010444Z
UID:10000554-1906830000-1938283200@thehohm.org
SUMMARY:Lessons for Life Bible Study
DESCRIPTION:
URL:https://thehohm.org/event_all/lessons-for-life-bible-study/2030-06-04/
LOCATION:The House of Hope Macon Church\, 1909 Woodland Dr.\, Macon\, GA\, 31211\, United States
ATTACH;FMTTYPE=image/jpeg:https://thehohm.org/wp-content/uploads/2026/02/bible-study.jpg
END:VEVENT
BEGIN:VEVENT
DTSTART;TZID=UTC:20300605T070000
DTEND;TZID=UTC:20300605T080000
DTSTAMP:20260424T063607
CREATED:20260217T163644Z
LAST-MODIFIED:20260306T015107Z
UID:10001971-1906873200-1906876800@thehohm.org
SUMMARY:Prayer Call
DESCRIPTION:
URL:https://thehohm.org/event_all/prayer-call/2030-06-05/
LOCATION:The House of Hope Macon Church\, 1909 Woodland Dr.\, Macon\, GA\, 31211\, United States
ATTACH;FMTTYPE=image/webp:https://thehohm.org/wp-content/uploads/2026/02/Prayer.webp
END:VEVENT
BEGIN:VEVENT
DTSTART;TZID=UTC:20300609T100000
DTEND;TZID=UTC:20300609T120000
DTSTAMP:20260424T063607
CREATED:20260212T041401Z
LAST-MODIFIED:20260306T015235Z
UID:10002063-1907229600-1907236800@thehohm.org
SUMMARY:Selfie Sunday
DESCRIPTION:
URL:https://thehohm.org/event_all/selfie-sunday/2030-06-09/
LOCATION:GA
END:VEVENT
BEGIN:VEVENT
DTSTART;TZID=UTC:20300611T190000
DTEND;TZID=UTC:20300611T200000
DTSTAMP:20260424T063607
CREATED:20260306T010456Z
LAST-MODIFIED:20260306T014407Z
UID:10001717-1907434800-1907438400@thehohm.org
SUMMARY:Lessons for Life Bible Study
DESCRIPTION:
URL:https://thehohm.org/event_all/lessons-for-life-bible-study-2/2030-06-11/
LOCATION:The House of Hope Macon Church\, 1909 Woodland Dr.\, Macon\, GA\, 31211\, United States
ATTACH;FMTTYPE=image/jpeg:https://thehohm.org/wp-content/uploads/2026/02/bible-study.jpg
END:VEVENT
BEGIN:VEVENT
DTSTART;TZID=UTC:20300611T190000
DTEND;TZID=UTC:20310610T200000
DTSTAMP:20260424T063607
CREATED:20260217T160347Z
LAST-MODIFIED:20260306T010444Z
UID:10000555-1907434800-1938888000@thehohm.org
SUMMARY:Lessons for Life Bible Study
DESCRIPTION:
URL:https://thehohm.org/event_all/lessons-for-life-bible-study/2030-06-11/
LOCATION:The House of Hope Macon Church\, 1909 Woodland Dr.\, Macon\, GA\, 31211\, United States
ATTACH;FMTTYPE=image/jpeg:https://thehohm.org/wp-content/uploads/2026/02/bible-study.jpg
END:VEVENT
BEGIN:VEVENT
DTSTART;TZID=UTC:20300612T070000
DTEND;TZID=UTC:20300612T080000
DTSTAMP:20260424T063607
CREATED:20260217T163644Z
LAST-MODIFIED:20260306T015107Z
UID:10001972-1907478000-1907481600@thehohm.org
SUMMARY:Prayer Call
DESCRIPTION:
URL:https://thehohm.org/event_all/prayer-call/2030-06-12/
LOCATION:The House of Hope Macon Church\, 1909 Woodland Dr.\, Macon\, GA\, 31211\, United States
ATTACH;FMTTYPE=image/webp:https://thehohm.org/wp-content/uploads/2026/02/Prayer.webp
END:VEVENT
BEGIN:VEVENT
DTSTART;TZID=UTC:20300618T190000
DTEND;TZID=UTC:20300618T200000
DTSTAMP:20260424T063607
CREATED:20260217T163337Z
LAST-MODIFIED:20260306T014753Z
UID:10001453-1908039600-1908043200@thehohm.org
SUMMARY:Talk Back Tuesday
DESCRIPTION:
URL:https://thehohm.org/event_all/talk-back-tuesday/2030-06-18/
LOCATION:The House of Hope Macon Church\, 1909 Woodland Dr.\, Macon\, GA\, 31211\, United States
ATTACH;FMTTYPE=image/webp:https://thehohm.org/wp-content/uploads/2026/02/talk-back.webp
END:VEVENT
BEGIN:VEVENT
DTSTART;TZID=UTC:20300618T190000
DTEND;TZID=UTC:20310617T200000
DTSTAMP:20260424T063607
CREATED:20260217T160347Z
LAST-MODIFIED:20260306T010444Z
UID:10000556-1908039600-1939492800@thehohm.org
SUMMARY:Lessons for Life Bible Study
DESCRIPTION:
URL:https://thehohm.org/event_all/lessons-for-life-bible-study/2030-06-18/
LOCATION:The House of Hope Macon Church\, 1909 Woodland Dr.\, Macon\, GA\, 31211\, United States
ATTACH;FMTTYPE=image/jpeg:https://thehohm.org/wp-content/uploads/2026/02/bible-study.jpg
END:VEVENT
BEGIN:VEVENT
DTSTART;TZID=UTC:20300619T070000
DTEND;TZID=UTC:20300619T080000
DTSTAMP:20260424T063607
CREATED:20260217T163644Z
LAST-MODIFIED:20260306T015107Z
UID:10001973-1908082800-1908086400@thehohm.org
SUMMARY:Prayer Call
DESCRIPTION:
URL:https://thehohm.org/event_all/prayer-call/2030-06-19/
LOCATION:The House of Hope Macon Church\, 1909 Woodland Dr.\, Macon\, GA\, 31211\, United States
ATTACH;FMTTYPE=image/webp:https://thehohm.org/wp-content/uploads/2026/02/Prayer.webp
END:VEVENT
BEGIN:VEVENT
DTSTART;TZID=UTC:20300625T190000
DTEND;TZID=UTC:20300625T200000
DTSTAMP:20260424T063607
CREATED:20260306T010456Z
LAST-MODIFIED:20260306T014407Z
UID:10001718-1908644400-1908648000@thehohm.org
SUMMARY:Lessons for Life Bible Study
DESCRIPTION:
URL:https://thehohm.org/event_all/lessons-for-life-bible-study-2/2030-06-25/
LOCATION:The House of Hope Macon Church\, 1909 Woodland Dr.\, Macon\, GA\, 31211\, United States
ATTACH;FMTTYPE=image/jpeg:https://thehohm.org/wp-content/uploads/2026/02/bible-study.jpg
END:VEVENT
BEGIN:VEVENT
DTSTART;TZID=UTC:20300625T190000
DTEND;TZID=UTC:20310624T200000
DTSTAMP:20260424T063607
CREATED:20260217T160347Z
LAST-MODIFIED:20260306T010444Z
UID:10000557-1908644400-1940097600@thehohm.org
SUMMARY:Lessons for Life Bible Study
DESCRIPTION:
URL:https://thehohm.org/event_all/lessons-for-life-bible-study/2030-06-25/
LOCATION:The House of Hope Macon Church\, 1909 Woodland Dr.\, Macon\, GA\, 31211\, United States
ATTACH;FMTTYPE=image/jpeg:https://thehohm.org/wp-content/uploads/2026/02/bible-study.jpg
END:VEVENT
BEGIN:VEVENT
DTSTART;TZID=UTC:20300626T070000
DTEND;TZID=UTC:20300626T080000
DTSTAMP:20260424T063607
CREATED:20260217T163644Z
LAST-MODIFIED:20260306T015107Z
UID:10001974-1908687600-1908691200@thehohm.org
SUMMARY:Prayer Call
DESCRIPTION:
URL:https://thehohm.org/event_all/prayer-call/2030-06-26/
LOCATION:The House of Hope Macon Church\, 1909 Woodland Dr.\, Macon\, GA\, 31211\, United States
ATTACH;FMTTYPE=image/webp:https://thehohm.org/wp-content/uploads/2026/02/Prayer.webp
END:VEVENT
BEGIN:VEVENT
DTSTART;TZID=UTC:20300702T190000
DTEND;TZID=UTC:20300702T200000
DTSTAMP:20260424T063607
CREATED:20260306T010456Z
LAST-MODIFIED:20260306T014407Z
UID:10001719-1909249200-1909252800@thehohm.org
SUMMARY:Lessons for Life Bible Study
DESCRIPTION:
URL:https://thehohm.org/event_all/lessons-for-life-bible-study-2/2030-07-02/
LOCATION:The House of Hope Macon Church\, 1909 Woodland Dr.\, Macon\, GA\, 31211\, United States
ATTACH;FMTTYPE=image/jpeg:https://thehohm.org/wp-content/uploads/2026/02/bible-study.jpg
END:VEVENT
BEGIN:VEVENT
DTSTART;TZID=UTC:20300702T190000
DTEND;TZID=UTC:20310701T200000
DTSTAMP:20260424T063607
CREATED:20260217T160347Z
LAST-MODIFIED:20260306T010444Z
UID:10000558-1909249200-1940702400@thehohm.org
SUMMARY:Lessons for Life Bible Study
DESCRIPTION:
URL:https://thehohm.org/event_all/lessons-for-life-bible-study/2030-07-02/
LOCATION:The House of Hope Macon Church\, 1909 Woodland Dr.\, Macon\, GA\, 31211\, United States
ATTACH;FMTTYPE=image/jpeg:https://thehohm.org/wp-content/uploads/2026/02/bible-study.jpg
END:VEVENT
BEGIN:VEVENT
DTSTART;TZID=UTC:20300703T070000
DTEND;TZID=UTC:20300703T080000
DTSTAMP:20260424T063607
CREATED:20260217T163644Z
LAST-MODIFIED:20260306T015107Z
UID:10001975-1909292400-1909296000@thehohm.org
SUMMARY:Prayer Call
DESCRIPTION:
URL:https://thehohm.org/event_all/prayer-call/2030-07-03/
LOCATION:The House of Hope Macon Church\, 1909 Woodland Dr.\, Macon\, GA\, 31211\, United States
ATTACH;FMTTYPE=image/webp:https://thehohm.org/wp-content/uploads/2026/02/Prayer.webp
END:VEVENT
BEGIN:VEVENT
DTSTART;TZID=UTC:20300707T100000
DTEND;TZID=UTC:20300707T120000
DTSTAMP:20260424T063607
CREATED:20260212T035455Z
LAST-MODIFIED:20260306T015732Z
UID:10002124-1909648800-1909656000@thehohm.org
SUMMARY:Communion Sunday
DESCRIPTION:
URL:https://thehohm.org/event_all/communion-sunday/2030-07-07/
LOCATION:GA
END:VEVENT
BEGIN:VEVENT
DTSTART;TZID=UTC:20300709T190000
DTEND;TZID=UTC:20300709T200000
DTSTAMP:20260424T063607
CREATED:20260306T010456Z
LAST-MODIFIED:20260306T014407Z
UID:10001720-1909854000-1909857600@thehohm.org
SUMMARY:Lessons for Life Bible Study
DESCRIPTION:
URL:https://thehohm.org/event_all/lessons-for-life-bible-study-2/2030-07-09/
LOCATION:The House of Hope Macon Church\, 1909 Woodland Dr.\, Macon\, GA\, 31211\, United States
ATTACH;FMTTYPE=image/jpeg:https://thehohm.org/wp-content/uploads/2026/02/bible-study.jpg
END:VEVENT
BEGIN:VEVENT
DTSTART;TZID=UTC:20300709T190000
DTEND;TZID=UTC:20310708T200000
DTSTAMP:20260424T063607
CREATED:20260217T160347Z
LAST-MODIFIED:20260306T010444Z
UID:10000559-1909854000-1941307200@thehohm.org
SUMMARY:Lessons for Life Bible Study
DESCRIPTION:
URL:https://thehohm.org/event_all/lessons-for-life-bible-study/2030-07-09/
LOCATION:The House of Hope Macon Church\, 1909 Woodland Dr.\, Macon\, GA\, 31211\, United States
ATTACH;FMTTYPE=image/jpeg:https://thehohm.org/wp-content/uploads/2026/02/bible-study.jpg
END:VEVENT
BEGIN:VEVENT
DTSTART;TZID=UTC:20300710T070000
DTEND;TZID=UTC:20300710T080000
DTSTAMP:20260424T063607
CREATED:20260217T163644Z
LAST-MODIFIED:20260306T015107Z
UID:10001976-1909897200-1909900800@thehohm.org
SUMMARY:Prayer Call
DESCRIPTION:
URL:https://thehohm.org/event_all/prayer-call/2030-07-10/
LOCATION:The House of Hope Macon Church\, 1909 Woodland Dr.\, Macon\, GA\, 31211\, United States
ATTACH;FMTTYPE=image/webp:https://thehohm.org/wp-content/uploads/2026/02/Prayer.webp
END:VEVENT
BEGIN:VEVENT
DTSTART;TZID=UTC:20300714T100000
DTEND;TZID=UTC:20300714T120000
DTSTAMP:20260424T063607
CREATED:20260212T041401Z
LAST-MODIFIED:20260306T015235Z
UID:10002064-1910253600-1910260800@thehohm.org
SUMMARY:Selfie Sunday
DESCRIPTION:
URL:https://thehohm.org/event_all/selfie-sunday/2030-07-14/
LOCATION:GA
END:VEVENT
BEGIN:VEVENT
DTSTART;TZID=UTC:20300716T190000
DTEND;TZID=UTC:20300716T200000
DTSTAMP:20260424T063607
CREATED:20260217T163337Z
LAST-MODIFIED:20260306T014753Z
UID:10001454-1910458800-1910462400@thehohm.org
SUMMARY:Talk Back Tuesday
DESCRIPTION:
URL:https://thehohm.org/event_all/talk-back-tuesday/2030-07-16/
LOCATION:The House of Hope Macon Church\, 1909 Woodland Dr.\, Macon\, GA\, 31211\, United States
ATTACH;FMTTYPE=image/webp:https://thehohm.org/wp-content/uploads/2026/02/talk-back.webp
END:VEVENT
BEGIN:VEVENT
DTSTART;TZID=UTC:20300716T190000
DTEND;TZID=UTC:20310715T200000
DTSTAMP:20260424T063607
CREATED:20260217T160347Z
LAST-MODIFIED:20260306T010444Z
UID:10000560-1910458800-1941912000@thehohm.org
SUMMARY:Lessons for Life Bible Study
DESCRIPTION:
URL:https://thehohm.org/event_all/lessons-for-life-bible-study/2030-07-16/
LOCATION:The House of Hope Macon Church\, 1909 Woodland Dr.\, Macon\, GA\, 31211\, United States
ATTACH;FMTTYPE=image/jpeg:https://thehohm.org/wp-content/uploads/2026/02/bible-study.jpg
END:VEVENT
BEGIN:VEVENT
DTSTART;TZID=UTC:20300717T070000
DTEND;TZID=UTC:20300717T080000
DTSTAMP:20260424T063607
CREATED:20260217T163644Z
LAST-MODIFIED:20260306T015107Z
UID:10001977-1910502000-1910505600@thehohm.org
SUMMARY:Prayer Call
DESCRIPTION:
URL:https://thehohm.org/event_all/prayer-call/2030-07-17/
LOCATION:The House of Hope Macon Church\, 1909 Woodland Dr.\, Macon\, GA\, 31211\, United States
ATTACH;FMTTYPE=image/webp:https://thehohm.org/wp-content/uploads/2026/02/Prayer.webp
END:VEVENT
BEGIN:VEVENT
DTSTART;TZID=UTC:20300723T190000
DTEND;TZID=UTC:20300723T200000
DTSTAMP:20260424T063607
CREATED:20260306T010456Z
LAST-MODIFIED:20260306T014407Z
UID:10001721-1911063600-1911067200@thehohm.org
SUMMARY:Lessons for Life Bible Study
DESCRIPTION:
URL:https://thehohm.org/event_all/lessons-for-life-bible-study-2/2030-07-23/
LOCATION:The House of Hope Macon Church\, 1909 Woodland Dr.\, Macon\, GA\, 31211\, United States
ATTACH;FMTTYPE=image/jpeg:https://thehohm.org/wp-content/uploads/2026/02/bible-study.jpg
END:VEVENT
END:VCALENDAR