BEGIN:VCALENDAR
VERSION:2.0
PRODID:-//House of Hope Macon - ECPv6.15.17//NONSGML v1.0//EN
CALSCALE:GREGORIAN
METHOD:PUBLISH
X-WR-CALNAME:House of Hope Macon
X-ORIGINAL-URL:https://thehohm.org
X-WR-CALDESC:Events for House of Hope Macon
REFRESH-INTERVAL;VALUE=DURATION:PT1H
X-Robots-Tag:noindex
X-PUBLISHED-TTL:PT1H
BEGIN:VTIMEZONE
TZID:UTC
BEGIN:STANDARD
TZOFFSETFROM:+0000
TZOFFSETTO:+0000
TZNAME:UTC
DTSTART:20290101T000000
END:STANDARD
END:VTIMEZONE
BEGIN:VEVENT
DTSTART;TZID=UTC:20300122T190000
DTEND;TZID=UTC:20310121T200000
DTSTAMP:20260423T201732
CREATED:20260217T160347Z
LAST-MODIFIED:20260306T010444Z
UID:10000535-1895338800-1926792000@thehohm.org
SUMMARY:Lessons for Life Bible Study
DESCRIPTION:
URL:https://thehohm.org/event_all/lessons-for-life-bible-study/2030-01-22/
LOCATION:The House of Hope Macon Church\, 1909 Woodland Dr.\, Macon\, GA\, 31211\, United States
ATTACH;FMTTYPE=image/jpeg:https://thehohm.org/wp-content/uploads/2026/02/bible-study.jpg
END:VEVENT
BEGIN:VEVENT
DTSTART;TZID=UTC:20300123T070000
DTEND;TZID=UTC:20300123T080000
DTSTAMP:20260423T201732
CREATED:20260217T163644Z
LAST-MODIFIED:20260306T015107Z
UID:10001952-1895382000-1895385600@thehohm.org
SUMMARY:Prayer Call
DESCRIPTION:
URL:https://thehohm.org/event_all/prayer-call/2030-01-23/
LOCATION:The House of Hope Macon Church\, 1909 Woodland Dr.\, Macon\, GA\, 31211\, United States
ATTACH;FMTTYPE=image/webp:https://thehohm.org/wp-content/uploads/2026/02/Prayer.webp
END:VEVENT
BEGIN:VEVENT
DTSTART;TZID=UTC:20300129T190000
DTEND;TZID=UTC:20300129T200000
DTSTAMP:20260423T201732
CREATED:20260306T010456Z
LAST-MODIFIED:20260306T014407Z
UID:10001702-1895943600-1895947200@thehohm.org
SUMMARY:Lessons for Life Bible Study
DESCRIPTION:
URL:https://thehohm.org/event_all/lessons-for-life-bible-study-2/2030-01-29/
LOCATION:The House of Hope Macon Church\, 1909 Woodland Dr.\, Macon\, GA\, 31211\, United States
ATTACH;FMTTYPE=image/jpeg:https://thehohm.org/wp-content/uploads/2026/02/bible-study.jpg
END:VEVENT
BEGIN:VEVENT
DTSTART;TZID=UTC:20300129T190000
DTEND;TZID=UTC:20310128T200000
DTSTAMP:20260423T201732
CREATED:20260217T160347Z
LAST-MODIFIED:20260306T010444Z
UID:10000536-1895943600-1927396800@thehohm.org
SUMMARY:Lessons for Life Bible Study
DESCRIPTION:
URL:https://thehohm.org/event_all/lessons-for-life-bible-study/2030-01-29/
LOCATION:The House of Hope Macon Church\, 1909 Woodland Dr.\, Macon\, GA\, 31211\, United States
ATTACH;FMTTYPE=image/jpeg:https://thehohm.org/wp-content/uploads/2026/02/bible-study.jpg
END:VEVENT
BEGIN:VEVENT
DTSTART;TZID=UTC:20300130T070000
DTEND;TZID=UTC:20300130T080000
DTSTAMP:20260423T201732
CREATED:20260217T163644Z
LAST-MODIFIED:20260306T015107Z
UID:10001953-1895986800-1895990400@thehohm.org
SUMMARY:Prayer Call
DESCRIPTION:
URL:https://thehohm.org/event_all/prayer-call/2030-01-30/
LOCATION:The House of Hope Macon Church\, 1909 Woodland Dr.\, Macon\, GA\, 31211\, United States
ATTACH;FMTTYPE=image/webp:https://thehohm.org/wp-content/uploads/2026/02/Prayer.webp
END:VEVENT
BEGIN:VEVENT
DTSTART;TZID=UTC:20300203T100000
DTEND;TZID=UTC:20300203T120000
DTSTAMP:20260423T201732
CREATED:20260212T035455Z
LAST-MODIFIED:20260306T015732Z
UID:10002119-1896343200-1896350400@thehohm.org
SUMMARY:Communion Sunday
DESCRIPTION:
URL:https://thehohm.org/event_all/communion-sunday/2030-02-03/
LOCATION:GA
END:VEVENT
BEGIN:VEVENT
DTSTART;TZID=UTC:20300205T190000
DTEND;TZID=UTC:20300205T200000
DTSTAMP:20260423T201732
CREATED:20260306T010456Z
LAST-MODIFIED:20260306T014407Z
UID:10001703-1896548400-1896552000@thehohm.org
SUMMARY:Lessons for Life Bible Study
DESCRIPTION:
URL:https://thehohm.org/event_all/lessons-for-life-bible-study-2/2030-02-05/
LOCATION:The House of Hope Macon Church\, 1909 Woodland Dr.\, Macon\, GA\, 31211\, United States
ATTACH;FMTTYPE=image/jpeg:https://thehohm.org/wp-content/uploads/2026/02/bible-study.jpg
END:VEVENT
BEGIN:VEVENT
DTSTART;TZID=UTC:20300205T190000
DTEND;TZID=UTC:20310204T200000
DTSTAMP:20260423T201732
CREATED:20260217T160347Z
LAST-MODIFIED:20260306T010444Z
UID:10000537-1896548400-1928001600@thehohm.org
SUMMARY:Lessons for Life Bible Study
DESCRIPTION:
URL:https://thehohm.org/event_all/lessons-for-life-bible-study/2030-02-05/
LOCATION:The House of Hope Macon Church\, 1909 Woodland Dr.\, Macon\, GA\, 31211\, United States
ATTACH;FMTTYPE=image/jpeg:https://thehohm.org/wp-content/uploads/2026/02/bible-study.jpg
END:VEVENT
BEGIN:VEVENT
DTSTART;TZID=UTC:20300206T070000
DTEND;TZID=UTC:20300206T080000
DTSTAMP:20260423T201732
CREATED:20260217T163644Z
LAST-MODIFIED:20260306T015107Z
UID:10001954-1896591600-1896595200@thehohm.org
SUMMARY:Prayer Call
DESCRIPTION:
URL:https://thehohm.org/event_all/prayer-call/2030-02-06/
LOCATION:The House of Hope Macon Church\, 1909 Woodland Dr.\, Macon\, GA\, 31211\, United States
ATTACH;FMTTYPE=image/webp:https://thehohm.org/wp-content/uploads/2026/02/Prayer.webp
END:VEVENT
BEGIN:VEVENT
DTSTART;TZID=UTC:20300210T100000
DTEND;TZID=UTC:20300210T120000
DTSTAMP:20260423T201732
CREATED:20260212T041401Z
LAST-MODIFIED:20260306T015235Z
UID:10002059-1896948000-1896955200@thehohm.org
SUMMARY:Selfie Sunday
DESCRIPTION:
URL:https://thehohm.org/event_all/selfie-sunday/2030-02-10/
LOCATION:GA
END:VEVENT
BEGIN:VEVENT
DTSTART;TZID=UTC:20300212T190000
DTEND;TZID=UTC:20300212T200000
DTSTAMP:20260423T201732
CREATED:20260306T010456Z
LAST-MODIFIED:20260306T014407Z
UID:10001704-1897153200-1897156800@thehohm.org
SUMMARY:Lessons for Life Bible Study
DESCRIPTION:
URL:https://thehohm.org/event_all/lessons-for-life-bible-study-2/2030-02-12/
LOCATION:The House of Hope Macon Church\, 1909 Woodland Dr.\, Macon\, GA\, 31211\, United States
ATTACH;FMTTYPE=image/jpeg:https://thehohm.org/wp-content/uploads/2026/02/bible-study.jpg
END:VEVENT
BEGIN:VEVENT
DTSTART;TZID=UTC:20300212T190000
DTEND;TZID=UTC:20310211T200000
DTSTAMP:20260423T201732
CREATED:20260217T160347Z
LAST-MODIFIED:20260306T010444Z
UID:10000538-1897153200-1928606400@thehohm.org
SUMMARY:Lessons for Life Bible Study
DESCRIPTION:
URL:https://thehohm.org/event_all/lessons-for-life-bible-study/2030-02-12/
LOCATION:The House of Hope Macon Church\, 1909 Woodland Dr.\, Macon\, GA\, 31211\, United States
ATTACH;FMTTYPE=image/jpeg:https://thehohm.org/wp-content/uploads/2026/02/bible-study.jpg
END:VEVENT
BEGIN:VEVENT
DTSTART;TZID=UTC:20300213T070000
DTEND;TZID=UTC:20300213T080000
DTSTAMP:20260423T201732
CREATED:20260217T163644Z
LAST-MODIFIED:20260306T015107Z
UID:10001955-1897196400-1897200000@thehohm.org
SUMMARY:Prayer Call
DESCRIPTION:
URL:https://thehohm.org/event_all/prayer-call/2030-02-13/
LOCATION:The House of Hope Macon Church\, 1909 Woodland Dr.\, Macon\, GA\, 31211\, United States
ATTACH;FMTTYPE=image/webp:https://thehohm.org/wp-content/uploads/2026/02/Prayer.webp
END:VEVENT
BEGIN:VEVENT
DTSTART;TZID=UTC:20300219T190000
DTEND;TZID=UTC:20300219T200000
DTSTAMP:20260423T201732
CREATED:20260217T163337Z
LAST-MODIFIED:20260306T014753Z
UID:10001451-1897758000-1897761600@thehohm.org
SUMMARY:Talk Back Tuesday
DESCRIPTION:
URL:https://thehohm.org/event_all/talk-back-tuesday/2030-02-19/
LOCATION:The House of Hope Macon Church\, 1909 Woodland Dr.\, Macon\, GA\, 31211\, United States
ATTACH;FMTTYPE=image/webp:https://thehohm.org/wp-content/uploads/2026/02/talk-back.webp
END:VEVENT
BEGIN:VEVENT
DTSTART;TZID=UTC:20300219T190000
DTEND;TZID=UTC:20310218T200000
DTSTAMP:20260423T201732
CREATED:20260217T160347Z
LAST-MODIFIED:20260306T010444Z
UID:10000539-1897758000-1929211200@thehohm.org
SUMMARY:Lessons for Life Bible Study
DESCRIPTION:
URL:https://thehohm.org/event_all/lessons-for-life-bible-study/2030-02-19/
LOCATION:The House of Hope Macon Church\, 1909 Woodland Dr.\, Macon\, GA\, 31211\, United States
ATTACH;FMTTYPE=image/jpeg:https://thehohm.org/wp-content/uploads/2026/02/bible-study.jpg
END:VEVENT
BEGIN:VEVENT
DTSTART;TZID=UTC:20300220T070000
DTEND;TZID=UTC:20300220T080000
DTSTAMP:20260423T201732
CREATED:20260217T163644Z
LAST-MODIFIED:20260306T015107Z
UID:10001956-1897801200-1897804800@thehohm.org
SUMMARY:Prayer Call
DESCRIPTION:
URL:https://thehohm.org/event_all/prayer-call/2030-02-20/
LOCATION:The House of Hope Macon Church\, 1909 Woodland Dr.\, Macon\, GA\, 31211\, United States
ATTACH;FMTTYPE=image/webp:https://thehohm.org/wp-content/uploads/2026/02/Prayer.webp
END:VEVENT
BEGIN:VEVENT
DTSTART;TZID=UTC:20300226T190000
DTEND;TZID=UTC:20300226T200000
DTSTAMP:20260423T201732
CREATED:20260306T010456Z
LAST-MODIFIED:20260306T014407Z
UID:10001705-1898362800-1898366400@thehohm.org
SUMMARY:Lessons for Life Bible Study
DESCRIPTION:
URL:https://thehohm.org/event_all/lessons-for-life-bible-study-2/2030-02-26/
LOCATION:The House of Hope Macon Church\, 1909 Woodland Dr.\, Macon\, GA\, 31211\, United States
ATTACH;FMTTYPE=image/jpeg:https://thehohm.org/wp-content/uploads/2026/02/bible-study.jpg
END:VEVENT
BEGIN:VEVENT
DTSTART;TZID=UTC:20300226T190000
DTEND;TZID=UTC:20310225T200000
DTSTAMP:20260423T201732
CREATED:20260217T160347Z
LAST-MODIFIED:20260306T010444Z
UID:10000540-1898362800-1929816000@thehohm.org
SUMMARY:Lessons for Life Bible Study
DESCRIPTION:
URL:https://thehohm.org/event_all/lessons-for-life-bible-study/2030-02-26/
LOCATION:The House of Hope Macon Church\, 1909 Woodland Dr.\, Macon\, GA\, 31211\, United States
ATTACH;FMTTYPE=image/jpeg:https://thehohm.org/wp-content/uploads/2026/02/bible-study.jpg
END:VEVENT
BEGIN:VEVENT
DTSTART;TZID=UTC:20300227T070000
DTEND;TZID=UTC:20300227T080000
DTSTAMP:20260423T201732
CREATED:20260217T163644Z
LAST-MODIFIED:20260306T015107Z
UID:10001957-1898406000-1898409600@thehohm.org
SUMMARY:Prayer Call
DESCRIPTION:
URL:https://thehohm.org/event_all/prayer-call/2030-02-27/
LOCATION:The House of Hope Macon Church\, 1909 Woodland Dr.\, Macon\, GA\, 31211\, United States
ATTACH;FMTTYPE=image/webp:https://thehohm.org/wp-content/uploads/2026/02/Prayer.webp
END:VEVENT
BEGIN:VEVENT
DTSTART;TZID=UTC:20300303T100000
DTEND;TZID=UTC:20300303T120000
DTSTAMP:20260423T201732
CREATED:20260212T035455Z
LAST-MODIFIED:20260306T015732Z
UID:10002120-1898762400-1898769600@thehohm.org
SUMMARY:Communion Sunday
DESCRIPTION:
URL:https://thehohm.org/event_all/communion-sunday/2030-03-03/
LOCATION:GA
END:VEVENT
BEGIN:VEVENT
DTSTART;TZID=UTC:20300305T190000
DTEND;TZID=UTC:20300305T200000
DTSTAMP:20260423T201732
CREATED:20260306T010456Z
LAST-MODIFIED:20260306T014407Z
UID:10001706-1898967600-1898971200@thehohm.org
SUMMARY:Lessons for Life Bible Study
DESCRIPTION:
URL:https://thehohm.org/event_all/lessons-for-life-bible-study-2/2030-03-05/
LOCATION:The House of Hope Macon Church\, 1909 Woodland Dr.\, Macon\, GA\, 31211\, United States
ATTACH;FMTTYPE=image/jpeg:https://thehohm.org/wp-content/uploads/2026/02/bible-study.jpg
END:VEVENT
BEGIN:VEVENT
DTSTART;TZID=UTC:20300305T190000
DTEND;TZID=UTC:20310304T200000
DTSTAMP:20260423T201732
CREATED:20260217T160347Z
LAST-MODIFIED:20260306T010444Z
UID:10000541-1898967600-1930420800@thehohm.org
SUMMARY:Lessons for Life Bible Study
DESCRIPTION:
URL:https://thehohm.org/event_all/lessons-for-life-bible-study/2030-03-05/
LOCATION:The House of Hope Macon Church\, 1909 Woodland Dr.\, Macon\, GA\, 31211\, United States
ATTACH;FMTTYPE=image/jpeg:https://thehohm.org/wp-content/uploads/2026/02/bible-study.jpg
END:VEVENT
BEGIN:VEVENT
DTSTART;TZID=UTC:20300306T070000
DTEND;TZID=UTC:20300306T080000
DTSTAMP:20260423T201732
CREATED:20260217T163644Z
LAST-MODIFIED:20260306T015107Z
UID:10001958-1899010800-1899014400@thehohm.org
SUMMARY:Prayer Call
DESCRIPTION:
URL:https://thehohm.org/event_all/prayer-call/2030-03-06/
LOCATION:The House of Hope Macon Church\, 1909 Woodland Dr.\, Macon\, GA\, 31211\, United States
ATTACH;FMTTYPE=image/webp:https://thehohm.org/wp-content/uploads/2026/02/Prayer.webp
END:VEVENT
BEGIN:VEVENT
DTSTART;TZID=UTC:20300310T100000
DTEND;TZID=UTC:20300310T120000
DTSTAMP:20260423T201732
CREATED:20260212T041401Z
LAST-MODIFIED:20260306T015235Z
UID:10002060-1899367200-1899374400@thehohm.org
SUMMARY:Selfie Sunday
DESCRIPTION:
URL:https://thehohm.org/event_all/selfie-sunday/2030-03-10/
LOCATION:GA
END:VEVENT
BEGIN:VEVENT
DTSTART;TZID=UTC:20300312T190000
DTEND;TZID=UTC:20300312T200000
DTSTAMP:20260423T201732
CREATED:20260306T010456Z
LAST-MODIFIED:20260306T014407Z
UID:10001707-1899572400-1899576000@thehohm.org
SUMMARY:Lessons for Life Bible Study
DESCRIPTION:
URL:https://thehohm.org/event_all/lessons-for-life-bible-study-2/2030-03-12/
LOCATION:The House of Hope Macon Church\, 1909 Woodland Dr.\, Macon\, GA\, 31211\, United States
ATTACH;FMTTYPE=image/jpeg:https://thehohm.org/wp-content/uploads/2026/02/bible-study.jpg
END:VEVENT
BEGIN:VEVENT
DTSTART;TZID=UTC:20300312T190000
DTEND;TZID=UTC:20310311T200000
DTSTAMP:20260423T201732
CREATED:20260217T160347Z
LAST-MODIFIED:20260306T010444Z
UID:10000542-1899572400-1931025600@thehohm.org
SUMMARY:Lessons for Life Bible Study
DESCRIPTION:
URL:https://thehohm.org/event_all/lessons-for-life-bible-study/2030-03-12/
LOCATION:The House of Hope Macon Church\, 1909 Woodland Dr.\, Macon\, GA\, 31211\, United States
ATTACH;FMTTYPE=image/jpeg:https://thehohm.org/wp-content/uploads/2026/02/bible-study.jpg
END:VEVENT
BEGIN:VEVENT
DTSTART;TZID=UTC:20300313T070000
DTEND;TZID=UTC:20300313T080000
DTSTAMP:20260423T201732
CREATED:20260217T163644Z
LAST-MODIFIED:20260306T015107Z
UID:10001959-1899615600-1899619200@thehohm.org
SUMMARY:Prayer Call
DESCRIPTION:
URL:https://thehohm.org/event_all/prayer-call/2030-03-13/
LOCATION:The House of Hope Macon Church\, 1909 Woodland Dr.\, Macon\, GA\, 31211\, United States
ATTACH;FMTTYPE=image/webp:https://thehohm.org/wp-content/uploads/2026/02/Prayer.webp
END:VEVENT
BEGIN:VEVENT
DTSTART;TZID=UTC:20300319T190000
DTEND;TZID=UTC:20300319T200000
DTSTAMP:20260423T201732
CREATED:20260217T163337Z
LAST-MODIFIED:20260306T014753Z
UID:10000692-1900177200-1900180800@thehohm.org
SUMMARY:Talk Back Tuesday
DESCRIPTION:
URL:https://thehohm.org/event_all/talk-back-tuesday/2030-03-19/
LOCATION:The House of Hope Macon Church\, 1909 Woodland Dr.\, Macon\, GA\, 31211\, United States
ATTACH;FMTTYPE=image/webp:https://thehohm.org/wp-content/uploads/2026/02/talk-back.webp
END:VEVENT
BEGIN:VEVENT
DTSTART;TZID=UTC:20300319T190000
DTEND;TZID=UTC:20310318T200000
DTSTAMP:20260423T201732
CREATED:20260217T160347Z
LAST-MODIFIED:20260306T010444Z
UID:10000543-1900177200-1931630400@thehohm.org
SUMMARY:Lessons for Life Bible Study
DESCRIPTION:
URL:https://thehohm.org/event_all/lessons-for-life-bible-study/2030-03-19/
LOCATION:The House of Hope Macon Church\, 1909 Woodland Dr.\, Macon\, GA\, 31211\, United States
ATTACH;FMTTYPE=image/jpeg:https://thehohm.org/wp-content/uploads/2026/02/bible-study.jpg
END:VEVENT
BEGIN:VEVENT
DTSTART;TZID=UTC:20300320T070000
DTEND;TZID=UTC:20300320T080000
DTSTAMP:20260423T201732
CREATED:20260217T163644Z
LAST-MODIFIED:20260306T015107Z
UID:10001960-1900220400-1900224000@thehohm.org
SUMMARY:Prayer Call
DESCRIPTION:
URL:https://thehohm.org/event_all/prayer-call/2030-03-20/
LOCATION:The House of Hope Macon Church\, 1909 Woodland Dr.\, Macon\, GA\, 31211\, United States
ATTACH;FMTTYPE=image/webp:https://thehohm.org/wp-content/uploads/2026/02/Prayer.webp
END:VEVENT
END:VCALENDAR