BEGIN:VCALENDAR
VERSION:2.0
PRODID:-//House of Hope Macon - ECPv6.15.17//NONSGML v1.0//EN
CALSCALE:GREGORIAN
METHOD:PUBLISH
X-ORIGINAL-URL:https://thehohm.org
X-WR-CALDESC:Events for House of Hope Macon
REFRESH-INTERVAL;VALUE=DURATION:PT1H
X-Robots-Tag:noindex
X-PUBLISHED-TTL:PT1H
BEGIN:VTIMEZONE
TZID:UTC
BEGIN:STANDARD
TZOFFSETFROM:+0000
TZOFFSETTO:+0000
TZNAME:UTC
DTSTART:20280101T000000
END:STANDARD
END:VTIMEZONE
BEGIN:VEVENT
DTSTART;TZID=UTC:20290909T100000
DTEND;TZID=UTC:20290909T120000
DTSTAMP:20260423T072633
CREATED:20260212T041401Z
LAST-MODIFIED:20260306T015235Z
UID:10002054-1883642400-1883649600@thehohm.org
SUMMARY:Selfie Sunday
DESCRIPTION:
URL:https://thehohm.org/event_all/selfie-sunday/2029-09-09/
LOCATION:GA
END:VEVENT
BEGIN:VEVENT
DTSTART;TZID=UTC:20290911T190000
DTEND;TZID=UTC:20290911T200000
DTSTAMP:20260423T072633
CREATED:20260306T010456Z
LAST-MODIFIED:20260306T014407Z
UID:10001687-1883847600-1883851200@thehohm.org
SUMMARY:Lessons for Life Bible Study
DESCRIPTION:
URL:https://thehohm.org/event_all/lessons-for-life-bible-study-2/2029-09-11/
LOCATION:The House of Hope Macon Church\, 1909 Woodland Dr.\, Macon\, GA\, 31211\, United States
ATTACH;FMTTYPE=image/jpeg:https://thehohm.org/wp-content/uploads/2026/02/bible-study.jpg
END:VEVENT
BEGIN:VEVENT
DTSTART;TZID=UTC:20290911T190000
DTEND;TZID=UTC:20300910T200000
DTSTAMP:20260423T072633
CREATED:20260217T160347Z
LAST-MODIFIED:20260306T010444Z
UID:10000516-1883847600-1915300800@thehohm.org
SUMMARY:Lessons for Life Bible Study
DESCRIPTION:
URL:https://thehohm.org/event_all/lessons-for-life-bible-study/2029-09-11/
LOCATION:The House of Hope Macon Church\, 1909 Woodland Dr.\, Macon\, GA\, 31211\, United States
ATTACH;FMTTYPE=image/jpeg:https://thehohm.org/wp-content/uploads/2026/02/bible-study.jpg
END:VEVENT
BEGIN:VEVENT
DTSTART;TZID=UTC:20290912T070000
DTEND;TZID=UTC:20290912T080000
DTSTAMP:20260423T072633
CREATED:20260217T163644Z
LAST-MODIFIED:20260306T015107Z
UID:10001933-1883890800-1883894400@thehohm.org
SUMMARY:Prayer Call
DESCRIPTION:
URL:https://thehohm.org/event_all/prayer-call/2029-09-12/
LOCATION:The House of Hope Macon Church\, 1909 Woodland Dr.\, Macon\, GA\, 31211\, United States
ATTACH;FMTTYPE=image/webp:https://thehohm.org/wp-content/uploads/2026/02/Prayer.webp
END:VEVENT
BEGIN:VEVENT
DTSTART;TZID=UTC:20290918T190000
DTEND;TZID=UTC:20290918T200000
DTSTAMP:20260423T072633
CREATED:20260217T163337Z
LAST-MODIFIED:20260306T014753Z
UID:10001447-1884452400-1884456000@thehohm.org
SUMMARY:Talk Back Tuesday
DESCRIPTION:
URL:https://thehohm.org/event_all/talk-back-tuesday/2029-09-18/
LOCATION:The House of Hope Macon Church\, 1909 Woodland Dr.\, Macon\, GA\, 31211\, United States
ATTACH;FMTTYPE=image/webp:https://thehohm.org/wp-content/uploads/2026/02/talk-back.webp
END:VEVENT
BEGIN:VEVENT
DTSTART;TZID=UTC:20290918T190000
DTEND;TZID=UTC:20300917T200000
DTSTAMP:20260423T072633
CREATED:20260217T160347Z
LAST-MODIFIED:20260306T010444Z
UID:10000517-1884452400-1915905600@thehohm.org
SUMMARY:Lessons for Life Bible Study
DESCRIPTION:
URL:https://thehohm.org/event_all/lessons-for-life-bible-study/2029-09-18/
LOCATION:The House of Hope Macon Church\, 1909 Woodland Dr.\, Macon\, GA\, 31211\, United States
ATTACH;FMTTYPE=image/jpeg:https://thehohm.org/wp-content/uploads/2026/02/bible-study.jpg
END:VEVENT
BEGIN:VEVENT
DTSTART;TZID=UTC:20290919T070000
DTEND;TZID=UTC:20290919T080000
DTSTAMP:20260423T072633
CREATED:20260217T163644Z
LAST-MODIFIED:20260306T015107Z
UID:10001934-1884495600-1884499200@thehohm.org
SUMMARY:Prayer Call
DESCRIPTION:
URL:https://thehohm.org/event_all/prayer-call/2029-09-19/
LOCATION:The House of Hope Macon Church\, 1909 Woodland Dr.\, Macon\, GA\, 31211\, United States
ATTACH;FMTTYPE=image/webp:https://thehohm.org/wp-content/uploads/2026/02/Prayer.webp
END:VEVENT
BEGIN:VEVENT
DTSTART;TZID=UTC:20290925T190000
DTEND;TZID=UTC:20290925T200000
DTSTAMP:20260423T072633
CREATED:20260306T010456Z
LAST-MODIFIED:20260306T014407Z
UID:10001688-1885057200-1885060800@thehohm.org
SUMMARY:Lessons for Life Bible Study
DESCRIPTION:
URL:https://thehohm.org/event_all/lessons-for-life-bible-study-2/2029-09-25/
LOCATION:The House of Hope Macon Church\, 1909 Woodland Dr.\, Macon\, GA\, 31211\, United States
ATTACH;FMTTYPE=image/jpeg:https://thehohm.org/wp-content/uploads/2026/02/bible-study.jpg
END:VEVENT
BEGIN:VEVENT
DTSTART;TZID=UTC:20290925T190000
DTEND;TZID=UTC:20300924T200000
DTSTAMP:20260423T072633
CREATED:20260217T160347Z
LAST-MODIFIED:20260306T010444Z
UID:10000518-1885057200-1916510400@thehohm.org
SUMMARY:Lessons for Life Bible Study
DESCRIPTION:
URL:https://thehohm.org/event_all/lessons-for-life-bible-study/2029-09-25/
LOCATION:The House of Hope Macon Church\, 1909 Woodland Dr.\, Macon\, GA\, 31211\, United States
ATTACH;FMTTYPE=image/jpeg:https://thehohm.org/wp-content/uploads/2026/02/bible-study.jpg
END:VEVENT
BEGIN:VEVENT
DTSTART;TZID=UTC:20290926T070000
DTEND;TZID=UTC:20290926T080000
DTSTAMP:20260423T072633
CREATED:20260217T163644Z
LAST-MODIFIED:20260306T015107Z
UID:10001935-1885100400-1885104000@thehohm.org
SUMMARY:Prayer Call
DESCRIPTION:
URL:https://thehohm.org/event_all/prayer-call/2029-09-26/
LOCATION:The House of Hope Macon Church\, 1909 Woodland Dr.\, Macon\, GA\, 31211\, United States
ATTACH;FMTTYPE=image/webp:https://thehohm.org/wp-content/uploads/2026/02/Prayer.webp
END:VEVENT
BEGIN:VEVENT
DTSTART;TZID=UTC:20291002T190000
DTEND;TZID=UTC:20291002T200000
DTSTAMP:20260423T072633
CREATED:20260306T010456Z
LAST-MODIFIED:20260306T014407Z
UID:10001689-1885662000-1885665600@thehohm.org
SUMMARY:Lessons for Life Bible Study
DESCRIPTION:
URL:https://thehohm.org/event_all/lessons-for-life-bible-study-2/2029-10-02/
LOCATION:The House of Hope Macon Church\, 1909 Woodland Dr.\, Macon\, GA\, 31211\, United States
ATTACH;FMTTYPE=image/jpeg:https://thehohm.org/wp-content/uploads/2026/02/bible-study.jpg
END:VEVENT
BEGIN:VEVENT
DTSTART;TZID=UTC:20291002T190000
DTEND;TZID=UTC:20301001T200000
DTSTAMP:20260423T072633
CREATED:20260217T160347Z
LAST-MODIFIED:20260306T010444Z
UID:10000519-1885662000-1917115200@thehohm.org
SUMMARY:Lessons for Life Bible Study
DESCRIPTION:
URL:https://thehohm.org/event_all/lessons-for-life-bible-study/2029-10-02/
LOCATION:The House of Hope Macon Church\, 1909 Woodland Dr.\, Macon\, GA\, 31211\, United States
ATTACH;FMTTYPE=image/jpeg:https://thehohm.org/wp-content/uploads/2026/02/bible-study.jpg
END:VEVENT
BEGIN:VEVENT
DTSTART;TZID=UTC:20291003T070000
DTEND;TZID=UTC:20291003T080000
DTSTAMP:20260423T072633
CREATED:20260217T163644Z
LAST-MODIFIED:20260306T015107Z
UID:10001936-1885705200-1885708800@thehohm.org
SUMMARY:Prayer Call
DESCRIPTION:
URL:https://thehohm.org/event_all/prayer-call/2029-10-03/
LOCATION:The House of Hope Macon Church\, 1909 Woodland Dr.\, Macon\, GA\, 31211\, United States
ATTACH;FMTTYPE=image/webp:https://thehohm.org/wp-content/uploads/2026/02/Prayer.webp
END:VEVENT
BEGIN:VEVENT
DTSTART;TZID=UTC:20291007T100000
DTEND;TZID=UTC:20291007T120000
DTSTAMP:20260423T072633
CREATED:20260212T035455Z
LAST-MODIFIED:20260306T015732Z
UID:10002115-1886061600-1886068800@thehohm.org
SUMMARY:Communion Sunday
DESCRIPTION:
URL:https://thehohm.org/event_all/communion-sunday/2029-10-07/
LOCATION:GA
END:VEVENT
BEGIN:VEVENT
DTSTART;TZID=UTC:20291009T190000
DTEND;TZID=UTC:20291009T200000
DTSTAMP:20260423T072633
CREATED:20260306T010456Z
LAST-MODIFIED:20260306T014407Z
UID:10001690-1886266800-1886270400@thehohm.org
SUMMARY:Lessons for Life Bible Study
DESCRIPTION:
URL:https://thehohm.org/event_all/lessons-for-life-bible-study-2/2029-10-09/
LOCATION:The House of Hope Macon Church\, 1909 Woodland Dr.\, Macon\, GA\, 31211\, United States
ATTACH;FMTTYPE=image/jpeg:https://thehohm.org/wp-content/uploads/2026/02/bible-study.jpg
END:VEVENT
BEGIN:VEVENT
DTSTART;TZID=UTC:20291009T190000
DTEND;TZID=UTC:20301008T200000
DTSTAMP:20260423T072633
CREATED:20260217T160347Z
LAST-MODIFIED:20260306T010444Z
UID:10000520-1886266800-1917720000@thehohm.org
SUMMARY:Lessons for Life Bible Study
DESCRIPTION:
URL:https://thehohm.org/event_all/lessons-for-life-bible-study/2029-10-09/
LOCATION:The House of Hope Macon Church\, 1909 Woodland Dr.\, Macon\, GA\, 31211\, United States
ATTACH;FMTTYPE=image/jpeg:https://thehohm.org/wp-content/uploads/2026/02/bible-study.jpg
END:VEVENT
BEGIN:VEVENT
DTSTART;TZID=UTC:20291010T070000
DTEND;TZID=UTC:20291010T080000
DTSTAMP:20260423T072633
CREATED:20260217T163644Z
LAST-MODIFIED:20260306T015107Z
UID:10001937-1886310000-1886313600@thehohm.org
SUMMARY:Prayer Call
DESCRIPTION:
URL:https://thehohm.org/event_all/prayer-call/2029-10-10/
LOCATION:The House of Hope Macon Church\, 1909 Woodland Dr.\, Macon\, GA\, 31211\, United States
ATTACH;FMTTYPE=image/webp:https://thehohm.org/wp-content/uploads/2026/02/Prayer.webp
END:VEVENT
BEGIN:VEVENT
DTSTART;TZID=UTC:20291014T100000
DTEND;TZID=UTC:20291014T120000
DTSTAMP:20260423T072633
CREATED:20260212T041401Z
LAST-MODIFIED:20260306T015235Z
UID:10002055-1886666400-1886673600@thehohm.org
SUMMARY:Selfie Sunday
DESCRIPTION:
URL:https://thehohm.org/event_all/selfie-sunday/2029-10-14/
LOCATION:GA
END:VEVENT
BEGIN:VEVENT
DTSTART;TZID=UTC:20291016T190000
DTEND;TZID=UTC:20291016T200000
DTSTAMP:20260423T072633
CREATED:20260217T163337Z
LAST-MODIFIED:20260306T014753Z
UID:10001448-1886871600-1886875200@thehohm.org
SUMMARY:Talk Back Tuesday
DESCRIPTION:
URL:https://thehohm.org/event_all/talk-back-tuesday/2029-10-16/
LOCATION:The House of Hope Macon Church\, 1909 Woodland Dr.\, Macon\, GA\, 31211\, United States
ATTACH;FMTTYPE=image/webp:https://thehohm.org/wp-content/uploads/2026/02/talk-back.webp
END:VEVENT
BEGIN:VEVENT
DTSTART;TZID=UTC:20291016T190000
DTEND;TZID=UTC:20301015T200000
DTSTAMP:20260423T072633
CREATED:20260217T160347Z
LAST-MODIFIED:20260306T010444Z
UID:10000521-1886871600-1918324800@thehohm.org
SUMMARY:Lessons for Life Bible Study
DESCRIPTION:
URL:https://thehohm.org/event_all/lessons-for-life-bible-study/2029-10-16/
LOCATION:The House of Hope Macon Church\, 1909 Woodland Dr.\, Macon\, GA\, 31211\, United States
ATTACH;FMTTYPE=image/jpeg:https://thehohm.org/wp-content/uploads/2026/02/bible-study.jpg
END:VEVENT
BEGIN:VEVENT
DTSTART;TZID=UTC:20291017T070000
DTEND;TZID=UTC:20291017T080000
DTSTAMP:20260423T072633
CREATED:20260217T163644Z
LAST-MODIFIED:20260306T015107Z
UID:10001938-1886914800-1886918400@thehohm.org
SUMMARY:Prayer Call
DESCRIPTION:
URL:https://thehohm.org/event_all/prayer-call/2029-10-17/
LOCATION:The House of Hope Macon Church\, 1909 Woodland Dr.\, Macon\, GA\, 31211\, United States
ATTACH;FMTTYPE=image/webp:https://thehohm.org/wp-content/uploads/2026/02/Prayer.webp
END:VEVENT
BEGIN:VEVENT
DTSTART;TZID=UTC:20291023T190000
DTEND;TZID=UTC:20291023T200000
DTSTAMP:20260423T072633
CREATED:20260306T010456Z
LAST-MODIFIED:20260306T014407Z
UID:10001691-1887476400-1887480000@thehohm.org
SUMMARY:Lessons for Life Bible Study
DESCRIPTION:
URL:https://thehohm.org/event_all/lessons-for-life-bible-study-2/2029-10-23/
LOCATION:The House of Hope Macon Church\, 1909 Woodland Dr.\, Macon\, GA\, 31211\, United States
ATTACH;FMTTYPE=image/jpeg:https://thehohm.org/wp-content/uploads/2026/02/bible-study.jpg
END:VEVENT
BEGIN:VEVENT
DTSTART;TZID=UTC:20291023T190000
DTEND;TZID=UTC:20301022T200000
DTSTAMP:20260423T072633
CREATED:20260217T160347Z
LAST-MODIFIED:20260306T010444Z
UID:10000522-1887476400-1918929600@thehohm.org
SUMMARY:Lessons for Life Bible Study
DESCRIPTION:
URL:https://thehohm.org/event_all/lessons-for-life-bible-study/2029-10-23/
LOCATION:The House of Hope Macon Church\, 1909 Woodland Dr.\, Macon\, GA\, 31211\, United States
ATTACH;FMTTYPE=image/jpeg:https://thehohm.org/wp-content/uploads/2026/02/bible-study.jpg
END:VEVENT
BEGIN:VEVENT
DTSTART;TZID=UTC:20291024T070000
DTEND;TZID=UTC:20291024T080000
DTSTAMP:20260423T072633
CREATED:20260217T163644Z
LAST-MODIFIED:20260306T015107Z
UID:10001939-1887519600-1887523200@thehohm.org
SUMMARY:Prayer Call
DESCRIPTION:
URL:https://thehohm.org/event_all/prayer-call/2029-10-24/
LOCATION:The House of Hope Macon Church\, 1909 Woodland Dr.\, Macon\, GA\, 31211\, United States
ATTACH;FMTTYPE=image/webp:https://thehohm.org/wp-content/uploads/2026/02/Prayer.webp
END:VEVENT
BEGIN:VEVENT
DTSTART;TZID=UTC:20291030T190000
DTEND;TZID=UTC:20291030T200000
DTSTAMP:20260423T072633
CREATED:20260306T010456Z
LAST-MODIFIED:20260306T014407Z
UID:10001692-1888081200-1888084800@thehohm.org
SUMMARY:Lessons for Life Bible Study
DESCRIPTION:
URL:https://thehohm.org/event_all/lessons-for-life-bible-study-2/2029-10-30/
LOCATION:The House of Hope Macon Church\, 1909 Woodland Dr.\, Macon\, GA\, 31211\, United States
ATTACH;FMTTYPE=image/jpeg:https://thehohm.org/wp-content/uploads/2026/02/bible-study.jpg
END:VEVENT
BEGIN:VEVENT
DTSTART;TZID=UTC:20291030T190000
DTEND;TZID=UTC:20301029T200000
DTSTAMP:20260423T072633
CREATED:20260217T160347Z
LAST-MODIFIED:20260306T010444Z
UID:10000523-1888081200-1919534400@thehohm.org
SUMMARY:Lessons for Life Bible Study
DESCRIPTION:
URL:https://thehohm.org/event_all/lessons-for-life-bible-study/2029-10-30/
LOCATION:The House of Hope Macon Church\, 1909 Woodland Dr.\, Macon\, GA\, 31211\, United States
ATTACH;FMTTYPE=image/jpeg:https://thehohm.org/wp-content/uploads/2026/02/bible-study.jpg
END:VEVENT
BEGIN:VEVENT
DTSTART;TZID=UTC:20291031T070000
DTEND;TZID=UTC:20291031T080000
DTSTAMP:20260423T072633
CREATED:20260217T163644Z
LAST-MODIFIED:20260306T015107Z
UID:10001940-1888124400-1888128000@thehohm.org
SUMMARY:Prayer Call
DESCRIPTION:
URL:https://thehohm.org/event_all/prayer-call/2029-10-31/
LOCATION:The House of Hope Macon Church\, 1909 Woodland Dr.\, Macon\, GA\, 31211\, United States
ATTACH;FMTTYPE=image/webp:https://thehohm.org/wp-content/uploads/2026/02/Prayer.webp
END:VEVENT
BEGIN:VEVENT
DTSTART;TZID=UTC:20291104T100000
DTEND;TZID=UTC:20291104T120000
DTSTAMP:20260423T072633
CREATED:20260212T035455Z
LAST-MODIFIED:20260306T015732Z
UID:10002116-1888480800-1888488000@thehohm.org
SUMMARY:Communion Sunday
DESCRIPTION:
URL:https://thehohm.org/event_all/communion-sunday/2029-11-04/
LOCATION:GA
END:VEVENT
BEGIN:VEVENT
DTSTART;TZID=UTC:20291106T190000
DTEND;TZID=UTC:20291106T200000
DTSTAMP:20260423T072633
CREATED:20260306T010456Z
LAST-MODIFIED:20260306T014407Z
UID:10001693-1888686000-1888689600@thehohm.org
SUMMARY:Lessons for Life Bible Study
DESCRIPTION:
URL:https://thehohm.org/event_all/lessons-for-life-bible-study-2/2029-11-06/
LOCATION:The House of Hope Macon Church\, 1909 Woodland Dr.\, Macon\, GA\, 31211\, United States
ATTACH;FMTTYPE=image/jpeg:https://thehohm.org/wp-content/uploads/2026/02/bible-study.jpg
END:VEVENT
BEGIN:VEVENT
DTSTART;TZID=UTC:20291106T190000
DTEND;TZID=UTC:20301105T200000
DTSTAMP:20260423T072633
CREATED:20260217T160347Z
LAST-MODIFIED:20260306T010444Z
UID:10000524-1888686000-1920139200@thehohm.org
SUMMARY:Lessons for Life Bible Study
DESCRIPTION:
URL:https://thehohm.org/event_all/lessons-for-life-bible-study/2029-11-06/
LOCATION:The House of Hope Macon Church\, 1909 Woodland Dr.\, Macon\, GA\, 31211\, United States
ATTACH;FMTTYPE=image/jpeg:https://thehohm.org/wp-content/uploads/2026/02/bible-study.jpg
END:VEVENT
END:VCALENDAR