BEGIN:VCALENDAR
VERSION:2.0
PRODID:-//House of Hope Macon - ECPv6.15.17//NONSGML v1.0//EN
CALSCALE:GREGORIAN
METHOD:PUBLISH
X-ORIGINAL-URL:https://thehohm.org
X-WR-CALDESC:Events for House of Hope Macon
REFRESH-INTERVAL;VALUE=DURATION:PT1H
X-Robots-Tag:noindex
X-PUBLISHED-TTL:PT1H
BEGIN:VTIMEZONE
TZID:UTC
BEGIN:STANDARD
TZOFFSETFROM:+0000
TZOFFSETTO:+0000
TZNAME:UTC
DTSTART:20280101T000000
END:STANDARD
END:VTIMEZONE
BEGIN:VEVENT
DTSTART;TZID=UTC:20290501T190000
DTEND;TZID=UTC:20300430T200000
DTSTAMP:20260422T224949
CREATED:20260217T160347Z
LAST-MODIFIED:20260306T010444Z
UID:10000497-1872356400-1903809600@thehohm.org
SUMMARY:Lessons for Life Bible Study
DESCRIPTION:
URL:https://thehohm.org/event_all/lessons-for-life-bible-study/2029-05-01/
LOCATION:The House of Hope Macon Church\, 1909 Woodland Dr.\, Macon\, GA\, 31211\, United States
ATTACH;FMTTYPE=image/jpeg:https://thehohm.org/wp-content/uploads/2026/02/bible-study.jpg
END:VEVENT
BEGIN:VEVENT
DTSTART;TZID=UTC:20290502T070000
DTEND;TZID=UTC:20290502T080000
DTSTAMP:20260422T224949
CREATED:20260217T163644Z
LAST-MODIFIED:20260306T015107Z
UID:10001914-1872399600-1872403200@thehohm.org
SUMMARY:Prayer Call
DESCRIPTION:
URL:https://thehohm.org/event_all/prayer-call/2029-05-02/
LOCATION:The House of Hope Macon Church\, 1909 Woodland Dr.\, Macon\, GA\, 31211\, United States
ATTACH;FMTTYPE=image/webp:https://thehohm.org/wp-content/uploads/2026/02/Prayer.webp
END:VEVENT
BEGIN:VEVENT
DTSTART;TZID=UTC:20290506T100000
DTEND;TZID=UTC:20290506T120000
DTSTAMP:20260422T224949
CREATED:20260212T035455Z
LAST-MODIFIED:20260306T015732Z
UID:10002110-1872756000-1872763200@thehohm.org
SUMMARY:Communion Sunday
DESCRIPTION:
URL:https://thehohm.org/event_all/communion-sunday/2029-05-06/
LOCATION:GA
END:VEVENT
BEGIN:VEVENT
DTSTART;TZID=UTC:20290508T190000
DTEND;TZID=UTC:20290508T200000
DTSTAMP:20260422T224949
CREATED:20260306T010456Z
LAST-MODIFIED:20260306T014407Z
UID:10001673-1872961200-1872964800@thehohm.org
SUMMARY:Lessons for Life Bible Study
DESCRIPTION:
URL:https://thehohm.org/event_all/lessons-for-life-bible-study-2/2029-05-08/
LOCATION:The House of Hope Macon Church\, 1909 Woodland Dr.\, Macon\, GA\, 31211\, United States
ATTACH;FMTTYPE=image/jpeg:https://thehohm.org/wp-content/uploads/2026/02/bible-study.jpg
END:VEVENT
BEGIN:VEVENT
DTSTART;TZID=UTC:20290508T190000
DTEND;TZID=UTC:20300507T200000
DTSTAMP:20260422T224949
CREATED:20260217T160347Z
LAST-MODIFIED:20260306T010444Z
UID:10000498-1872961200-1904414400@thehohm.org
SUMMARY:Lessons for Life Bible Study
DESCRIPTION:
URL:https://thehohm.org/event_all/lessons-for-life-bible-study/2029-05-08/
LOCATION:The House of Hope Macon Church\, 1909 Woodland Dr.\, Macon\, GA\, 31211\, United States
ATTACH;FMTTYPE=image/jpeg:https://thehohm.org/wp-content/uploads/2026/02/bible-study.jpg
END:VEVENT
BEGIN:VEVENT
DTSTART;TZID=UTC:20290509T070000
DTEND;TZID=UTC:20290509T080000
DTSTAMP:20260422T224949
CREATED:20260217T163644Z
LAST-MODIFIED:20260306T015107Z
UID:10001915-1873004400-1873008000@thehohm.org
SUMMARY:Prayer Call
DESCRIPTION:
URL:https://thehohm.org/event_all/prayer-call/2029-05-09/
LOCATION:The House of Hope Macon Church\, 1909 Woodland Dr.\, Macon\, GA\, 31211\, United States
ATTACH;FMTTYPE=image/webp:https://thehohm.org/wp-content/uploads/2026/02/Prayer.webp
END:VEVENT
BEGIN:VEVENT
DTSTART;TZID=UTC:20290513T100000
DTEND;TZID=UTC:20290513T120000
DTSTAMP:20260422T224949
CREATED:20260212T041401Z
LAST-MODIFIED:20260306T015235Z
UID:10002050-1873360800-1873368000@thehohm.org
SUMMARY:Selfie Sunday
DESCRIPTION:
URL:https://thehohm.org/event_all/selfie-sunday/2029-05-13/
LOCATION:GA
END:VEVENT
BEGIN:VEVENT
DTSTART;TZID=UTC:20290515T190000
DTEND;TZID=UTC:20290515T200000
DTSTAMP:20260422T224949
CREATED:20260217T163337Z
LAST-MODIFIED:20260306T014753Z
UID:10001445-1873566000-1873569600@thehohm.org
SUMMARY:Talk Back Tuesday
DESCRIPTION:
URL:https://thehohm.org/event_all/talk-back-tuesday/2029-05-15/
LOCATION:The House of Hope Macon Church\, 1909 Woodland Dr.\, Macon\, GA\, 31211\, United States
ATTACH;FMTTYPE=image/webp:https://thehohm.org/wp-content/uploads/2026/02/talk-back.webp
END:VEVENT
BEGIN:VEVENT
DTSTART;TZID=UTC:20290515T190000
DTEND;TZID=UTC:20300514T200000
DTSTAMP:20260422T224949
CREATED:20260217T160347Z
LAST-MODIFIED:20260306T010444Z
UID:10000499-1873566000-1905019200@thehohm.org
SUMMARY:Lessons for Life Bible Study
DESCRIPTION:
URL:https://thehohm.org/event_all/lessons-for-life-bible-study/2029-05-15/
LOCATION:The House of Hope Macon Church\, 1909 Woodland Dr.\, Macon\, GA\, 31211\, United States
ATTACH;FMTTYPE=image/jpeg:https://thehohm.org/wp-content/uploads/2026/02/bible-study.jpg
END:VEVENT
BEGIN:VEVENT
DTSTART;TZID=UTC:20290516T070000
DTEND;TZID=UTC:20290516T080000
DTSTAMP:20260422T224949
CREATED:20260217T163644Z
LAST-MODIFIED:20260306T015107Z
UID:10001916-1873609200-1873612800@thehohm.org
SUMMARY:Prayer Call
DESCRIPTION:
URL:https://thehohm.org/event_all/prayer-call/2029-05-16/
LOCATION:The House of Hope Macon Church\, 1909 Woodland Dr.\, Macon\, GA\, 31211\, United States
ATTACH;FMTTYPE=image/webp:https://thehohm.org/wp-content/uploads/2026/02/Prayer.webp
END:VEVENT
BEGIN:VEVENT
DTSTART;TZID=UTC:20290522T190000
DTEND;TZID=UTC:20290522T200000
DTSTAMP:20260422T224949
CREATED:20260306T010456Z
LAST-MODIFIED:20260306T014407Z
UID:10001674-1874170800-1874174400@thehohm.org
SUMMARY:Lessons for Life Bible Study
DESCRIPTION:
URL:https://thehohm.org/event_all/lessons-for-life-bible-study-2/2029-05-22/
LOCATION:The House of Hope Macon Church\, 1909 Woodland Dr.\, Macon\, GA\, 31211\, United States
ATTACH;FMTTYPE=image/jpeg:https://thehohm.org/wp-content/uploads/2026/02/bible-study.jpg
END:VEVENT
BEGIN:VEVENT
DTSTART;TZID=UTC:20290522T190000
DTEND;TZID=UTC:20300521T200000
DTSTAMP:20260422T224949
CREATED:20260217T160347Z
LAST-MODIFIED:20260306T010444Z
UID:10000500-1874170800-1905624000@thehohm.org
SUMMARY:Lessons for Life Bible Study
DESCRIPTION:
URL:https://thehohm.org/event_all/lessons-for-life-bible-study/2029-05-22/
LOCATION:The House of Hope Macon Church\, 1909 Woodland Dr.\, Macon\, GA\, 31211\, United States
ATTACH;FMTTYPE=image/jpeg:https://thehohm.org/wp-content/uploads/2026/02/bible-study.jpg
END:VEVENT
BEGIN:VEVENT
DTSTART;TZID=UTC:20290523T070000
DTEND;TZID=UTC:20290523T080000
DTSTAMP:20260422T224949
CREATED:20260217T163644Z
LAST-MODIFIED:20260306T015107Z
UID:10001917-1874214000-1874217600@thehohm.org
SUMMARY:Prayer Call
DESCRIPTION:
URL:https://thehohm.org/event_all/prayer-call/2029-05-23/
LOCATION:The House of Hope Macon Church\, 1909 Woodland Dr.\, Macon\, GA\, 31211\, United States
ATTACH;FMTTYPE=image/webp:https://thehohm.org/wp-content/uploads/2026/02/Prayer.webp
END:VEVENT
BEGIN:VEVENT
DTSTART;TZID=UTC:20290529T190000
DTEND;TZID=UTC:20290529T200000
DTSTAMP:20260422T224949
CREATED:20260306T010456Z
LAST-MODIFIED:20260306T014407Z
UID:10001675-1874775600-1874779200@thehohm.org
SUMMARY:Lessons for Life Bible Study
DESCRIPTION:
URL:https://thehohm.org/event_all/lessons-for-life-bible-study-2/2029-05-29/
LOCATION:The House of Hope Macon Church\, 1909 Woodland Dr.\, Macon\, GA\, 31211\, United States
ATTACH;FMTTYPE=image/jpeg:https://thehohm.org/wp-content/uploads/2026/02/bible-study.jpg
END:VEVENT
BEGIN:VEVENT
DTSTART;TZID=UTC:20290529T190000
DTEND;TZID=UTC:20300528T200000
DTSTAMP:20260422T224950
CREATED:20260217T160347Z
LAST-MODIFIED:20260306T010444Z
UID:10000501-1874775600-1906228800@thehohm.org
SUMMARY:Lessons for Life Bible Study
DESCRIPTION:
URL:https://thehohm.org/event_all/lessons-for-life-bible-study/2029-05-29/
LOCATION:The House of Hope Macon Church\, 1909 Woodland Dr.\, Macon\, GA\, 31211\, United States
ATTACH;FMTTYPE=image/jpeg:https://thehohm.org/wp-content/uploads/2026/02/bible-study.jpg
END:VEVENT
BEGIN:VEVENT
DTSTART;TZID=UTC:20290530T070000
DTEND;TZID=UTC:20290530T080000
DTSTAMP:20260422T224950
CREATED:20260217T163644Z
LAST-MODIFIED:20260306T015107Z
UID:10001918-1874818800-1874822400@thehohm.org
SUMMARY:Prayer Call
DESCRIPTION:
URL:https://thehohm.org/event_all/prayer-call/2029-05-30/
LOCATION:The House of Hope Macon Church\, 1909 Woodland Dr.\, Macon\, GA\, 31211\, United States
ATTACH;FMTTYPE=image/webp:https://thehohm.org/wp-content/uploads/2026/02/Prayer.webp
END:VEVENT
BEGIN:VEVENT
DTSTART;TZID=UTC:20290603T100000
DTEND;TZID=UTC:20290603T120000
DTSTAMP:20260422T224950
CREATED:20260212T035455Z
LAST-MODIFIED:20260306T015732Z
UID:10002111-1875175200-1875182400@thehohm.org
SUMMARY:Communion Sunday
DESCRIPTION:
URL:https://thehohm.org/event_all/communion-sunday/2029-06-03/
LOCATION:GA
END:VEVENT
BEGIN:VEVENT
DTSTART;TZID=UTC:20290605T190000
DTEND;TZID=UTC:20290605T200000
DTSTAMP:20260422T224950
CREATED:20260306T010456Z
LAST-MODIFIED:20260306T014407Z
UID:10001676-1875380400-1875384000@thehohm.org
SUMMARY:Lessons for Life Bible Study
DESCRIPTION:
URL:https://thehohm.org/event_all/lessons-for-life-bible-study-2/2029-06-05/
LOCATION:The House of Hope Macon Church\, 1909 Woodland Dr.\, Macon\, GA\, 31211\, United States
ATTACH;FMTTYPE=image/jpeg:https://thehohm.org/wp-content/uploads/2026/02/bible-study.jpg
END:VEVENT
BEGIN:VEVENT
DTSTART;TZID=UTC:20290605T190000
DTEND;TZID=UTC:20300604T200000
DTSTAMP:20260422T224950
CREATED:20260217T160347Z
LAST-MODIFIED:20260306T010444Z
UID:10000502-1875380400-1906833600@thehohm.org
SUMMARY:Lessons for Life Bible Study
DESCRIPTION:
URL:https://thehohm.org/event_all/lessons-for-life-bible-study/2029-06-05/
LOCATION:The House of Hope Macon Church\, 1909 Woodland Dr.\, Macon\, GA\, 31211\, United States
ATTACH;FMTTYPE=image/jpeg:https://thehohm.org/wp-content/uploads/2026/02/bible-study.jpg
END:VEVENT
BEGIN:VEVENT
DTSTART;TZID=UTC:20290606T070000
DTEND;TZID=UTC:20290606T080000
DTSTAMP:20260422T224950
CREATED:20260217T163644Z
LAST-MODIFIED:20260306T015107Z
UID:10001919-1875423600-1875427200@thehohm.org
SUMMARY:Prayer Call
DESCRIPTION:
URL:https://thehohm.org/event_all/prayer-call/2029-06-06/
LOCATION:The House of Hope Macon Church\, 1909 Woodland Dr.\, Macon\, GA\, 31211\, United States
ATTACH;FMTTYPE=image/webp:https://thehohm.org/wp-content/uploads/2026/02/Prayer.webp
END:VEVENT
BEGIN:VEVENT
DTSTART;TZID=UTC:20290610T100000
DTEND;TZID=UTC:20290610T120000
DTSTAMP:20260422T224950
CREATED:20260212T041401Z
LAST-MODIFIED:20260306T015235Z
UID:10002051-1875780000-1875787200@thehohm.org
SUMMARY:Selfie Sunday
DESCRIPTION:
URL:https://thehohm.org/event_all/selfie-sunday/2029-06-10/
LOCATION:GA
END:VEVENT
BEGIN:VEVENT
DTSTART;TZID=UTC:20290612T190000
DTEND;TZID=UTC:20290612T200000
DTSTAMP:20260422T224950
CREATED:20260306T010456Z
LAST-MODIFIED:20260306T014407Z
UID:10001677-1875985200-1875988800@thehohm.org
SUMMARY:Lessons for Life Bible Study
DESCRIPTION:
URL:https://thehohm.org/event_all/lessons-for-life-bible-study-2/2029-06-12/
LOCATION:The House of Hope Macon Church\, 1909 Woodland Dr.\, Macon\, GA\, 31211\, United States
ATTACH;FMTTYPE=image/jpeg:https://thehohm.org/wp-content/uploads/2026/02/bible-study.jpg
END:VEVENT
BEGIN:VEVENT
DTSTART;TZID=UTC:20290612T190000
DTEND;TZID=UTC:20300611T200000
DTSTAMP:20260422T224950
CREATED:20260217T160347Z
LAST-MODIFIED:20260306T010444Z
UID:10000503-1875985200-1907438400@thehohm.org
SUMMARY:Lessons for Life Bible Study
DESCRIPTION:
URL:https://thehohm.org/event_all/lessons-for-life-bible-study/2029-06-12/
LOCATION:The House of Hope Macon Church\, 1909 Woodland Dr.\, Macon\, GA\, 31211\, United States
ATTACH;FMTTYPE=image/jpeg:https://thehohm.org/wp-content/uploads/2026/02/bible-study.jpg
END:VEVENT
BEGIN:VEVENT
DTSTART;TZID=UTC:20290613T070000
DTEND;TZID=UTC:20290613T080000
DTSTAMP:20260422T224950
CREATED:20260217T163644Z
LAST-MODIFIED:20260306T015107Z
UID:10001920-1876028400-1876032000@thehohm.org
SUMMARY:Prayer Call
DESCRIPTION:
URL:https://thehohm.org/event_all/prayer-call/2029-06-13/
LOCATION:The House of Hope Macon Church\, 1909 Woodland Dr.\, Macon\, GA\, 31211\, United States
ATTACH;FMTTYPE=image/webp:https://thehohm.org/wp-content/uploads/2026/02/Prayer.webp
END:VEVENT
BEGIN:VEVENT
DTSTART;TZID=UTC:20290619T190000
DTEND;TZID=UTC:20290619T200000
DTSTAMP:20260422T224950
CREATED:20260217T163337Z
LAST-MODIFIED:20260306T014753Z
UID:10000683-1876590000-1876593600@thehohm.org
SUMMARY:Talk Back Tuesday
DESCRIPTION:
URL:https://thehohm.org/event_all/talk-back-tuesday/2029-06-19/
LOCATION:The House of Hope Macon Church\, 1909 Woodland Dr.\, Macon\, GA\, 31211\, United States
ATTACH;FMTTYPE=image/webp:https://thehohm.org/wp-content/uploads/2026/02/talk-back.webp
END:VEVENT
BEGIN:VEVENT
DTSTART;TZID=UTC:20290619T190000
DTEND;TZID=UTC:20300618T200000
DTSTAMP:20260422T224950
CREATED:20260217T160347Z
LAST-MODIFIED:20260306T010444Z
UID:10000504-1876590000-1908043200@thehohm.org
SUMMARY:Lessons for Life Bible Study
DESCRIPTION:
URL:https://thehohm.org/event_all/lessons-for-life-bible-study/2029-06-19/
LOCATION:The House of Hope Macon Church\, 1909 Woodland Dr.\, Macon\, GA\, 31211\, United States
ATTACH;FMTTYPE=image/jpeg:https://thehohm.org/wp-content/uploads/2026/02/bible-study.jpg
END:VEVENT
BEGIN:VEVENT
DTSTART;TZID=UTC:20290620T070000
DTEND;TZID=UTC:20290620T080000
DTSTAMP:20260422T224950
CREATED:20260217T163644Z
LAST-MODIFIED:20260306T015107Z
UID:10001921-1876633200-1876636800@thehohm.org
SUMMARY:Prayer Call
DESCRIPTION:
URL:https://thehohm.org/event_all/prayer-call/2029-06-20/
LOCATION:The House of Hope Macon Church\, 1909 Woodland Dr.\, Macon\, GA\, 31211\, United States
ATTACH;FMTTYPE=image/webp:https://thehohm.org/wp-content/uploads/2026/02/Prayer.webp
END:VEVENT
BEGIN:VEVENT
DTSTART;TZID=UTC:20290626T190000
DTEND;TZID=UTC:20290626T200000
DTSTAMP:20260422T224950
CREATED:20260306T010456Z
LAST-MODIFIED:20260306T014407Z
UID:10001678-1877194800-1877198400@thehohm.org
SUMMARY:Lessons for Life Bible Study
DESCRIPTION:
URL:https://thehohm.org/event_all/lessons-for-life-bible-study-2/2029-06-26/
LOCATION:The House of Hope Macon Church\, 1909 Woodland Dr.\, Macon\, GA\, 31211\, United States
ATTACH;FMTTYPE=image/jpeg:https://thehohm.org/wp-content/uploads/2026/02/bible-study.jpg
END:VEVENT
BEGIN:VEVENT
DTSTART;TZID=UTC:20290626T190000
DTEND;TZID=UTC:20300625T200000
DTSTAMP:20260422T224950
CREATED:20260217T160347Z
LAST-MODIFIED:20260306T010444Z
UID:10000505-1877194800-1908648000@thehohm.org
SUMMARY:Lessons for Life Bible Study
DESCRIPTION:
URL:https://thehohm.org/event_all/lessons-for-life-bible-study/2029-06-26/
LOCATION:The House of Hope Macon Church\, 1909 Woodland Dr.\, Macon\, GA\, 31211\, United States
ATTACH;FMTTYPE=image/jpeg:https://thehohm.org/wp-content/uploads/2026/02/bible-study.jpg
END:VEVENT
BEGIN:VEVENT
DTSTART;TZID=UTC:20290627T070000
DTEND;TZID=UTC:20290627T080000
DTSTAMP:20260422T224950
CREATED:20260217T163644Z
LAST-MODIFIED:20260306T015107Z
UID:10001922-1877238000-1877241600@thehohm.org
SUMMARY:Prayer Call
DESCRIPTION:
URL:https://thehohm.org/event_all/prayer-call/2029-06-27/
LOCATION:The House of Hope Macon Church\, 1909 Woodland Dr.\, Macon\, GA\, 31211\, United States
ATTACH;FMTTYPE=image/webp:https://thehohm.org/wp-content/uploads/2026/02/Prayer.webp
END:VEVENT
END:VCALENDAR