BEGIN:VCALENDAR
VERSION:2.0
PRODID:-//House of Hope Macon - ECPv6.15.17//NONSGML v1.0//EN
CALSCALE:GREGORIAN
METHOD:PUBLISH
X-WR-CALNAME:House of Hope Macon
X-ORIGINAL-URL:https://thehohm.org
X-WR-CALDESC:Events for House of Hope Macon
REFRESH-INTERVAL;VALUE=DURATION:PT1H
X-Robots-Tag:noindex
X-PUBLISHED-TTL:PT1H
BEGIN:VTIMEZONE
TZID:UTC
BEGIN:STANDARD
TZOFFSETFROM:+0000
TZOFFSETTO:+0000
TZNAME:UTC
DTSTART:20270101T000000
END:STANDARD
END:VTIMEZONE
BEGIN:VEVENT
DTSTART;TZID=UTC:20281011T070000
DTEND;TZID=UTC:20281011T080000
DTSTAMP:20260422T083205
CREATED:20260217T163644Z
LAST-MODIFIED:20260306T015107Z
UID:10001885-1854860400-1854864000@thehohm.org
SUMMARY:Prayer Call
DESCRIPTION:
URL:https://thehohm.org/event_all/prayer-call/2028-10-11/
LOCATION:The House of Hope Macon Church\, 1909 Woodland Dr.\, Macon\, GA\, 31211\, United States
ATTACH;FMTTYPE=image/webp:https://thehohm.org/wp-content/uploads/2026/02/Prayer.webp
END:VEVENT
BEGIN:VEVENT
DTSTART;TZID=UTC:20281017T190000
DTEND;TZID=UTC:20281017T200000
DTSTAMP:20260422T083205
CREATED:20260217T163337Z
LAST-MODIFIED:20260306T014753Z
UID:10001440-1855422000-1855425600@thehohm.org
SUMMARY:Talk Back Tuesday
DESCRIPTION:
URL:https://thehohm.org/event_all/talk-back-tuesday/2028-10-17/
LOCATION:The House of Hope Macon Church\, 1909 Woodland Dr.\, Macon\, GA\, 31211\, United States
ATTACH;FMTTYPE=image/webp:https://thehohm.org/wp-content/uploads/2026/02/talk-back.webp
END:VEVENT
BEGIN:VEVENT
DTSTART;TZID=UTC:20281017T190000
DTEND;TZID=UTC:20291016T200000
DTSTAMP:20260422T083205
CREATED:20260217T160347Z
LAST-MODIFIED:20260306T010444Z
UID:10000469-1855422000-1886875200@thehohm.org
SUMMARY:Lessons for Life Bible Study
DESCRIPTION:
URL:https://thehohm.org/event_all/lessons-for-life-bible-study/2028-10-17/
LOCATION:The House of Hope Macon Church\, 1909 Woodland Dr.\, Macon\, GA\, 31211\, United States
ATTACH;FMTTYPE=image/jpeg:https://thehohm.org/wp-content/uploads/2026/02/bible-study.jpg
END:VEVENT
BEGIN:VEVENT
DTSTART;TZID=UTC:20281018T070000
DTEND;TZID=UTC:20281018T080000
DTSTAMP:20260422T083205
CREATED:20260217T163644Z
LAST-MODIFIED:20260306T015107Z
UID:10001886-1855465200-1855468800@thehohm.org
SUMMARY:Prayer Call
DESCRIPTION:
URL:https://thehohm.org/event_all/prayer-call/2028-10-18/
LOCATION:The House of Hope Macon Church\, 1909 Woodland Dr.\, Macon\, GA\, 31211\, United States
ATTACH;FMTTYPE=image/webp:https://thehohm.org/wp-content/uploads/2026/02/Prayer.webp
END:VEVENT
BEGIN:VEVENT
DTSTART;TZID=UTC:20281024T190000
DTEND;TZID=UTC:20281024T200000
DTSTAMP:20260422T083205
CREATED:20260306T010456Z
LAST-MODIFIED:20260306T014407Z
UID:10001651-1856026800-1856030400@thehohm.org
SUMMARY:Lessons for Life Bible Study
DESCRIPTION:
URL:https://thehohm.org/event_all/lessons-for-life-bible-study-2/2028-10-24/
LOCATION:The House of Hope Macon Church\, 1909 Woodland Dr.\, Macon\, GA\, 31211\, United States
ATTACH;FMTTYPE=image/jpeg:https://thehohm.org/wp-content/uploads/2026/02/bible-study.jpg
END:VEVENT
BEGIN:VEVENT
DTSTART;TZID=UTC:20281024T190000
DTEND;TZID=UTC:20291023T200000
DTSTAMP:20260422T083205
CREATED:20260217T160347Z
LAST-MODIFIED:20260306T010444Z
UID:10000470-1856026800-1887480000@thehohm.org
SUMMARY:Lessons for Life Bible Study
DESCRIPTION:
URL:https://thehohm.org/event_all/lessons-for-life-bible-study/2028-10-24/
LOCATION:The House of Hope Macon Church\, 1909 Woodland Dr.\, Macon\, GA\, 31211\, United States
ATTACH;FMTTYPE=image/jpeg:https://thehohm.org/wp-content/uploads/2026/02/bible-study.jpg
END:VEVENT
BEGIN:VEVENT
DTSTART;TZID=UTC:20281025T070000
DTEND;TZID=UTC:20281025T080000
DTSTAMP:20260422T083205
CREATED:20260217T163644Z
LAST-MODIFIED:20260306T015107Z
UID:10001887-1856070000-1856073600@thehohm.org
SUMMARY:Prayer Call
DESCRIPTION:
URL:https://thehohm.org/event_all/prayer-call/2028-10-25/
LOCATION:The House of Hope Macon Church\, 1909 Woodland Dr.\, Macon\, GA\, 31211\, United States
ATTACH;FMTTYPE=image/webp:https://thehohm.org/wp-content/uploads/2026/02/Prayer.webp
END:VEVENT
BEGIN:VEVENT
DTSTART;TZID=UTC:20281031T190000
DTEND;TZID=UTC:20281031T200000
DTSTAMP:20260422T083205
CREATED:20260306T010456Z
LAST-MODIFIED:20260306T014407Z
UID:10001652-1856631600-1856635200@thehohm.org
SUMMARY:Lessons for Life Bible Study
DESCRIPTION:
URL:https://thehohm.org/event_all/lessons-for-life-bible-study-2/2028-10-31/
LOCATION:The House of Hope Macon Church\, 1909 Woodland Dr.\, Macon\, GA\, 31211\, United States
ATTACH;FMTTYPE=image/jpeg:https://thehohm.org/wp-content/uploads/2026/02/bible-study.jpg
END:VEVENT
BEGIN:VEVENT
DTSTART;TZID=UTC:20281031T190000
DTEND;TZID=UTC:20291030T200000
DTSTAMP:20260422T083205
CREATED:20260217T160347Z
LAST-MODIFIED:20260306T010444Z
UID:10000471-1856631600-1888084800@thehohm.org
SUMMARY:Lessons for Life Bible Study
DESCRIPTION:
URL:https://thehohm.org/event_all/lessons-for-life-bible-study/2028-10-31/
LOCATION:The House of Hope Macon Church\, 1909 Woodland Dr.\, Macon\, GA\, 31211\, United States
ATTACH;FMTTYPE=image/jpeg:https://thehohm.org/wp-content/uploads/2026/02/bible-study.jpg
END:VEVENT
BEGIN:VEVENT
DTSTART;TZID=UTC:20281101T070000
DTEND;TZID=UTC:20281101T080000
DTSTAMP:20260422T083205
CREATED:20260217T163644Z
LAST-MODIFIED:20260306T015107Z
UID:10001888-1856674800-1856678400@thehohm.org
SUMMARY:Prayer Call
DESCRIPTION:
URL:https://thehohm.org/event_all/prayer-call/2028-11-01/
LOCATION:The House of Hope Macon Church\, 1909 Woodland Dr.\, Macon\, GA\, 31211\, United States
ATTACH;FMTTYPE=image/webp:https://thehohm.org/wp-content/uploads/2026/02/Prayer.webp
END:VEVENT
BEGIN:VEVENT
DTSTART;TZID=UTC:20281105T100000
DTEND;TZID=UTC:20281105T120000
DTSTAMP:20260422T083205
CREATED:20260212T035455Z
LAST-MODIFIED:20260306T015732Z
UID:10002104-1857031200-1857038400@thehohm.org
SUMMARY:Communion Sunday
DESCRIPTION:
URL:https://thehohm.org/event_all/communion-sunday/2028-11-05/
LOCATION:GA
END:VEVENT
BEGIN:VEVENT
DTSTART;TZID=UTC:20281107T190000
DTEND;TZID=UTC:20281107T200000
DTSTAMP:20260422T083205
CREATED:20260306T010456Z
LAST-MODIFIED:20260306T014407Z
UID:10001653-1857236400-1857240000@thehohm.org
SUMMARY:Lessons for Life Bible Study
DESCRIPTION:
URL:https://thehohm.org/event_all/lessons-for-life-bible-study-2/2028-11-07/
LOCATION:The House of Hope Macon Church\, 1909 Woodland Dr.\, Macon\, GA\, 31211\, United States
ATTACH;FMTTYPE=image/jpeg:https://thehohm.org/wp-content/uploads/2026/02/bible-study.jpg
END:VEVENT
BEGIN:VEVENT
DTSTART;TZID=UTC:20281107T190000
DTEND;TZID=UTC:20291106T200000
DTSTAMP:20260422T083205
CREATED:20260217T160347Z
LAST-MODIFIED:20260306T010444Z
UID:10000472-1857236400-1888689600@thehohm.org
SUMMARY:Lessons for Life Bible Study
DESCRIPTION:
URL:https://thehohm.org/event_all/lessons-for-life-bible-study/2028-11-07/
LOCATION:The House of Hope Macon Church\, 1909 Woodland Dr.\, Macon\, GA\, 31211\, United States
ATTACH;FMTTYPE=image/jpeg:https://thehohm.org/wp-content/uploads/2026/02/bible-study.jpg
END:VEVENT
BEGIN:VEVENT
DTSTART;TZID=UTC:20281108T070000
DTEND;TZID=UTC:20281108T080000
DTSTAMP:20260422T083205
CREATED:20260217T163644Z
LAST-MODIFIED:20260306T015107Z
UID:10001889-1857279600-1857283200@thehohm.org
SUMMARY:Prayer Call
DESCRIPTION:
URL:https://thehohm.org/event_all/prayer-call/2028-11-08/
LOCATION:The House of Hope Macon Church\, 1909 Woodland Dr.\, Macon\, GA\, 31211\, United States
ATTACH;FMTTYPE=image/webp:https://thehohm.org/wp-content/uploads/2026/02/Prayer.webp
END:VEVENT
BEGIN:VEVENT
DTSTART;TZID=UTC:20281112T100000
DTEND;TZID=UTC:20281112T120000
DTSTAMP:20260422T083205
CREATED:20260212T041401Z
LAST-MODIFIED:20260306T015235Z
UID:10002044-1857636000-1857643200@thehohm.org
SUMMARY:Selfie Sunday
DESCRIPTION:
URL:https://thehohm.org/event_all/selfie-sunday/2028-11-12/
LOCATION:GA
END:VEVENT
BEGIN:VEVENT
DTSTART;TZID=UTC:20281114T190000
DTEND;TZID=UTC:20281114T200000
DTSTAMP:20260422T083205
CREATED:20260306T010456Z
LAST-MODIFIED:20260306T014407Z
UID:10001654-1857841200-1857844800@thehohm.org
SUMMARY:Lessons for Life Bible Study
DESCRIPTION:
URL:https://thehohm.org/event_all/lessons-for-life-bible-study-2/2028-11-14/
LOCATION:The House of Hope Macon Church\, 1909 Woodland Dr.\, Macon\, GA\, 31211\, United States
ATTACH;FMTTYPE=image/jpeg:https://thehohm.org/wp-content/uploads/2026/02/bible-study.jpg
END:VEVENT
BEGIN:VEVENT
DTSTART;TZID=UTC:20281114T190000
DTEND;TZID=UTC:20291113T200000
DTSTAMP:20260422T083205
CREATED:20260217T160347Z
LAST-MODIFIED:20260306T010444Z
UID:10000473-1857841200-1889294400@thehohm.org
SUMMARY:Lessons for Life Bible Study
DESCRIPTION:
URL:https://thehohm.org/event_all/lessons-for-life-bible-study/2028-11-14/
LOCATION:The House of Hope Macon Church\, 1909 Woodland Dr.\, Macon\, GA\, 31211\, United States
ATTACH;FMTTYPE=image/jpeg:https://thehohm.org/wp-content/uploads/2026/02/bible-study.jpg
END:VEVENT
BEGIN:VEVENT
DTSTART;TZID=UTC:20281115T070000
DTEND;TZID=UTC:20281115T080000
DTSTAMP:20260422T083205
CREATED:20260217T163644Z
LAST-MODIFIED:20260306T015107Z
UID:10001890-1857884400-1857888000@thehohm.org
SUMMARY:Prayer Call
DESCRIPTION:
URL:https://thehohm.org/event_all/prayer-call/2028-11-15/
LOCATION:The House of Hope Macon Church\, 1909 Woodland Dr.\, Macon\, GA\, 31211\, United States
ATTACH;FMTTYPE=image/webp:https://thehohm.org/wp-content/uploads/2026/02/Prayer.webp
END:VEVENT
BEGIN:VEVENT
DTSTART;TZID=UTC:20281121T190000
DTEND;TZID=UTC:20281121T200000
DTSTAMP:20260422T083205
CREATED:20260217T163337Z
LAST-MODIFIED:20260306T014753Z
UID:10000676-1858446000-1858449600@thehohm.org
SUMMARY:Talk Back Tuesday
DESCRIPTION:
URL:https://thehohm.org/event_all/talk-back-tuesday/2028-11-21/
LOCATION:The House of Hope Macon Church\, 1909 Woodland Dr.\, Macon\, GA\, 31211\, United States
ATTACH;FMTTYPE=image/webp:https://thehohm.org/wp-content/uploads/2026/02/talk-back.webp
END:VEVENT
BEGIN:VEVENT
DTSTART;TZID=UTC:20281121T190000
DTEND;TZID=UTC:20291120T200000
DTSTAMP:20260422T083205
CREATED:20260217T160347Z
LAST-MODIFIED:20260306T010444Z
UID:10000474-1858446000-1889899200@thehohm.org
SUMMARY:Lessons for Life Bible Study
DESCRIPTION:
URL:https://thehohm.org/event_all/lessons-for-life-bible-study/2028-11-21/
LOCATION:The House of Hope Macon Church\, 1909 Woodland Dr.\, Macon\, GA\, 31211\, United States
ATTACH;FMTTYPE=image/jpeg:https://thehohm.org/wp-content/uploads/2026/02/bible-study.jpg
END:VEVENT
BEGIN:VEVENT
DTSTART;TZID=UTC:20281122T070000
DTEND;TZID=UTC:20281122T080000
DTSTAMP:20260422T083205
CREATED:20260217T163644Z
LAST-MODIFIED:20260306T015107Z
UID:10001891-1858489200-1858492800@thehohm.org
SUMMARY:Prayer Call
DESCRIPTION:
URL:https://thehohm.org/event_all/prayer-call/2028-11-22/
LOCATION:The House of Hope Macon Church\, 1909 Woodland Dr.\, Macon\, GA\, 31211\, United States
ATTACH;FMTTYPE=image/webp:https://thehohm.org/wp-content/uploads/2026/02/Prayer.webp
END:VEVENT
BEGIN:VEVENT
DTSTART;TZID=UTC:20281128T190000
DTEND;TZID=UTC:20281128T200000
DTSTAMP:20260422T083205
CREATED:20260306T010456Z
LAST-MODIFIED:20260306T014407Z
UID:10001655-1859050800-1859054400@thehohm.org
SUMMARY:Lessons for Life Bible Study
DESCRIPTION:
URL:https://thehohm.org/event_all/lessons-for-life-bible-study-2/2028-11-28/
LOCATION:The House of Hope Macon Church\, 1909 Woodland Dr.\, Macon\, GA\, 31211\, United States
ATTACH;FMTTYPE=image/jpeg:https://thehohm.org/wp-content/uploads/2026/02/bible-study.jpg
END:VEVENT
BEGIN:VEVENT
DTSTART;TZID=UTC:20281128T190000
DTEND;TZID=UTC:20291127T200000
DTSTAMP:20260422T083205
CREATED:20260217T160347Z
LAST-MODIFIED:20260306T010444Z
UID:10000475-1859050800-1890504000@thehohm.org
SUMMARY:Lessons for Life Bible Study
DESCRIPTION:
URL:https://thehohm.org/event_all/lessons-for-life-bible-study/2028-11-28/
LOCATION:The House of Hope Macon Church\, 1909 Woodland Dr.\, Macon\, GA\, 31211\, United States
ATTACH;FMTTYPE=image/jpeg:https://thehohm.org/wp-content/uploads/2026/02/bible-study.jpg
END:VEVENT
BEGIN:VEVENT
DTSTART;TZID=UTC:20281129T070000
DTEND;TZID=UTC:20281129T080000
DTSTAMP:20260422T083205
CREATED:20260217T163644Z
LAST-MODIFIED:20260306T015107Z
UID:10001892-1859094000-1859097600@thehohm.org
SUMMARY:Prayer Call
DESCRIPTION:
URL:https://thehohm.org/event_all/prayer-call/2028-11-29/
LOCATION:The House of Hope Macon Church\, 1909 Woodland Dr.\, Macon\, GA\, 31211\, United States
ATTACH;FMTTYPE=image/webp:https://thehohm.org/wp-content/uploads/2026/02/Prayer.webp
END:VEVENT
BEGIN:VEVENT
DTSTART;TZID=UTC:20281203T100000
DTEND;TZID=UTC:20281203T120000
DTSTAMP:20260422T083205
CREATED:20260212T035455Z
LAST-MODIFIED:20260306T015732Z
UID:10002105-1859450400-1859457600@thehohm.org
SUMMARY:Communion Sunday
DESCRIPTION:
URL:https://thehohm.org/event_all/communion-sunday/2028-12-03/
LOCATION:GA
END:VEVENT
BEGIN:VEVENT
DTSTART;TZID=UTC:20281205T190000
DTEND;TZID=UTC:20281205T200000
DTSTAMP:20260422T083205
CREATED:20260306T010456Z
LAST-MODIFIED:20260306T014407Z
UID:10001656-1859655600-1859659200@thehohm.org
SUMMARY:Lessons for Life Bible Study
DESCRIPTION:
URL:https://thehohm.org/event_all/lessons-for-life-bible-study-2/2028-12-05/
LOCATION:The House of Hope Macon Church\, 1909 Woodland Dr.\, Macon\, GA\, 31211\, United States
ATTACH;FMTTYPE=image/jpeg:https://thehohm.org/wp-content/uploads/2026/02/bible-study.jpg
END:VEVENT
BEGIN:VEVENT
DTSTART;TZID=UTC:20281205T190000
DTEND;TZID=UTC:20291204T200000
DTSTAMP:20260422T083205
CREATED:20260217T160347Z
LAST-MODIFIED:20260306T010444Z
UID:10000476-1859655600-1891108800@thehohm.org
SUMMARY:Lessons for Life Bible Study
DESCRIPTION:
URL:https://thehohm.org/event_all/lessons-for-life-bible-study/2028-12-05/
LOCATION:The House of Hope Macon Church\, 1909 Woodland Dr.\, Macon\, GA\, 31211\, United States
ATTACH;FMTTYPE=image/jpeg:https://thehohm.org/wp-content/uploads/2026/02/bible-study.jpg
END:VEVENT
BEGIN:VEVENT
DTSTART;TZID=UTC:20281206T070000
DTEND;TZID=UTC:20281206T080000
DTSTAMP:20260422T083205
CREATED:20260217T163644Z
LAST-MODIFIED:20260306T015107Z
UID:10001893-1859698800-1859702400@thehohm.org
SUMMARY:Prayer Call
DESCRIPTION:
URL:https://thehohm.org/event_all/prayer-call/2028-12-06/
LOCATION:The House of Hope Macon Church\, 1909 Woodland Dr.\, Macon\, GA\, 31211\, United States
ATTACH;FMTTYPE=image/webp:https://thehohm.org/wp-content/uploads/2026/02/Prayer.webp
END:VEVENT
BEGIN:VEVENT
DTSTART;TZID=UTC:20281210T100000
DTEND;TZID=UTC:20281210T120000
DTSTAMP:20260422T083205
CREATED:20260212T041401Z
LAST-MODIFIED:20260306T015235Z
UID:10002045-1860055200-1860062400@thehohm.org
SUMMARY:Selfie Sunday
DESCRIPTION:
URL:https://thehohm.org/event_all/selfie-sunday/2028-12-10/
LOCATION:GA
END:VEVENT
BEGIN:VEVENT
DTSTART;TZID=UTC:20281212T190000
DTEND;TZID=UTC:20281212T200000
DTSTAMP:20260422T083205
CREATED:20260306T010456Z
LAST-MODIFIED:20260306T014407Z
UID:10001657-1860260400-1860264000@thehohm.org
SUMMARY:Lessons for Life Bible Study
DESCRIPTION:
URL:https://thehohm.org/event_all/lessons-for-life-bible-study-2/2028-12-12/
LOCATION:The House of Hope Macon Church\, 1909 Woodland Dr.\, Macon\, GA\, 31211\, United States
ATTACH;FMTTYPE=image/jpeg:https://thehohm.org/wp-content/uploads/2026/02/bible-study.jpg
END:VEVENT
END:VCALENDAR