BEGIN:VCALENDAR
VERSION:2.0
PRODID:-//House of Hope Macon - ECPv6.15.17//NONSGML v1.0//EN
CALSCALE:GREGORIAN
METHOD:PUBLISH
X-ORIGINAL-URL:https://thehohm.org
X-WR-CALDESC:Events for House of Hope Macon
REFRESH-INTERVAL;VALUE=DURATION:PT1H
X-Robots-Tag:noindex
X-PUBLISHED-TTL:PT1H
BEGIN:VTIMEZONE
TZID:UTC
BEGIN:STANDARD
TZOFFSETFROM:+0000
TZOFFSETTO:+0000
TZNAME:UTC
DTSTART:20270101T000000
END:STANDARD
END:VTIMEZONE
BEGIN:VEVENT
DTSTART;TZID=UTC:20281129T070000
DTEND;TZID=UTC:20281129T080000
DTSTAMP:20260422T094601
CREATED:20260217T163644Z
LAST-MODIFIED:20260306T015107Z
UID:10001892-1859094000-1859097600@thehohm.org
SUMMARY:Prayer Call
DESCRIPTION:
URL:https://thehohm.org/event_all/prayer-call/2028-11-29/
LOCATION:The House of Hope Macon Church\, 1909 Woodland Dr.\, Macon\, GA\, 31211\, United States
ATTACH;FMTTYPE=image/webp:https://thehohm.org/wp-content/uploads/2026/02/Prayer.webp
END:VEVENT
BEGIN:VEVENT
DTSTART;TZID=UTC:20281203T100000
DTEND;TZID=UTC:20281203T120000
DTSTAMP:20260422T094601
CREATED:20260212T035455Z
LAST-MODIFIED:20260306T015732Z
UID:10002105-1859450400-1859457600@thehohm.org
SUMMARY:Communion Sunday
DESCRIPTION:
URL:https://thehohm.org/event_all/communion-sunday/2028-12-03/
LOCATION:GA
END:VEVENT
BEGIN:VEVENT
DTSTART;TZID=UTC:20281205T190000
DTEND;TZID=UTC:20281205T200000
DTSTAMP:20260422T094601
CREATED:20260306T010456Z
LAST-MODIFIED:20260306T014407Z
UID:10001656-1859655600-1859659200@thehohm.org
SUMMARY:Lessons for Life Bible Study
DESCRIPTION:
URL:https://thehohm.org/event_all/lessons-for-life-bible-study-2/2028-12-05/
LOCATION:The House of Hope Macon Church\, 1909 Woodland Dr.\, Macon\, GA\, 31211\, United States
ATTACH;FMTTYPE=image/jpeg:https://thehohm.org/wp-content/uploads/2026/02/bible-study.jpg
END:VEVENT
BEGIN:VEVENT
DTSTART;TZID=UTC:20281205T190000
DTEND;TZID=UTC:20291204T200000
DTSTAMP:20260422T094601
CREATED:20260217T160347Z
LAST-MODIFIED:20260306T010444Z
UID:10000476-1859655600-1891108800@thehohm.org
SUMMARY:Lessons for Life Bible Study
DESCRIPTION:
URL:https://thehohm.org/event_all/lessons-for-life-bible-study/2028-12-05/
LOCATION:The House of Hope Macon Church\, 1909 Woodland Dr.\, Macon\, GA\, 31211\, United States
ATTACH;FMTTYPE=image/jpeg:https://thehohm.org/wp-content/uploads/2026/02/bible-study.jpg
END:VEVENT
BEGIN:VEVENT
DTSTART;TZID=UTC:20281206T070000
DTEND;TZID=UTC:20281206T080000
DTSTAMP:20260422T094601
CREATED:20260217T163644Z
LAST-MODIFIED:20260306T015107Z
UID:10001893-1859698800-1859702400@thehohm.org
SUMMARY:Prayer Call
DESCRIPTION:
URL:https://thehohm.org/event_all/prayer-call/2028-12-06/
LOCATION:The House of Hope Macon Church\, 1909 Woodland Dr.\, Macon\, GA\, 31211\, United States
ATTACH;FMTTYPE=image/webp:https://thehohm.org/wp-content/uploads/2026/02/Prayer.webp
END:VEVENT
BEGIN:VEVENT
DTSTART;TZID=UTC:20281210T100000
DTEND;TZID=UTC:20281210T120000
DTSTAMP:20260422T094601
CREATED:20260212T041401Z
LAST-MODIFIED:20260306T015235Z
UID:10002045-1860055200-1860062400@thehohm.org
SUMMARY:Selfie Sunday
DESCRIPTION:
URL:https://thehohm.org/event_all/selfie-sunday/2028-12-10/
LOCATION:GA
END:VEVENT
BEGIN:VEVENT
DTSTART;TZID=UTC:20281212T190000
DTEND;TZID=UTC:20281212T200000
DTSTAMP:20260422T094601
CREATED:20260306T010456Z
LAST-MODIFIED:20260306T014407Z
UID:10001657-1860260400-1860264000@thehohm.org
SUMMARY:Lessons for Life Bible Study
DESCRIPTION:
URL:https://thehohm.org/event_all/lessons-for-life-bible-study-2/2028-12-12/
LOCATION:The House of Hope Macon Church\, 1909 Woodland Dr.\, Macon\, GA\, 31211\, United States
ATTACH;FMTTYPE=image/jpeg:https://thehohm.org/wp-content/uploads/2026/02/bible-study.jpg
END:VEVENT
BEGIN:VEVENT
DTSTART;TZID=UTC:20281212T190000
DTEND;TZID=UTC:20291211T200000
DTSTAMP:20260422T094601
CREATED:20260217T160347Z
LAST-MODIFIED:20260306T010444Z
UID:10000477-1860260400-1891713600@thehohm.org
SUMMARY:Lessons for Life Bible Study
DESCRIPTION:
URL:https://thehohm.org/event_all/lessons-for-life-bible-study/2028-12-12/
LOCATION:The House of Hope Macon Church\, 1909 Woodland Dr.\, Macon\, GA\, 31211\, United States
ATTACH;FMTTYPE=image/jpeg:https://thehohm.org/wp-content/uploads/2026/02/bible-study.jpg
END:VEVENT
BEGIN:VEVENT
DTSTART;TZID=UTC:20281213T070000
DTEND;TZID=UTC:20281213T080000
DTSTAMP:20260422T094601
CREATED:20260217T163644Z
LAST-MODIFIED:20260306T015107Z
UID:10001894-1860303600-1860307200@thehohm.org
SUMMARY:Prayer Call
DESCRIPTION:
URL:https://thehohm.org/event_all/prayer-call/2028-12-13/
LOCATION:The House of Hope Macon Church\, 1909 Woodland Dr.\, Macon\, GA\, 31211\, United States
ATTACH;FMTTYPE=image/webp:https://thehohm.org/wp-content/uploads/2026/02/Prayer.webp
END:VEVENT
BEGIN:VEVENT
DTSTART;TZID=UTC:20281219T190000
DTEND;TZID=UTC:20281219T200000
DTSTAMP:20260422T094601
CREATED:20260217T163337Z
LAST-MODIFIED:20260306T014753Z
UID:10001441-1860865200-1860868800@thehohm.org
SUMMARY:Talk Back Tuesday
DESCRIPTION:
URL:https://thehohm.org/event_all/talk-back-tuesday/2028-12-19/
LOCATION:The House of Hope Macon Church\, 1909 Woodland Dr.\, Macon\, GA\, 31211\, United States
ATTACH;FMTTYPE=image/webp:https://thehohm.org/wp-content/uploads/2026/02/talk-back.webp
END:VEVENT
BEGIN:VEVENT
DTSTART;TZID=UTC:20281219T190000
DTEND;TZID=UTC:20291218T200000
DTSTAMP:20260422T094601
CREATED:20260217T160347Z
LAST-MODIFIED:20260306T010444Z
UID:10000478-1860865200-1892318400@thehohm.org
SUMMARY:Lessons for Life Bible Study
DESCRIPTION:
URL:https://thehohm.org/event_all/lessons-for-life-bible-study/2028-12-19/
LOCATION:The House of Hope Macon Church\, 1909 Woodland Dr.\, Macon\, GA\, 31211\, United States
ATTACH;FMTTYPE=image/jpeg:https://thehohm.org/wp-content/uploads/2026/02/bible-study.jpg
END:VEVENT
BEGIN:VEVENT
DTSTART;TZID=UTC:20281220T070000
DTEND;TZID=UTC:20281220T080000
DTSTAMP:20260422T094601
CREATED:20260217T163644Z
LAST-MODIFIED:20260306T015107Z
UID:10001895-1860908400-1860912000@thehohm.org
SUMMARY:Prayer Call
DESCRIPTION:
URL:https://thehohm.org/event_all/prayer-call/2028-12-20/
LOCATION:The House of Hope Macon Church\, 1909 Woodland Dr.\, Macon\, GA\, 31211\, United States
ATTACH;FMTTYPE=image/webp:https://thehohm.org/wp-content/uploads/2026/02/Prayer.webp
END:VEVENT
BEGIN:VEVENT
DTSTART;TZID=UTC:20281226T190000
DTEND;TZID=UTC:20281226T200000
DTSTAMP:20260422T094601
CREATED:20260306T010456Z
LAST-MODIFIED:20260306T014407Z
UID:10001658-1861470000-1861473600@thehohm.org
SUMMARY:Lessons for Life Bible Study
DESCRIPTION:
URL:https://thehohm.org/event_all/lessons-for-life-bible-study-2/2028-12-26/
LOCATION:The House of Hope Macon Church\, 1909 Woodland Dr.\, Macon\, GA\, 31211\, United States
ATTACH;FMTTYPE=image/jpeg:https://thehohm.org/wp-content/uploads/2026/02/bible-study.jpg
END:VEVENT
BEGIN:VEVENT
DTSTART;TZID=UTC:20281226T190000
DTEND;TZID=UTC:20291225T200000
DTSTAMP:20260422T094601
CREATED:20260217T160347Z
LAST-MODIFIED:20260306T010444Z
UID:10000479-1861470000-1892923200@thehohm.org
SUMMARY:Lessons for Life Bible Study
DESCRIPTION:
URL:https://thehohm.org/event_all/lessons-for-life-bible-study/2028-12-26/
LOCATION:The House of Hope Macon Church\, 1909 Woodland Dr.\, Macon\, GA\, 31211\, United States
ATTACH;FMTTYPE=image/jpeg:https://thehohm.org/wp-content/uploads/2026/02/bible-study.jpg
END:VEVENT
BEGIN:VEVENT
DTSTART;TZID=UTC:20281227T070000
DTEND;TZID=UTC:20281227T080000
DTSTAMP:20260422T094601
CREATED:20260217T163644Z
LAST-MODIFIED:20260306T015107Z
UID:10001896-1861513200-1861516800@thehohm.org
SUMMARY:Prayer Call
DESCRIPTION:
URL:https://thehohm.org/event_all/prayer-call/2028-12-27/
LOCATION:The House of Hope Macon Church\, 1909 Woodland Dr.\, Macon\, GA\, 31211\, United States
ATTACH;FMTTYPE=image/webp:https://thehohm.org/wp-content/uploads/2026/02/Prayer.webp
END:VEVENT
BEGIN:VEVENT
DTSTART;TZID=UTC:20290102T190000
DTEND;TZID=UTC:20290102T200000
DTSTAMP:20260422T094601
CREATED:20260306T010456Z
LAST-MODIFIED:20260306T014407Z
UID:10001659-1862074800-1862078400@thehohm.org
SUMMARY:Lessons for Life Bible Study
DESCRIPTION:
URL:https://thehohm.org/event_all/lessons-for-life-bible-study-2/2029-01-02/
LOCATION:The House of Hope Macon Church\, 1909 Woodland Dr.\, Macon\, GA\, 31211\, United States
ATTACH;FMTTYPE=image/jpeg:https://thehohm.org/wp-content/uploads/2026/02/bible-study.jpg
END:VEVENT
BEGIN:VEVENT
DTSTART;TZID=UTC:20290102T190000
DTEND;TZID=UTC:20300101T200000
DTSTAMP:20260422T094601
CREATED:20260217T160347Z
LAST-MODIFIED:20260306T010444Z
UID:10000480-1862074800-1893528000@thehohm.org
SUMMARY:Lessons for Life Bible Study
DESCRIPTION:
URL:https://thehohm.org/event_all/lessons-for-life-bible-study/2029-01-02/
LOCATION:The House of Hope Macon Church\, 1909 Woodland Dr.\, Macon\, GA\, 31211\, United States
ATTACH;FMTTYPE=image/jpeg:https://thehohm.org/wp-content/uploads/2026/02/bible-study.jpg
END:VEVENT
BEGIN:VEVENT
DTSTART;TZID=UTC:20290103T070000
DTEND;TZID=UTC:20290103T080000
DTSTAMP:20260422T094601
CREATED:20260217T163644Z
LAST-MODIFIED:20260306T015107Z
UID:10001897-1862118000-1862121600@thehohm.org
SUMMARY:Prayer Call
DESCRIPTION:
URL:https://thehohm.org/event_all/prayer-call/2029-01-03/
LOCATION:The House of Hope Macon Church\, 1909 Woodland Dr.\, Macon\, GA\, 31211\, United States
ATTACH;FMTTYPE=image/webp:https://thehohm.org/wp-content/uploads/2026/02/Prayer.webp
END:VEVENT
BEGIN:VEVENT
DTSTART;TZID=UTC:20290107T100000
DTEND;TZID=UTC:20290107T120000
DTSTAMP:20260422T094601
CREATED:20260212T035455Z
LAST-MODIFIED:20260306T015732Z
UID:10002106-1862474400-1862481600@thehohm.org
SUMMARY:Communion Sunday
DESCRIPTION:
URL:https://thehohm.org/event_all/communion-sunday/2029-01-07/
LOCATION:GA
END:VEVENT
BEGIN:VEVENT
DTSTART;TZID=UTC:20290109T190000
DTEND;TZID=UTC:20290109T200000
DTSTAMP:20260422T094601
CREATED:20260306T010456Z
LAST-MODIFIED:20260306T014407Z
UID:10001660-1862679600-1862683200@thehohm.org
SUMMARY:Lessons for Life Bible Study
DESCRIPTION:
URL:https://thehohm.org/event_all/lessons-for-life-bible-study-2/2029-01-09/
LOCATION:The House of Hope Macon Church\, 1909 Woodland Dr.\, Macon\, GA\, 31211\, United States
ATTACH;FMTTYPE=image/jpeg:https://thehohm.org/wp-content/uploads/2026/02/bible-study.jpg
END:VEVENT
BEGIN:VEVENT
DTSTART;TZID=UTC:20290109T190000
DTEND;TZID=UTC:20300108T200000
DTSTAMP:20260422T094601
CREATED:20260217T160347Z
LAST-MODIFIED:20260306T010444Z
UID:10000481-1862679600-1894132800@thehohm.org
SUMMARY:Lessons for Life Bible Study
DESCRIPTION:
URL:https://thehohm.org/event_all/lessons-for-life-bible-study/2029-01-09/
LOCATION:The House of Hope Macon Church\, 1909 Woodland Dr.\, Macon\, GA\, 31211\, United States
ATTACH;FMTTYPE=image/jpeg:https://thehohm.org/wp-content/uploads/2026/02/bible-study.jpg
END:VEVENT
BEGIN:VEVENT
DTSTART;TZID=UTC:20290110T070000
DTEND;TZID=UTC:20290110T080000
DTSTAMP:20260422T094601
CREATED:20260217T163644Z
LAST-MODIFIED:20260306T015107Z
UID:10001898-1862722800-1862726400@thehohm.org
SUMMARY:Prayer Call
DESCRIPTION:
URL:https://thehohm.org/event_all/prayer-call/2029-01-10/
LOCATION:The House of Hope Macon Church\, 1909 Woodland Dr.\, Macon\, GA\, 31211\, United States
ATTACH;FMTTYPE=image/webp:https://thehohm.org/wp-content/uploads/2026/02/Prayer.webp
END:VEVENT
BEGIN:VEVENT
DTSTART;TZID=UTC:20290114T100000
DTEND;TZID=UTC:20290114T120000
DTSTAMP:20260422T094601
CREATED:20260212T041401Z
LAST-MODIFIED:20260306T015235Z
UID:10002046-1863079200-1863086400@thehohm.org
SUMMARY:Selfie Sunday
DESCRIPTION:
URL:https://thehohm.org/event_all/selfie-sunday/2029-01-14/
LOCATION:GA
END:VEVENT
BEGIN:VEVENT
DTSTART;TZID=UTC:20290116T190000
DTEND;TZID=UTC:20290116T200000
DTSTAMP:20260422T094601
CREATED:20260217T163337Z
LAST-MODIFIED:20260306T014753Z
UID:10001442-1863284400-1863288000@thehohm.org
SUMMARY:Talk Back Tuesday
DESCRIPTION:
URL:https://thehohm.org/event_all/talk-back-tuesday/2029-01-16/
LOCATION:The House of Hope Macon Church\, 1909 Woodland Dr.\, Macon\, GA\, 31211\, United States
ATTACH;FMTTYPE=image/webp:https://thehohm.org/wp-content/uploads/2026/02/talk-back.webp
END:VEVENT
BEGIN:VEVENT
DTSTART;TZID=UTC:20290116T190000
DTEND;TZID=UTC:20300115T200000
DTSTAMP:20260422T094601
CREATED:20260217T160347Z
LAST-MODIFIED:20260306T010444Z
UID:10000482-1863284400-1894737600@thehohm.org
SUMMARY:Lessons for Life Bible Study
DESCRIPTION:
URL:https://thehohm.org/event_all/lessons-for-life-bible-study/2029-01-16/
LOCATION:The House of Hope Macon Church\, 1909 Woodland Dr.\, Macon\, GA\, 31211\, United States
ATTACH;FMTTYPE=image/jpeg:https://thehohm.org/wp-content/uploads/2026/02/bible-study.jpg
END:VEVENT
BEGIN:VEVENT
DTSTART;TZID=UTC:20290117T070000
DTEND;TZID=UTC:20290117T080000
DTSTAMP:20260422T094601
CREATED:20260217T163644Z
LAST-MODIFIED:20260306T015107Z
UID:10001899-1863327600-1863331200@thehohm.org
SUMMARY:Prayer Call
DESCRIPTION:
URL:https://thehohm.org/event_all/prayer-call/2029-01-17/
LOCATION:The House of Hope Macon Church\, 1909 Woodland Dr.\, Macon\, GA\, 31211\, United States
ATTACH;FMTTYPE=image/webp:https://thehohm.org/wp-content/uploads/2026/02/Prayer.webp
END:VEVENT
BEGIN:VEVENT
DTSTART;TZID=UTC:20290123T190000
DTEND;TZID=UTC:20290123T200000
DTSTAMP:20260422T094601
CREATED:20260306T010456Z
LAST-MODIFIED:20260306T014407Z
UID:10001661-1863889200-1863892800@thehohm.org
SUMMARY:Lessons for Life Bible Study
DESCRIPTION:
URL:https://thehohm.org/event_all/lessons-for-life-bible-study-2/2029-01-23/
LOCATION:The House of Hope Macon Church\, 1909 Woodland Dr.\, Macon\, GA\, 31211\, United States
ATTACH;FMTTYPE=image/jpeg:https://thehohm.org/wp-content/uploads/2026/02/bible-study.jpg
END:VEVENT
BEGIN:VEVENT
DTSTART;TZID=UTC:20290123T190000
DTEND;TZID=UTC:20300122T200000
DTSTAMP:20260422T094601
CREATED:20260217T160347Z
LAST-MODIFIED:20260306T010444Z
UID:10000483-1863889200-1895342400@thehohm.org
SUMMARY:Lessons for Life Bible Study
DESCRIPTION:
URL:https://thehohm.org/event_all/lessons-for-life-bible-study/2029-01-23/
LOCATION:The House of Hope Macon Church\, 1909 Woodland Dr.\, Macon\, GA\, 31211\, United States
ATTACH;FMTTYPE=image/jpeg:https://thehohm.org/wp-content/uploads/2026/02/bible-study.jpg
END:VEVENT
BEGIN:VEVENT
DTSTART;TZID=UTC:20290124T070000
DTEND;TZID=UTC:20290124T080000
DTSTAMP:20260422T094601
CREATED:20260217T163644Z
LAST-MODIFIED:20260306T015107Z
UID:10001900-1863932400-1863936000@thehohm.org
SUMMARY:Prayer Call
DESCRIPTION:
URL:https://thehohm.org/event_all/prayer-call/2029-01-24/
LOCATION:The House of Hope Macon Church\, 1909 Woodland Dr.\, Macon\, GA\, 31211\, United States
ATTACH;FMTTYPE=image/webp:https://thehohm.org/wp-content/uploads/2026/02/Prayer.webp
END:VEVENT
BEGIN:VEVENT
DTSTART;TZID=UTC:20290130T190000
DTEND;TZID=UTC:20290130T200000
DTSTAMP:20260422T094601
CREATED:20260306T010456Z
LAST-MODIFIED:20260306T014407Z
UID:10001662-1864494000-1864497600@thehohm.org
SUMMARY:Lessons for Life Bible Study
DESCRIPTION:
URL:https://thehohm.org/event_all/lessons-for-life-bible-study-2/2029-01-30/
LOCATION:The House of Hope Macon Church\, 1909 Woodland Dr.\, Macon\, GA\, 31211\, United States
ATTACH;FMTTYPE=image/jpeg:https://thehohm.org/wp-content/uploads/2026/02/bible-study.jpg
END:VEVENT
END:VCALENDAR