BEGIN:VCALENDAR
VERSION:2.0
PRODID:-//House of Hope Macon - ECPv6.15.17//NONSGML v1.0//EN
CALSCALE:GREGORIAN
METHOD:PUBLISH
X-ORIGINAL-URL:https://thehohm.org
X-WR-CALDESC:Events for House of Hope Macon
REFRESH-INTERVAL;VALUE=DURATION:PT1H
X-Robots-Tag:noindex
X-PUBLISHED-TTL:PT1H
BEGIN:VTIMEZONE
TZID:UTC
BEGIN:STANDARD
TZOFFSETFROM:+0000
TZOFFSETTO:+0000
TZNAME:UTC
DTSTART:20270101T000000
END:STANDARD
END:VTIMEZONE
BEGIN:VEVENT
DTSTART;TZID=UTC:20280620T190000
DTEND;TZID=UTC:20290619T200000
DTSTAMP:20260421T195923
CREATED:20260217T160347Z
LAST-MODIFIED:20260306T010444Z
UID:10000452-1845140400-1876593600@thehohm.org
SUMMARY:Lessons for Life Bible Study
DESCRIPTION:
URL:https://thehohm.org/event_all/lessons-for-life-bible-study/2028-06-20/
LOCATION:The House of Hope Macon Church\, 1909 Woodland Dr.\, Macon\, GA\, 31211\, United States
ATTACH;FMTTYPE=image/jpeg:https://thehohm.org/wp-content/uploads/2026/02/bible-study.jpg
END:VEVENT
BEGIN:VEVENT
DTSTART;TZID=UTC:20280621T070000
DTEND;TZID=UTC:20280621T080000
DTSTAMP:20260421T195923
CREATED:20260217T163644Z
LAST-MODIFIED:20260306T015107Z
UID:10001869-1845183600-1845187200@thehohm.org
SUMMARY:Prayer Call
DESCRIPTION:
URL:https://thehohm.org/event_all/prayer-call/2028-06-21/
LOCATION:The House of Hope Macon Church\, 1909 Woodland Dr.\, Macon\, GA\, 31211\, United States
ATTACH;FMTTYPE=image/webp:https://thehohm.org/wp-content/uploads/2026/02/Prayer.webp
END:VEVENT
BEGIN:VEVENT
DTSTART;TZID=UTC:20280627T190000
DTEND;TZID=UTC:20280627T200000
DTSTAMP:20260421T195923
CREATED:20260306T010456Z
LAST-MODIFIED:20260306T014407Z
UID:10001638-1845745200-1845748800@thehohm.org
SUMMARY:Lessons for Life Bible Study
DESCRIPTION:
URL:https://thehohm.org/event_all/lessons-for-life-bible-study-2/2028-06-27/
LOCATION:The House of Hope Macon Church\, 1909 Woodland Dr.\, Macon\, GA\, 31211\, United States
ATTACH;FMTTYPE=image/jpeg:https://thehohm.org/wp-content/uploads/2026/02/bible-study.jpg
END:VEVENT
BEGIN:VEVENT
DTSTART;TZID=UTC:20280627T190000
DTEND;TZID=UTC:20290626T200000
DTSTAMP:20260421T195923
CREATED:20260217T160347Z
LAST-MODIFIED:20260306T010444Z
UID:10000453-1845745200-1877198400@thehohm.org
SUMMARY:Lessons for Life Bible Study
DESCRIPTION:
URL:https://thehohm.org/event_all/lessons-for-life-bible-study/2028-06-27/
LOCATION:The House of Hope Macon Church\, 1909 Woodland Dr.\, Macon\, GA\, 31211\, United States
ATTACH;FMTTYPE=image/jpeg:https://thehohm.org/wp-content/uploads/2026/02/bible-study.jpg
END:VEVENT
BEGIN:VEVENT
DTSTART;TZID=UTC:20280628T070000
DTEND;TZID=UTC:20280628T080000
DTSTAMP:20260421T195923
CREATED:20260217T163644Z
LAST-MODIFIED:20260306T015107Z
UID:10001870-1845788400-1845792000@thehohm.org
SUMMARY:Prayer Call
DESCRIPTION:
URL:https://thehohm.org/event_all/prayer-call/2028-06-28/
LOCATION:The House of Hope Macon Church\, 1909 Woodland Dr.\, Macon\, GA\, 31211\, United States
ATTACH;FMTTYPE=image/webp:https://thehohm.org/wp-content/uploads/2026/02/Prayer.webp
END:VEVENT
BEGIN:VEVENT
DTSTART;TZID=UTC:20280702T100000
DTEND;TZID=UTC:20280702T120000
DTSTAMP:20260421T195923
CREATED:20260212T035455Z
LAST-MODIFIED:20260306T015732Z
UID:10002100-1846144800-1846152000@thehohm.org
SUMMARY:Communion Sunday
DESCRIPTION:
URL:https://thehohm.org/event_all/communion-sunday/2028-07-02/
LOCATION:GA
END:VEVENT
BEGIN:VEVENT
DTSTART;TZID=UTC:20280704T190000
DTEND;TZID=UTC:20280704T200000
DTSTAMP:20260421T195923
CREATED:20260306T010456Z
LAST-MODIFIED:20260306T014407Z
UID:10001639-1846350000-1846353600@thehohm.org
SUMMARY:Lessons for Life Bible Study
DESCRIPTION:
URL:https://thehohm.org/event_all/lessons-for-life-bible-study-2/2028-07-04/
LOCATION:The House of Hope Macon Church\, 1909 Woodland Dr.\, Macon\, GA\, 31211\, United States
ATTACH;FMTTYPE=image/jpeg:https://thehohm.org/wp-content/uploads/2026/02/bible-study.jpg
END:VEVENT
BEGIN:VEVENT
DTSTART;TZID=UTC:20280704T190000
DTEND;TZID=UTC:20290703T200000
DTSTAMP:20260421T195923
CREATED:20260217T160347Z
LAST-MODIFIED:20260306T010444Z
UID:10000454-1846350000-1877803200@thehohm.org
SUMMARY:Lessons for Life Bible Study
DESCRIPTION:
URL:https://thehohm.org/event_all/lessons-for-life-bible-study/2028-07-04/
LOCATION:The House of Hope Macon Church\, 1909 Woodland Dr.\, Macon\, GA\, 31211\, United States
ATTACH;FMTTYPE=image/jpeg:https://thehohm.org/wp-content/uploads/2026/02/bible-study.jpg
END:VEVENT
BEGIN:VEVENT
DTSTART;TZID=UTC:20280705T070000
DTEND;TZID=UTC:20280705T080000
DTSTAMP:20260421T195923
CREATED:20260217T163644Z
LAST-MODIFIED:20260306T015107Z
UID:10001871-1846393200-1846396800@thehohm.org
SUMMARY:Prayer Call
DESCRIPTION:
URL:https://thehohm.org/event_all/prayer-call/2028-07-05/
LOCATION:The House of Hope Macon Church\, 1909 Woodland Dr.\, Macon\, GA\, 31211\, United States
ATTACH;FMTTYPE=image/webp:https://thehohm.org/wp-content/uploads/2026/02/Prayer.webp
END:VEVENT
BEGIN:VEVENT
DTSTART;TZID=UTC:20280709T100000
DTEND;TZID=UTC:20280709T120000
DTSTAMP:20260421T195923
CREATED:20260212T041401Z
LAST-MODIFIED:20260306T015235Z
UID:10002040-1846749600-1846756800@thehohm.org
SUMMARY:Selfie Sunday
DESCRIPTION:
URL:https://thehohm.org/event_all/selfie-sunday/2028-07-09/
LOCATION:GA
END:VEVENT
BEGIN:VEVENT
DTSTART;TZID=UTC:20280711T190000
DTEND;TZID=UTC:20280711T200000
DTSTAMP:20260421T195923
CREATED:20260306T010456Z
LAST-MODIFIED:20260306T014407Z
UID:10001640-1846954800-1846958400@thehohm.org
SUMMARY:Lessons for Life Bible Study
DESCRIPTION:
URL:https://thehohm.org/event_all/lessons-for-life-bible-study-2/2028-07-11/
LOCATION:The House of Hope Macon Church\, 1909 Woodland Dr.\, Macon\, GA\, 31211\, United States
ATTACH;FMTTYPE=image/jpeg:https://thehohm.org/wp-content/uploads/2026/02/bible-study.jpg
END:VEVENT
BEGIN:VEVENT
DTSTART;TZID=UTC:20280711T190000
DTEND;TZID=UTC:20290710T200000
DTSTAMP:20260421T195923
CREATED:20260217T160347Z
LAST-MODIFIED:20260306T010444Z
UID:10000455-1846954800-1878408000@thehohm.org
SUMMARY:Lessons for Life Bible Study
DESCRIPTION:
URL:https://thehohm.org/event_all/lessons-for-life-bible-study/2028-07-11/
LOCATION:The House of Hope Macon Church\, 1909 Woodland Dr.\, Macon\, GA\, 31211\, United States
ATTACH;FMTTYPE=image/jpeg:https://thehohm.org/wp-content/uploads/2026/02/bible-study.jpg
END:VEVENT
BEGIN:VEVENT
DTSTART;TZID=UTC:20280712T070000
DTEND;TZID=UTC:20280712T080000
DTSTAMP:20260421T195923
CREATED:20260217T163644Z
LAST-MODIFIED:20260306T015107Z
UID:10001872-1846998000-1847001600@thehohm.org
SUMMARY:Prayer Call
DESCRIPTION:
URL:https://thehohm.org/event_all/prayer-call/2028-07-12/
LOCATION:The House of Hope Macon Church\, 1909 Woodland Dr.\, Macon\, GA\, 31211\, United States
ATTACH;FMTTYPE=image/webp:https://thehohm.org/wp-content/uploads/2026/02/Prayer.webp
END:VEVENT
BEGIN:VEVENT
DTSTART;TZID=UTC:20280718T190000
DTEND;TZID=UTC:20280718T200000
DTSTAMP:20260421T195923
CREATED:20260217T163337Z
LAST-MODIFIED:20260306T014753Z
UID:10000672-1847559600-1847563200@thehohm.org
SUMMARY:Talk Back Tuesday
DESCRIPTION:
URL:https://thehohm.org/event_all/talk-back-tuesday/2028-07-18/
LOCATION:The House of Hope Macon Church\, 1909 Woodland Dr.\, Macon\, GA\, 31211\, United States
ATTACH;FMTTYPE=image/webp:https://thehohm.org/wp-content/uploads/2026/02/talk-back.webp
END:VEVENT
BEGIN:VEVENT
DTSTART;TZID=UTC:20280718T190000
DTEND;TZID=UTC:20290717T200000
DTSTAMP:20260421T195923
CREATED:20260217T160347Z
LAST-MODIFIED:20260306T010444Z
UID:10000456-1847559600-1879012800@thehohm.org
SUMMARY:Lessons for Life Bible Study
DESCRIPTION:
URL:https://thehohm.org/event_all/lessons-for-life-bible-study/2028-07-18/
LOCATION:The House of Hope Macon Church\, 1909 Woodland Dr.\, Macon\, GA\, 31211\, United States
ATTACH;FMTTYPE=image/jpeg:https://thehohm.org/wp-content/uploads/2026/02/bible-study.jpg
END:VEVENT
BEGIN:VEVENT
DTSTART;TZID=UTC:20280719T070000
DTEND;TZID=UTC:20280719T080000
DTSTAMP:20260421T195923
CREATED:20260217T163644Z
LAST-MODIFIED:20260306T015107Z
UID:10001873-1847602800-1847606400@thehohm.org
SUMMARY:Prayer Call
DESCRIPTION:
URL:https://thehohm.org/event_all/prayer-call/2028-07-19/
LOCATION:The House of Hope Macon Church\, 1909 Woodland Dr.\, Macon\, GA\, 31211\, United States
ATTACH;FMTTYPE=image/webp:https://thehohm.org/wp-content/uploads/2026/02/Prayer.webp
END:VEVENT
BEGIN:VEVENT
DTSTART;TZID=UTC:20280725T190000
DTEND;TZID=UTC:20280725T200000
DTSTAMP:20260421T195923
CREATED:20260306T010456Z
LAST-MODIFIED:20260306T014407Z
UID:10001641-1848164400-1848168000@thehohm.org
SUMMARY:Lessons for Life Bible Study
DESCRIPTION:
URL:https://thehohm.org/event_all/lessons-for-life-bible-study-2/2028-07-25/
LOCATION:The House of Hope Macon Church\, 1909 Woodland Dr.\, Macon\, GA\, 31211\, United States
ATTACH;FMTTYPE=image/jpeg:https://thehohm.org/wp-content/uploads/2026/02/bible-study.jpg
END:VEVENT
BEGIN:VEVENT
DTSTART;TZID=UTC:20280725T190000
DTEND;TZID=UTC:20290724T200000
DTSTAMP:20260421T195923
CREATED:20260217T160347Z
LAST-MODIFIED:20260306T010444Z
UID:10000457-1848164400-1879617600@thehohm.org
SUMMARY:Lessons for Life Bible Study
DESCRIPTION:
URL:https://thehohm.org/event_all/lessons-for-life-bible-study/2028-07-25/
LOCATION:The House of Hope Macon Church\, 1909 Woodland Dr.\, Macon\, GA\, 31211\, United States
ATTACH;FMTTYPE=image/jpeg:https://thehohm.org/wp-content/uploads/2026/02/bible-study.jpg
END:VEVENT
BEGIN:VEVENT
DTSTART;TZID=UTC:20280726T070000
DTEND;TZID=UTC:20280726T080000
DTSTAMP:20260421T195923
CREATED:20260217T163644Z
LAST-MODIFIED:20260306T015107Z
UID:10001874-1848207600-1848211200@thehohm.org
SUMMARY:Prayer Call
DESCRIPTION:
URL:https://thehohm.org/event_all/prayer-call/2028-07-26/
LOCATION:The House of Hope Macon Church\, 1909 Woodland Dr.\, Macon\, GA\, 31211\, United States
ATTACH;FMTTYPE=image/webp:https://thehohm.org/wp-content/uploads/2026/02/Prayer.webp
END:VEVENT
BEGIN:VEVENT
DTSTART;TZID=UTC:20280801T190000
DTEND;TZID=UTC:20280801T200000
DTSTAMP:20260421T195923
CREATED:20260306T010456Z
LAST-MODIFIED:20260306T014407Z
UID:10001642-1848769200-1848772800@thehohm.org
SUMMARY:Lessons for Life Bible Study
DESCRIPTION:
URL:https://thehohm.org/event_all/lessons-for-life-bible-study-2/2028-08-01/
LOCATION:The House of Hope Macon Church\, 1909 Woodland Dr.\, Macon\, GA\, 31211\, United States
ATTACH;FMTTYPE=image/jpeg:https://thehohm.org/wp-content/uploads/2026/02/bible-study.jpg
END:VEVENT
BEGIN:VEVENT
DTSTART;TZID=UTC:20280801T190000
DTEND;TZID=UTC:20290731T200000
DTSTAMP:20260421T195923
CREATED:20260217T160347Z
LAST-MODIFIED:20260306T010444Z
UID:10000458-1848769200-1880222400@thehohm.org
SUMMARY:Lessons for Life Bible Study
DESCRIPTION:
URL:https://thehohm.org/event_all/lessons-for-life-bible-study/2028-08-01/
LOCATION:The House of Hope Macon Church\, 1909 Woodland Dr.\, Macon\, GA\, 31211\, United States
ATTACH;FMTTYPE=image/jpeg:https://thehohm.org/wp-content/uploads/2026/02/bible-study.jpg
END:VEVENT
BEGIN:VEVENT
DTSTART;TZID=UTC:20280802T070000
DTEND;TZID=UTC:20280802T080000
DTSTAMP:20260421T195923
CREATED:20260217T163644Z
LAST-MODIFIED:20260306T015107Z
UID:10001875-1848812400-1848816000@thehohm.org
SUMMARY:Prayer Call
DESCRIPTION:
URL:https://thehohm.org/event_all/prayer-call/2028-08-02/
LOCATION:The House of Hope Macon Church\, 1909 Woodland Dr.\, Macon\, GA\, 31211\, United States
ATTACH;FMTTYPE=image/webp:https://thehohm.org/wp-content/uploads/2026/02/Prayer.webp
END:VEVENT
BEGIN:VEVENT
DTSTART;TZID=UTC:20280806T100000
DTEND;TZID=UTC:20280806T120000
DTSTAMP:20260421T195923
CREATED:20260212T035455Z
LAST-MODIFIED:20260306T015732Z
UID:10002101-1849168800-1849176000@thehohm.org
SUMMARY:Communion Sunday
DESCRIPTION:
URL:https://thehohm.org/event_all/communion-sunday/2028-08-06/
LOCATION:GA
END:VEVENT
BEGIN:VEVENT
DTSTART;TZID=UTC:20280808T190000
DTEND;TZID=UTC:20280808T200000
DTSTAMP:20260421T195923
CREATED:20260306T010456Z
LAST-MODIFIED:20260306T014407Z
UID:10001643-1849374000-1849377600@thehohm.org
SUMMARY:Lessons for Life Bible Study
DESCRIPTION:
URL:https://thehohm.org/event_all/lessons-for-life-bible-study-2/2028-08-08/
LOCATION:The House of Hope Macon Church\, 1909 Woodland Dr.\, Macon\, GA\, 31211\, United States
ATTACH;FMTTYPE=image/jpeg:https://thehohm.org/wp-content/uploads/2026/02/bible-study.jpg
END:VEVENT
BEGIN:VEVENT
DTSTART;TZID=UTC:20280808T190000
DTEND;TZID=UTC:20290807T200000
DTSTAMP:20260421T195923
CREATED:20260217T160347Z
LAST-MODIFIED:20260306T010444Z
UID:10000459-1849374000-1880827200@thehohm.org
SUMMARY:Lessons for Life Bible Study
DESCRIPTION:
URL:https://thehohm.org/event_all/lessons-for-life-bible-study/2028-08-08/
LOCATION:The House of Hope Macon Church\, 1909 Woodland Dr.\, Macon\, GA\, 31211\, United States
ATTACH;FMTTYPE=image/jpeg:https://thehohm.org/wp-content/uploads/2026/02/bible-study.jpg
END:VEVENT
BEGIN:VEVENT
DTSTART;TZID=UTC:20280809T070000
DTEND;TZID=UTC:20280809T080000
DTSTAMP:20260421T195923
CREATED:20260217T163644Z
LAST-MODIFIED:20260306T015107Z
UID:10001876-1849417200-1849420800@thehohm.org
SUMMARY:Prayer Call
DESCRIPTION:
URL:https://thehohm.org/event_all/prayer-call/2028-08-09/
LOCATION:The House of Hope Macon Church\, 1909 Woodland Dr.\, Macon\, GA\, 31211\, United States
ATTACH;FMTTYPE=image/webp:https://thehohm.org/wp-content/uploads/2026/02/Prayer.webp
END:VEVENT
BEGIN:VEVENT
DTSTART;TZID=UTC:20280813T100000
DTEND;TZID=UTC:20280813T120000
DTSTAMP:20260421T195923
CREATED:20260212T041401Z
LAST-MODIFIED:20260306T015235Z
UID:10002041-1849773600-1849780800@thehohm.org
SUMMARY:Selfie Sunday
DESCRIPTION:
URL:https://thehohm.org/event_all/selfie-sunday/2028-08-13/
LOCATION:GA
END:VEVENT
BEGIN:VEVENT
DTSTART;TZID=UTC:20280815T190000
DTEND;TZID=UTC:20280815T200000
DTSTAMP:20260421T195923
CREATED:20260217T163337Z
LAST-MODIFIED:20260306T014753Z
UID:10001439-1849978800-1849982400@thehohm.org
SUMMARY:Talk Back Tuesday
DESCRIPTION:
URL:https://thehohm.org/event_all/talk-back-tuesday/2028-08-15/
LOCATION:The House of Hope Macon Church\, 1909 Woodland Dr.\, Macon\, GA\, 31211\, United States
ATTACH;FMTTYPE=image/webp:https://thehohm.org/wp-content/uploads/2026/02/talk-back.webp
END:VEVENT
BEGIN:VEVENT
DTSTART;TZID=UTC:20280815T190000
DTEND;TZID=UTC:20290814T200000
DTSTAMP:20260421T195923
CREATED:20260217T160347Z
LAST-MODIFIED:20260306T010444Z
UID:10000460-1849978800-1881432000@thehohm.org
SUMMARY:Lessons for Life Bible Study
DESCRIPTION:
URL:https://thehohm.org/event_all/lessons-for-life-bible-study/2028-08-15/
LOCATION:The House of Hope Macon Church\, 1909 Woodland Dr.\, Macon\, GA\, 31211\, United States
ATTACH;FMTTYPE=image/jpeg:https://thehohm.org/wp-content/uploads/2026/02/bible-study.jpg
END:VEVENT
BEGIN:VEVENT
DTSTART;TZID=UTC:20280816T070000
DTEND;TZID=UTC:20280816T080000
DTSTAMP:20260421T195923
CREATED:20260217T163644Z
LAST-MODIFIED:20260306T015107Z
UID:10001877-1850022000-1850025600@thehohm.org
SUMMARY:Prayer Call
DESCRIPTION:
URL:https://thehohm.org/event_all/prayer-call/2028-08-16/
LOCATION:The House of Hope Macon Church\, 1909 Woodland Dr.\, Macon\, GA\, 31211\, United States
ATTACH;FMTTYPE=image/webp:https://thehohm.org/wp-content/uploads/2026/02/Prayer.webp
END:VEVENT
END:VCALENDAR